BEGIN:VCALENDAR
VERSION:2.0
PRODID:-//Spotsylvania County Democratic Committee - ECPv6.15.20//NONSGML v1.0//EN
CALSCALE:GREGORIAN
METHOD:PUBLISH
X-WR-CALNAME:Spotsylvania County Democratic Committee
X-ORIGINAL-URL:https://spotsydems.com
X-WR-CALDESC:Events for Spotsylvania County Democratic Committee
REFRESH-INTERVAL;VALUE=DURATION:PT1H
X-Robots-Tag:noindex
X-PUBLISHED-TTL:PT1H
BEGIN:VTIMEZONE
TZID:America/New_York
BEGIN:DAYLIGHT
TZOFFSETFROM:-0500
TZOFFSETTO:-0400
TZNAME:EDT
DTSTART:20240310T070000
END:DAYLIGHT
BEGIN:STANDARD
TZOFFSETFROM:-0400
TZOFFSETTO:-0500
TZNAME:EST
DTSTART:20241103T060000
END:STANDARD
BEGIN:DAYLIGHT
TZOFFSETFROM:-0500
TZOFFSETTO:-0400
TZNAME:EDT
DTSTART:20250309T070000
END:DAYLIGHT
BEGIN:STANDARD
TZOFFSETFROM:-0400
TZOFFSETTO:-0500
TZNAME:EST
DTSTART:20251102T060000
END:STANDARD
BEGIN:DAYLIGHT
TZOFFSETFROM:-0500
TZOFFSETTO:-0400
TZNAME:EDT
DTSTART:20260308T070000
END:DAYLIGHT
BEGIN:STANDARD
TZOFFSETFROM:-0400
TZOFFSETTO:-0500
TZNAME:EST
DTSTART:20261101T060000
END:STANDARD
END:VTIMEZONE
BEGIN:VEVENT
DTSTART;TZID=America/New_York:20250601T120000
DTEND;TZID=America/New_York:20250601T160000
DTSTAMP:20260421T003858
CREATED:20250526T183724Z
LAST-MODIFIED:20250526T183724Z
UID:1265-1748779200-1748793600@spotsydems.com
SUMMARY:Canvassing in Caroline - Nicole Cole
DESCRIPTION:Canvassing in Caroline (in case anyone would like to join their Caroline Dem Committee friends!)\, \nTwo shifts available: 12:00 – 200 and 2:00 – 4:00:\nSign up here:\nhttps://www.mobilize.us/nicolecolefordelegate/event/792877/
URL:https://spotsydems.com/event/canvassing-in-caroline-nicole-cole/
END:VEVENT
BEGIN:VEVENT
DTSTART;TZID=America/New_York:20250531T100000
DTEND;TZID=America/New_York:20250531T140000
DTSTAMP:20260421T003858
CREATED:20250526T183506Z
LAST-MODIFIED:20250526T183506Z
UID:1263-1748685600-1748700000@spotsydems.com
SUMMARY:Canvassing in Spotsy - Nicole Cole
DESCRIPTION:Sign up here: Two shifts available.\nhttps://www.mobilize.us/nicolecolefordelegate/event/792854/
URL:https://spotsydems.com/event/canvassing-in-spotsy-nicole-cole/
END:VEVENT
BEGIN:VEVENT
DTSTART;TZID=America/New_York:20250531T100000
DTEND;TZID=America/New_York:20250531T100000
DTSTAMP:20260421T003858
CREATED:20250521T131636Z
LAST-MODIFIED:20250521T131636Z
UID:1205-1748685600-1748685600@spotsydems.com
SUMMARY:Canvassing for Spanberger
DESCRIPTION:Join us to knock doors for Abigail Spanberger! We will train you to have high-quality engagement conversations with voters to spread our message. \nWe look forward to spreading the word about Abigail with you. Bring a friend! \n\n\nSign up to access the address.\n\nSIGN UP HERE
URL:https://spotsydems.com/event/canvassing-for-spanberger-4/
END:VEVENT
BEGIN:VEVENT
DTSTART;TZID=America/New_York:20250531T090000
DTEND;TZID=America/New_York:20250531T140000
DTSTAMP:20260421T003858
CREATED:20250529T134955Z
LAST-MODIFIED:20250529T134955Z
UID:1291-1748682000-1748700000@spotsydems.com
SUMMARY:MEET Nilofer Garza
DESCRIPTION:-ZION UMC Second Annual Car Show \nGET MORE INFO HERE \n 
URL:https://spotsydems.com/event/meet-nilofer-garza/
END:VEVENT
BEGIN:VEVENT
DTSTART;TZID=America/New_York:20250529T190000
DTEND;TZID=America/New_York:20250529T200000
DTSTAMP:20260421T003858
CREATED:20250529T133257Z
LAST-MODIFIED:20250529T133257Z
UID:1283-1748545200-1748548800@spotsydems.com
SUMMARY:CD 7 Meeting
DESCRIPTION:JOIN HERE \n 
URL:https://spotsydems.com/event/cd-7-meeting/
LOCATION:ZOOM
END:VEVENT
BEGIN:VEVENT
DTSTART;TZID=America/New_York:20250529T153000
DTEND;TZID=America/New_York:20250529T170000
DTSTAMP:20260421T003858
CREATED:20250521T152750Z
LAST-MODIFIED:20250521T152750Z
UID:1232-1748532600-1748538000@spotsydems.com
SUMMARY:Text Bank for Spanberger
DESCRIPTION:Snow Branch Library Meeting Room 2\n8740 Courthouse Rd\nSpotsylvania Courthouse\, VA\n\n\nSIGN UP HERE
URL:https://spotsydems.com/event/text-bank-for-spanberger/
END:VEVENT
BEGIN:VEVENT
DTSTART;TZID=America/New_York:20250528T190000
DTEND;TZID=America/New_York:20250528T200000
DTSTAMP:20260421T003858
CREATED:20250526T183234Z
LAST-MODIFIED:20250526T183234Z
UID:1261-1748458800-1748462400@spotsydems.com
SUMMARY:Virtual Volunteer and Canvassing Training - Nicole Cole
DESCRIPTION:Sign Up here.\n\nhttps://www.mobilize.us/nicolecolefordelegate/event/794692/
URL:https://spotsydems.com/event/virtual-volunteer-and-canvassing-training-nicole-cole/
END:VEVENT
BEGIN:VEVENT
DTSTART;TZID=America/New_York:20250527T170000
DTEND;TZID=America/New_York:20250527T210000
DTSTAMP:20260421T003858
CREATED:20250422T130631Z
LAST-MODIFIED:20250422T130631Z
UID:1085-1748365200-1748379600@spotsydems.com
SUMMARY:Spotsylvania Board of Supervisors Meeting
DESCRIPTION:Holbert Building at 9104 Courthouse Road\, Spotsylvania\, Virginia. \nMeeting Agenda Link \nMeeting Agendas \nNOTE: Occasionally schedules change. Please check the link above to confirm meeting details.
URL:https://spotsydems.com/event/spotsylvania-board-of-supervisors-meeting-10/
END:VEVENT
BEGIN:VEVENT
DTSTART;TZID=America/New_York:20250525T130000
DTEND;TZID=America/New_York:20250525T130000
DTSTAMP:20260421T003858
CREATED:20250521T131215Z
LAST-MODIFIED:20250521T131215Z
UID:1202-1748178000-1748178000@spotsydems.com
SUMMARY:Canvassing for Spanberger
DESCRIPTION:Join us to knock doors for Abigail Spanberger! \nWe will train you to have high-quality engagement conversations with voters to spread our message. \nWe look forward to spreading the word about Abigail with you. Bring a friend! \nSign up to access the address. \nSIGN UP HERE \n 
URL:https://spotsydems.com/event/canvassing-for-spanberger-3/
CATEGORIES:Canvassing
END:VEVENT
BEGIN:VEVENT
DTSTART;TZID=America/New_York:20250524T100000
DTEND;TZID=America/New_York:20250524T100000
DTSTAMP:20260421T003858
CREATED:20250521T130927Z
LAST-MODIFIED:20250521T131514Z
UID:1200-1748080800-1748080800@spotsydems.com
SUMMARY:Canvassing for Spanberger
DESCRIPTION:Join us to knock doors for Abigail Spanberger! We will train you to have high-quality engagement conversations with voters to spread our message. \nWe look forward to spreading the word about Abigail with you. Bring a friend! \n\n\nSign up to access the address.\n\nSIGN UP HERE
URL:https://spotsydems.com/event/canvassing-for-spanberger-2/
CATEGORIES:Canvassing
END:VEVENT
BEGIN:VEVENT
DTSTART;TZID=America/New_York:20250522T153000
DTEND;TZID=America/New_York:20250522T170000
DTSTAMP:20260421T003858
CREATED:20250521T152512Z
LAST-MODIFIED:20250521T152512Z
UID:1230-1747927800-1747933200@spotsydems.com
SUMMARY:Phone Bank for Spanberger
DESCRIPTION:Snow Branch Library Meeting Room 2\n8740 Courthouse Rd\nSpotsylvania Courthouse\, VA\n\nSIGN UP HERE \n\n\n 
URL:https://spotsydems.com/event/phone-bank-for-spanberger/
END:VEVENT
BEGIN:VEVENT
DTSTART;TZID=America/New_York:20250519T173000
DTEND;TZID=America/New_York:20250519T210000
DTSTAMP:20260421T003858
CREATED:20250416T230618Z
LAST-MODIFIED:20250422T132938Z
UID:1065-1747675800-1747688400@spotsydems.com
SUMMARY:Spotsylvania School Board Meeting - Work Session
DESCRIPTION:No public comments. \nBoard Meeting Room of the Administrative Services Building\, 8020 River Stone Drive\, Fredericksburg\, Virginia. \nMeeting Docs \nMeeting Schedule \n 
URL:https://spotsydems.com/event/spotsylvania-school-board-meeting-work-session/
END:VEVENT
BEGIN:VEVENT
DTSTART;TZID=America/New_York:20250519T170000
DTEND;TZID=America/New_York:20250519T200000
DTSTAMP:20260421T003858
CREATED:20250226T143558Z
LAST-MODIFIED:20260308T133048Z
UID:793-1747674000-1747684800@spotsydems.com
SUMMARY:SCDC General Meeting
DESCRIPTION:Social and refreshments 5:30-6:00 \nGeneral meeting starts at 6:00
URL:https://spotsydems.com/event/scdc-general-meeting-3/
LOCATION:Salem Church Library\, 2607 Salem Church Road\,\, FREDERICKSBURG\, VA\, 22407
CATEGORIES:General Meeting
END:VEVENT
BEGIN:VEVENT
DTSTART;TZID=America/New_York:20250518T130000
DTEND;TZID=America/New_York:20250518T160000
DTSTAMP:20260421T003858
CREATED:20250508T160009Z
LAST-MODIFIED:20250508T160009Z
UID:1153-1747573200-1747584000@spotsydems.com
SUMMARY:Canvassing for Abigail
DESCRIPTION:Join us to knock on doors for Abigail Spanberger! \nOur team will train you and prepare you to have face-to-face conversations with voters! \nLink here
URL:https://spotsydems.com/event/canvassing-for-abigail-4/
END:VEVENT
BEGIN:VEVENT
DTSTART;TZID=America/New_York:20250517T140000
DTEND;TZID=America/New_York:20250517T170000
DTSTAMP:20260421T003858
CREATED:20250416T224948Z
LAST-MODIFIED:20250416T224948Z
UID:1057-1747490400-1747501200@spotsydems.com
SUMMARY:Forrest Miller Campaign Kickoff
DESCRIPTION:
URL:https://spotsydems.com/event/forrest-miller-campaign-kickoff/
END:VEVENT
BEGIN:VEVENT
DTSTART;TZID=America/New_York:20250517T130000
DTEND;TZID=America/New_York:20250517T160000
DTSTAMP:20260421T003858
CREATED:20250508T155826Z
LAST-MODIFIED:20250508T155826Z
UID:1151-1747486800-1747497600@spotsydems.com
SUMMARY:Canvassing for Abigail
DESCRIPTION:Join us to knock on doors for Abigail Spanberger! \nOur team will train you and prepare you to have face-to-face conversations with voters! \nLink here
URL:https://spotsydems.com/event/canvassing-for-abigail-3/
END:VEVENT
BEGIN:VEVENT
DTSTART;TZID=America/New_York:20250517T100000
DTEND;TZID=America/New_York:20250517T130000
DTSTAMP:20260421T003858
CREATED:20250508T155716Z
LAST-MODIFIED:20250508T155716Z
UID:1149-1747476000-1747486800@spotsydems.com
SUMMARY:Canvassing for Abigail
DESCRIPTION:Join us to knock on doors for Abigail Spanberger! \nOur team will train you and prepare you to have face-to-face conversations with voters! \nLink here
URL:https://spotsydems.com/event/canvassing-for-abigail-2/
END:VEVENT
BEGIN:VEVENT
DTSTART;TZID=America/New_York:20250514T170000
DTEND;TZID=America/New_York:20250514T190000
DTSTAMP:20260421T003858
CREATED:20250506T002847Z
LAST-MODIFIED:20250507T135940Z
UID:1142-1747242000-1747249200@spotsydems.com
SUMMARY:Fundraiser for Nicole Cole - Delegate HD 66
DESCRIPTION:Support Nicole Cole on May 14!\nSign Up Here \n\nJoel Griffin\, Lisa & David Durham\, Dr. Raymond Bell\, Moe Petway\, and IBEW Local 26 invite you to a reception supporting: \nNicole Cole – Candidate for Delegate (HD-66) \nWednesday\, May 14\, 2025 \n5:00 PM – 7:00 PM ET \nThe Cellar @ Castiglia’s \n320 William St. | Fredericksburg\, VA \nFor further information\, please contact: \nEmma Carl: emmacarlrva@gmail.com \n(804) 201-7810 \n\n  \n 
URL:https://spotsydems.com/event/fundraiser-for-nicole-cole-delegate-hd-66/
END:VEVENT
BEGIN:VEVENT
DTSTART;TZID=America/New_York:20250514T170000
DTEND;TZID=America/New_York:20250514T180000
DTSTAMP:20260421T003858
CREATED:20250508T161010Z
LAST-MODIFIED:20250508T161010Z
UID:1161-1747242000-1747245600@spotsydems.com
SUMMARY:Spanberger Virtual Event - LGBTQ+ Roundtable Discussion
DESCRIPTION:Join your CD1 and CD7 Field Organizer to discuss how we as members of the LGBTQ+ community can organize and get involved to help get Abigail elected. \nWe will chat about what issues we are facing in Virginia\, and how we can stand together and support one another. \nLink here
URL:https://spotsydems.com/event/spanberger-virtual-event-lgbtq-roundtable-discussion/
END:VEVENT
BEGIN:VEVENT
DTSTART;TZID=America/New_York:20250513T170000
DTEND;TZID=America/New_York:20250513T210000
DTSTAMP:20260421T003858
CREATED:20250422T130204Z
LAST-MODIFIED:20250422T130250Z
UID:1083-1747155600-1747170000@spotsydems.com
SUMMARY:Spotsylvania Board of Supervisors Meeting
DESCRIPTION:Holbert Building at 9104 Courthouse Road\, Spotsylvania\, Virginia. \nMeeting Agenda Link \nMeeting Agendas
URL:https://spotsydems.com/event/spotsylvania-board-of-supervisors-meeting-9/
END:VEVENT
BEGIN:VEVENT
DTSTART;TZID=America/New_York:20250512T053000
DTEND;TZID=America/New_York:20250512T210000
DTSTAMP:20260421T003858
CREATED:20250416T230314Z
LAST-MODIFIED:20250416T230314Z
UID:1063-1747027800-1747083600@spotsydems.com
SUMMARY:Spotsylvania School Board Meeting
DESCRIPTION:Board Meeting Room of the Administrative Services Building\, 8020 River Stone Drive\, Fredericksburg\, Virginia. \nMeeting Docs \n  \n  \n  \n  \n 
URL:https://spotsydems.com/event/spotsylvania-school-board-meeting-3/
END:VEVENT
BEGIN:VEVENT
DTSTART;TZID=America/New_York:20250511T130000
DTEND;TZID=America/New_York:20250511T160000
DTSTAMP:20260421T003858
CREATED:20250508T155506Z
LAST-MODIFIED:20250508T155506Z
UID:1147-1746968400-1746979200@spotsydems.com
SUMMARY:Canvassing for Abigail
DESCRIPTION:Join us to knock on doors for Abigail Spanberger! \nOur team will train you and prepare you to have face-to-face conversations with voters! \nLink here
URL:https://spotsydems.com/event/canvassing-for-abigail/
END:VEVENT
BEGIN:VEVENT
DTSTART;TZID=America/New_York:20250510T170000
DTEND;TZID=America/New_York:20250510T200000
DTSTAMP:20260421T003858
CREATED:20250309T202006Z
LAST-MODIFIED:20250508T160525Z
UID:872-1746896400-1746907200@spotsydems.com
SUMMARY:*SCDC Gala
DESCRIPTION:Tickets on Sales NOW through May 1 \nSCDC Blue Gala Tickets \nDinner and Silent Auction \nCastiglia’s\, 10705 Courthouse Rd\, Fredericksburg\, Va \n5:00- 5:30 Social \n5:30-8:00 Dinner and Silent Auction \n  \n  \n 
URL:https://spotsydems.com/event/scdc-gala/
LOCATION:Castiglia’s\, 10705 Courthouse Rd\, FREDERICKSBURG\, VA\, 22407
END:VEVENT
BEGIN:VEVENT
DTSTART;TZID=America/New_York:20250510T130000
DTEND;TZID=America/New_York:20250510T160000
DTSTAMP:20260421T003858
CREATED:20250508T160404Z
LAST-MODIFIED:20250508T160404Z
UID:1158-1746882000-1746892800@spotsydems.com
SUMMARY:Canvassing for Abigail
DESCRIPTION:Join us to knock on doors for Abigail Spanberger! \nOur team will train you and prepare you to have face-to-face conversations with voters! \nLink here
URL:https://spotsydems.com/event/canvassing-for-abigail-6/
END:VEVENT
BEGIN:VEVENT
DTSTART;TZID=America/New_York:20250510T120000
DTEND;TZID=America/New_York:20250510T140000
DTSTAMP:20260421T003858
CREATED:20250430T105952Z
LAST-MODIFIED:20250430T105952Z
UID:1122-1746878400-1746885600@spotsydems.com
SUMMARY:Spanberger - Volunteering at FXBG Food Bank
DESCRIPTION:Sign up here
URL:https://spotsydems.com/event/spanberger-volunteering-at-fxbg-food-bank/
END:VEVENT
BEGIN:VEVENT
DTSTART;TZID=America/New_York:20250510T100000
DTEND;TZID=America/New_York:20250510T130000
DTSTAMP:20260421T003858
CREATED:20250508T160220Z
LAST-MODIFIED:20250508T160220Z
UID:1156-1746871200-1746882000@spotsydems.com
SUMMARY:Canvassing for Abigail
DESCRIPTION:Join us to knock on doors for Abigail Spanberger! \nOur team will train you and prepare you to have face-to-face conversations with voters! \nLink here
URL:https://spotsydems.com/event/canvassing-for-abigail-5/
END:VEVENT
BEGIN:VEVENT
DTSTART;TZID=America/New_York:20250503T130000
DTEND;TZID=America/New_York:20250503T130000
DTSTAMP:20260421T003858
CREATED:20250430T105728Z
LAST-MODIFIED:20250430T105728Z
UID:1120-1746277200-1746277200@spotsydems.com
SUMMARY:Spanberger Canvassing
DESCRIPTION:Sign up here
URL:https://spotsydems.com/event/spanberger-canvassing-2/
END:VEVENT
BEGIN:VEVENT
DTSTART;TZID=America/New_York:20250503T110000
DTEND;TZID=America/New_York:20250503T130000
DTSTAMP:20260421T003858
CREATED:20250328T132343Z
LAST-MODIFIED:20250328T132343Z
UID:956-1746270000-1746277200@spotsydems.com
SUMMARY:Spotsylvania NAACP  - Community Conversation
DESCRIPTION:
URL:https://spotsydems.com/event/spotsylvania-naacp-community-conversation/
LOCATION:Mt Zion Baptist Church\, 6030 Harrison Road\, FREDERICKSBURG\, VA\, 22407
END:VEVENT
BEGIN:VEVENT
DTSTART;TZID=America/New_York:20250503T100000
DTEND;TZID=America/New_York:20250503T130000
DTSTAMP:20260421T003858
CREATED:20250430T105417Z
LAST-MODIFIED:20250430T105417Z
UID:1118-1746266400-1746277200@spotsydems.com
SUMMARY:Spanberger Canvassing
DESCRIPTION:Sign up here
URL:https://spotsydems.com/event/spanberger-canvassing/
END:VEVENT
BEGIN:VEVENT
DTSTART;TZID=America/New_York:20250503T100000
DTEND;TZID=America/New_York:20250503T120000
DTSTAMP:20260421T003858
CREATED:20250422T132121Z
LAST-MODIFIED:20250430T111502Z
UID:1092-1746266400-1746273600@spotsydems.com
SUMMARY:May Day Rally
DESCRIPTION:Sign up here: \nMay Day Rally \n \n 
URL:https://spotsydems.com/event/may-day-rally/
END:VEVENT
END:VCALENDAR