BEGIN:VCALENDAR
VERSION:2.0
PRODID:-//Spotsylvania County Democratic Committee - ECPv6.15.20//NONSGML v1.0//EN
CALSCALE:GREGORIAN
METHOD:PUBLISH
X-ORIGINAL-URL:https://spotsydems.com
X-WR-CALDESC:Events for Spotsylvania County Democratic Committee
REFRESH-INTERVAL;VALUE=DURATION:PT1H
X-Robots-Tag:noindex
X-PUBLISHED-TTL:PT1H
BEGIN:VTIMEZONE
TZID:America/New_York
BEGIN:DAYLIGHT
TZOFFSETFROM:-0500
TZOFFSETTO:-0400
TZNAME:EDT
DTSTART:20240310T070000
END:DAYLIGHT
BEGIN:STANDARD
TZOFFSETFROM:-0400
TZOFFSETTO:-0500
TZNAME:EST
DTSTART:20241103T060000
END:STANDARD
BEGIN:DAYLIGHT
TZOFFSETFROM:-0500
TZOFFSETTO:-0400
TZNAME:EDT
DTSTART:20250309T070000
END:DAYLIGHT
BEGIN:STANDARD
TZOFFSETFROM:-0400
TZOFFSETTO:-0500
TZNAME:EST
DTSTART:20251102T060000
END:STANDARD
BEGIN:DAYLIGHT
TZOFFSETFROM:-0500
TZOFFSETTO:-0400
TZNAME:EDT
DTSTART:20260308T070000
END:DAYLIGHT
BEGIN:STANDARD
TZOFFSETFROM:-0400
TZOFFSETTO:-0500
TZNAME:EST
DTSTART:20261101T060000
END:STANDARD
END:VTIMEZONE
BEGIN:VEVENT
DTSTART;TZID=America/New_York:20250923T060000
DTEND;TZID=America/New_York:20250923T210000
DTSTAMP:20260420T210149
CREATED:20250826T115634Z
LAST-MODIFIED:20250826T115634Z
UID:1615-1758607200-1758661200@spotsydems.com
SUMMARY:Spotsy Board of Supervisors Meeting
DESCRIPTION:Board of Supervisors Agendas
URL:https://spotsydems.com/event/spotsy-board-of-supervisors-meeting-2/
LOCATION:VA
END:VEVENT
BEGIN:VEVENT
DTSTART;TZID=America/New_York:20250923T173000
DTEND;TZID=America/New_York:20250923T193000
DTSTAMP:20260420T210149
CREATED:20250913T133045Z
LAST-MODIFIED:20250913T133045Z
UID:1786-1758648600-1758655800@spotsydems.com
SUMMARY:Virtual Phone Bank: Dials for Dems in FXBG\, South Stafford\, & Spotsy Virtual Phone Bank
DESCRIPTION:SIGN UP HERE \nThe key to a strong campaign is good conversations with voters! \nJoin us as we phone bank and talk to voters across the area about Joshua Cole\, Abigail Spanberger\, Ghazala Hashmi\, and Jay Jones! \nA laptop is preferred to execute this exciting activity. \nWorried about joining virtually? Connect with our team and you can join us in our office.
URL:https://spotsydems.com/event/virtual-phone-bank-dials-for-dems-in-fxbg-south-stafford-spotsy-virtual-phone-bank/
LOCATION:VA
END:VEVENT
BEGIN:VEVENT
DTSTART;TZID=America/New_York:20250924T050000
DTEND;TZID=America/New_York:20250924T180000
DTSTAMP:20260420T210149
CREATED:20250920T134817Z
LAST-MODIFIED:20250920T134817Z
UID:1921-1758690000-1758736800@spotsydems.com
SUMMARY:Wine Down: 66 mins with Nicole Cole!
DESCRIPTION:Join us to have a chance to meet and chat with Nicole Cole\, who is running for Delegate in House District 66\, over some games\, drinks and hors de ouevres!
URL:https://spotsydems.com/event/wine-down-66-mins-with-nicole-cole/
LOCATION:VA
END:VEVENT
BEGIN:VEVENT
DTSTART;TZID=America/New_York:20250925T173000
DTEND;TZID=America/New_York:20250925T193000
DTSTAMP:20260420T210149
CREATED:20250826T123911Z
LAST-MODIFIED:20250826T123911Z
UID:1641-1758821400-1758828600@spotsydems.com
SUMMARY:Office Volunteers - Coordinated Campaign
DESCRIPTION:Unable to knock doors yourself? \nCome to the Coordinated Campaign Office of candidates Joshua Cole\, Abigail Spanberger\, Ghazala Hashmi\, and Jay Jones to help put together packets of campaign literature so we can have a successful time talking with voters on the weekend! \nSIGN UP HERE
URL:https://spotsydems.com/event/office-volunteers-coordinated-campaign-4/
LOCATION:VA
END:VEVENT
BEGIN:VEVENT
DTSTART;TZID=America/New_York:20250925T173000
DTEND;TZID=America/New_York:20250925T193000
DTSTAMP:20260420T210149
CREATED:20250913T133224Z
LAST-MODIFIED:20250913T133224Z
UID:1788-1758821400-1758828600@spotsydems.com
SUMMARY:Virtual Phone Bank: Dials for Dems in FXBG\, South Stafford\, & Spotsy Virtual Phone Bank
DESCRIPTION:SIGN UP HERE \nThe key to a strong campaign is good conversations with voters! \nJoin us as we phone bank and talk to voters across the area about Joshua Cole\, Abigail Spanberger\, Ghazala Hashmi\, and Jay Jones! \nA laptop is preferred to execute this exciting activity. \nWorried about joining virtually? Connect with our team and you can join us in our office.
URL:https://spotsydems.com/event/virtual-phone-bank-dials-for-dems-in-fxbg-south-stafford-spotsy-virtual-phone-bank-2/
LOCATION:VA
END:VEVENT
BEGIN:VEVENT
DTSTART;TZID=America/New_York:20250925T190000
DTEND;TZID=America/New_York:20250925T201500
DTSTAMP:20260420T210149
CREATED:20250912T203501Z
LAST-MODIFIED:20250912T203501Z
UID:1746-1758826800-1758831300@spotsydems.com
SUMMARY:Poll Observer Training - DPVA
DESCRIPTION:Poll observers are volunteers who have received training to sit inside (or outside) and observe the process of voting in an assigned precinct during early voting or on election day.  The first training provides you with information about procedures and what to look for as an observer. The second training is to prepare you to use the voter protection hotline. \nThis training is a great resource for District Captains\, Precinct Captains\, and volunteers who work the polls\, as well. The links to sign up for live trainings are included below. The link for on-demand trainings will be available in next week’s newsletter. \nPlease sign up using the links below and also send your name to Deb Aldrich \nSign up Here
URL:https://spotsydems.com/event/poll-observer-training-dpva-3/
LOCATION:VA
END:VEVENT
BEGIN:VEVENT
DTSTART;VALUE=DATE:20250926
DTEND;VALUE=DATE:20250927
DTSTAMP:20260420T210149
CREATED:20250912T200542Z
LAST-MODIFIED:20250913T124328Z
UID:1712-1758844800-1758931199@spotsydems.com
SUMMARY:Volunteer at The LGBT Dems Tent at the State Fair
DESCRIPTION:SIGN UP HERE \nSep 26 – Oct 5 \nVolunteer at the LGBT Democrats of Virginia tent at the VA State Fair \nSee the sign up link for a lot of details but a few points to know \n\n\nFree fair tickets when you volunteer \n\n\nBooth is indoors (A/C) \n\n\n3-4 hour shifts \n\n\nWear your SCDC gear
URL:https://spotsydems.com/event/1712/
LOCATION:VA
END:VEVENT
BEGIN:VEVENT
DTSTART;VALUE=DATE:20250927
DTEND;VALUE=DATE:20250928
DTSTAMP:20260420T210149
CREATED:20250912T201052Z
LAST-MODIFIED:20250913T124446Z
UID:1716-1758931200-1759017599@spotsydems.com
SUMMARY:Volunteer at The LGBT Dems Tent at the State Fair
DESCRIPTION:SIGN UP HERE
URL:https://spotsydems.com/event/volunteer-at-the-lgbt-dems-at-the-state-fair/
LOCATION:VA
END:VEVENT
BEGIN:VEVENT
DTSTART;VALUE=DATE:20250927
DTEND;VALUE=DATE:20250928
DTSTAMP:20260420T210149
CREATED:20250913T130513Z
LAST-MODIFIED:20250913T130513Z
UID:1771-1758931200-1759017599@spotsydems.com
SUMMARY:RSVP DUE _ Collis/Warner Pig Roast
DESCRIPTION:RSVP HERE
URL:https://spotsydems.com/event/rsvp-due-_-collis-warner-pig-roast/
LOCATION:VA
END:VEVENT
BEGIN:VEVENT
DTSTART;VALUE=DATE:20250927
DTEND;VALUE=DATE:20250928
DTSTAMP:20260420T210149
CREATED:20250913T134628Z
LAST-MODIFIED:20250913T134628Z
UID:1810-1758931200-1759017599@spotsydems.com
SUMMARY:SCDC WEEKEND OF ACTION - GOTV
DESCRIPTION:
URL:https://spotsydems.com/event/scdc-weekend-of-action-gotv/
LOCATION:VA
END:VEVENT
BEGIN:VEVENT
DTSTART;TZID=America/New_York:20250927T093000
DTEND;TZID=America/New_York:20250927T123000
DTSTAMP:20260420T210149
CREATED:20250920T130951Z
LAST-MODIFIED:20250922T222845Z
UID:1890-1758965400-1758976200@spotsydems.com
SUMMARY:Canvass with WofA\, Arlington Blue Families and Nicole Cole for Delegate!
DESCRIPTION:We of Action Virginia and Arlington Democrats will be joining the campaign for Nicole Cole. \nSign Up Here \nJoin us to knock doors and Get Out the Vote for Abigail Spanberger and candidates up and down the ballot! Election Day is just around the corner\, and we need your help! \nWe will train you to have high-quality engagement conversations with voters to spread our message and make sure our supporters have a plan to vote on or before Election Day. \nWe look forward to spreading the word about Abigail with you\, and don’t forget to bring a friend!
URL:https://spotsydems.com/event/get-out-the-vote-for-house-district-66/
LOCATION:VA
END:VEVENT
BEGIN:VEVENT
DTSTART;TZID=America/New_York:20250927T100000
DTEND;TZID=America/New_York:20250927T111500
DTSTAMP:20260420T210149
CREATED:20250912T204344Z
LAST-MODIFIED:20250912T204344Z
UID:1758-1758967200-1758971700@spotsydems.com
SUMMARY:Precinct Ops Workshop - Poll Rules and Regulations
DESCRIPTION:This workshop is designed for the precinct ops team and all volunteers who plan to work at the polls staffing the SCDC table. \nWe are excited to have Bill Warrick\, an experienced election Chief with the Spotsylvania Board of Elections as our presenter. He will focus on election law\, and rules and regulations for voters and political parties at the polls. Come prepared to learn and ask questions. \nSign up here for the Zoom session. \nPrecinct Ops Workshop
URL:https://spotsydems.com/event/precinct-ops-workshop-poll-rules-and-regulations/
LOCATION:VA
END:VEVENT
BEGIN:VEVENT
DTSTART;TZID=America/New_York:20250927T100000
DTEND;TZID=America/New_York:20250927T160000
DTSTAMP:20260420T210149
CREATED:20250904T130740Z
LAST-MODIFIED:20250904T175110Z
UID:1689-1758967200-1758988800@spotsydems.com
SUMMARY:Knocking Doors for the Democratic Ticket in Western Spotsy
DESCRIPTION:Two shifts: \n10:00-1:00 \n1:00-4:00 \nPlease join us to knock on doors and talk to voters about the upcoming election! \nWhether it’s your first time canvassing or this is old hat we need your help! We want to build a community of support around the Commonwealth and we cannot do it without YOU! \nWe will provide training\, all the supplies you’ll need\, snacks\, water and lots of cheerleading! \nSIGN UP HERE
URL:https://spotsydems.com/event/knocking-doors-for-the-democratic-ticket-in-western-spotsy-12/
LOCATION:VA
END:VEVENT
BEGIN:VEVENT
DTSTART;TZID=America/New_York:20250927T110000
DTEND;TZID=America/New_York:20250927T140000
DTSTAMP:20260420T210149
CREATED:20250924T234240Z
LAST-MODIFIED:20250924T234240Z
UID:1945-1758970800-1758981600@spotsydems.com
SUMMARY:Bridge Brigade for Nicole Cole
DESCRIPTION:Join anytime between 11:00 and 2:00 as the We of Action VA holds up Nicole” name in large letters for the motorists on I95. Meet at the bridge over I95 by the Spotsylvania Regional Hospital. \nJoin the group for canvassing after if you can. \n 
URL:https://spotsydems.com/event/bridge-brigade-for-nicole-cole/
LOCATION:VA
END:VEVENT
BEGIN:VEVENT
DTSTART;TZID=America/New_York:20250927T120000
DTEND;TZID=America/New_York:20250927T130000
DTSTAMP:20260420T210149
CREATED:20250913T125817Z
LAST-MODIFIED:20250913T125817Z
UID:1767-1758974400-1758978000@spotsydems.com
SUMMARY:Voter Protection Hotline Training
DESCRIPTION:SIGN UP HERE \nThe Democratic Party of Virginia Coordinated Campaign’s Voter Protection team is working to ensure that every voter has access to the polls and that every vote is counted. To accomplish this\, we need your help! Please join us for one of our trainings to be a hotline volunteer. \nHotline volunteers play a key role in supporting our state-wide hotline by providing callers with important information and assistance throughout Early Voting and on Election Day. Our volunteers directly answer calls and texts received on the hotline and help record important information for our team. Virginia voters call the hotline for a wide variety of reasons – with questions related to voting in Virginia (e.g.\, how to register to vote and where/when to vote)\, reporting incidents on Election Day (e.g.\, long waiting lines\, closed polls\, denial of ballots)\, and everything in between. \nWe will train\, assign\, and support you to make sure that you are as prepared and effective as possible on the hotline. No previous experience is necessary. You do not need to be a Virginia resident or present in the state to volunteer as a hotline volunteer. \nYou must attend at least one training to be a hotline volunteer. \nIf you have any questions\, please contact us at voterprotection@opvavictory.org.
URL:https://spotsydems.com/event/voter-protection-hotline-training-3/
LOCATION:VA
END:VEVENT
BEGIN:VEVENT
DTSTART;TZID=America/New_York:20250927T160000
DTEND;TZID=America/New_York:20250927T160000
DTSTAMP:20260420T210149
CREATED:20250920T125205Z
LAST-MODIFIED:20250920T125205Z
UID:1880-1758988800-1758988800@spotsydems.com
SUMMARY:Freedom Fund Banquet
DESCRIPTION:River Club Church \n10835 Widewater Trail \nFredericksburg\, 22408 \nTickets: $40 PP and dress is semi-formal \nFor Tickets Contact \nMoe Petway \n540-847-7637 \nRev. Dr. Patricia Wormley \n540-842-6942
URL:https://spotsydems.com/event/freedom-fund-banquet/
LOCATION:VA
END:VEVENT
BEGIN:VEVENT
DTSTART;VALUE=DATE:20250928
DTEND;VALUE=DATE:20250929
DTSTAMP:20260420T210149
CREATED:20250912T201435Z
LAST-MODIFIED:20250913T124521Z
UID:1718-1759017600-1759103999@spotsydems.com
SUMMARY:Volunteer at The LGBT Dems Tent at the State Fair
DESCRIPTION:SIGN UP HERE
URL:https://spotsydems.com/event/volunteer-at-the-lgbt-dems-tent-at-the-state-fair/
LOCATION:VA
END:VEVENT
BEGIN:VEVENT
DTSTART;TZID=America/New_York:20250928T120000
DTEND;TZID=America/New_York:20250928T160000
DTSTAMP:20260420T210149
CREATED:20250920T131104Z
LAST-MODIFIED:20250922T223222Z
UID:1892-1759060800-1759075200@spotsydems.com
SUMMARY:Knock with Nicole & Vote Save America!
DESCRIPTION:SIGN UP HERE \n\n\n\n\n\n\nJoin the Nicole Cole Campaign and Vote Save America to knock doors in House District 66 in Spotsylvania!\nWe’ll be canvassing for democrats up and down the ticket! We supply the training and turf and you supply your time! Together we’ll motivate and mobilize and Get Out the VOTE!
URL:https://spotsydems.com/event/get-out-the-vote-in-house-district-66-3/
LOCATION:VA
END:VEVENT
BEGIN:VEVENT
DTSTART;TZID=America/New_York:20250928T130000
DTEND;TZID=America/New_York:20250928T190000
DTSTAMP:20260420T210149
CREATED:20250904T130837Z
LAST-MODIFIED:20250904T174725Z
UID:1691-1759064400-1759086000@spotsydems.com
SUMMARY:Knocking Doors for the Democratic Ticket in Western Spotsy
DESCRIPTION:Two shifts: \n1:00-4:00 \n4:00-7:00 \nPlease join us to knock on doors and talk to voters about the upcoming election! \nWhether it’s your first time canvassing or this is old hat we need your help! We want to build a community of support around the Commonwealth and we cannot do it without YOU! \nWe will provide training\, all the supplies you’ll need\, snacks\, water and lots of cheerleading! \nSIGN UP HERE
URL:https://spotsydems.com/event/knocking-doors-for-the-democratic-ticket-in-western-spotsy-13/
LOCATION:VA
END:VEVENT
BEGIN:VEVENT
DTSTART;TZID=America/New_York:20250928T190000
DTEND;TZID=America/New_York:20250928T200000
DTSTAMP:20260420T210149
CREATED:20250916T180004Z
LAST-MODIFIED:20250916T180004Z
UID:1843-1759086000-1759089600@spotsydems.com
SUMMARY:Weekly Volunteer Information Call! Spanberger Campaign
DESCRIPTION:Join the Spanberger for Governor campaign for our weekly volunteer call and learn how you can help elect Abigail as our next Governor. There’s a role for everyone! Each week will have a special feature. \nJoin us for our next session via zoom! \nYou can also sign up for future weekly meetings using this same link! \nSIGN UP HERE
URL:https://spotsydems.com/event/weekly-volunteer-information-call-spanberger-campaign-2/
LOCATION:VA
END:VEVENT
BEGIN:VEVENT
DTSTART;VALUE=DATE:20250929
DTEND;VALUE=DATE:20250930
DTSTAMP:20260420T210149
CREATED:20250912T201805Z
LAST-MODIFIED:20250913T124554Z
UID:1723-1759104000-1759190399@spotsydems.com
SUMMARY:Volunteer at The LGBT Dems Tent at the State Fair
DESCRIPTION:SIGN UP HERE
URL:https://spotsydems.com/event/volunteer-at-the-lgbt-dems-tent-at-the-state-fair-2/
LOCATION:VA
END:VEVENT
BEGIN:VEVENT
DTSTART;TZID=America/New_York:20250929T173000
DTEND;TZID=America/New_York:20250929T193000
DTSTAMP:20260420T210149
CREATED:20250619T193135Z
LAST-MODIFIED:20250619T193204Z
UID:1362-1759167000-1759174200@spotsydems.com
SUMMARY:Candidates Forum - Spotsylvania School Board and Board of Supervisors
DESCRIPTION:NAACP – Spotsylvania Branch\, John J. Wright Educational & Cultural Center\, Spotsylvania Education Association\,  Delta Sigma Theta Fredericksburg Area Alumnae Chapter will host a CANDIDATES FORUM \nSALEM CHURCH LIBRARY\n2607 Salem Church Road\nFredericksburg\, VA 22407 \nContact: Moe Petway\, President at 540-847-7637
URL:https://spotsydems.com/event/candidates-forum-spotsylvania-school-board-and-board-of-supervisors/
LOCATION:VA
END:VEVENT
BEGIN:VEVENT
DTSTART;TZID=America/New_York:20250929T173000
DTEND;TZID=America/New_York:20250929T193000
DTSTAMP:20260420T210149
CREATED:20250915T141104Z
LAST-MODIFIED:20250915T141104Z
UID:1829-1759167000-1759174200@spotsydems.com
SUMMARY:SPOTSY NAACP - Candidate Forum - BOS and SB
DESCRIPTION:Spotsy Board of Supervisors and School Board candidates will take part in a forum sponsored by Spotsy NAACP\, John J Wright Educational and Cultural Center\,  Spotsylvania Education Assoc\, and Delta Sigma Theta. \nSalem Church Library
URL:https://spotsydems.com/event/spotsy-naacp-candidate-forum-bos-and-sb/
LOCATION:VA
END:VEVENT
BEGIN:VEVENT
DTSTART;VALUE=DATE:20250930
DTEND;VALUE=DATE:20251001
DTSTAMP:20260420T210149
CREATED:20250912T201853Z
LAST-MODIFIED:20250913T124625Z
UID:1725-1759190400-1759276799@spotsydems.com
SUMMARY:Volunteer at The LGBT Dems Tent at the State Fair
DESCRIPTION:SIGN UP HERE
URL:https://spotsydems.com/event/volunteer-at-the-lgbt-dems-tent-at-the-state-fair-3/
LOCATION:VA
END:VEVENT
BEGIN:VEVENT
DTSTART;TZID=America/New_York:20250930T173000
DTEND;TZID=America/New_York:20250930T193000
DTSTAMP:20260420T210149
CREATED:20250913T133702Z
LAST-MODIFIED:20250913T133702Z
UID:1790-1759253400-1759260600@spotsydems.com
SUMMARY:Virtual Phone Bank: Dials for Dems in FXBG\, South Stafford\, & Spotsy
DESCRIPTION:SIGN UP HERE \n\n\n\n\n\n\nThe key to a strong campaign is good conversations with voters! \nJoin us as we phone bank and talk to voters across the area about Joshua Cole\, Abigail Spanberger\, Ghazala Hashmi\, and Jay Jones! \nA laptop is preferred to execute this exciting activity. \nWorried about joining virtually? Connect with our team and you can join us in our office.
URL:https://spotsydems.com/event/virtual-phone-bank-dials-for-dems-in-fxbg-south-stafford-spotsy-3/
LOCATION:VA
END:VEVENT
BEGIN:VEVENT
DTSTART;TZID=America/New_York:20250930T190000
DTEND;TZID=America/New_York:20250930T190000
DTSTAMP:20260420T210149
CREATED:20250920T125540Z
LAST-MODIFIED:20250920T125540Z
UID:1882-1759258800-1759258800@spotsydems.com
SUMMARY:VA Dems Women's Caucus Meeting
DESCRIPTION:Join this month’s VADEMS Women’s Caucus Meeting featuring Keisy Chavez from Repro Rising for a powerful and timely info session on the Constitutional Amendment to Protect Reproductive Freedom in Virginia. \nZOOM LINK
URL:https://spotsydems.com/event/va-dems-womens-caucus-meeting/
LOCATION:VA
END:VEVENT
BEGIN:VEVENT
DTSTART;VALUE=DATE:20251001
DTEND;VALUE=DATE:20251002
DTSTAMP:20260420T210149
CREATED:20250912T201944Z
LAST-MODIFIED:20250913T124658Z
UID:1727-1759276800-1759363199@spotsydems.com
SUMMARY:Volunteer at The LGBT Dems Tent at the State Fair
DESCRIPTION:SIGN UP HERE
URL:https://spotsydems.com/event/volunteer-at-the-lgbt-dems-tent-at-the-state-fair-4/
LOCATION:VA
END:VEVENT
BEGIN:VEVENT
DTSTART;VALUE=DATE:20251002
DTEND;VALUE=DATE:20251003
DTSTAMP:20260420T210149
CREATED:20250912T202114Z
LAST-MODIFIED:20250913T124816Z
UID:1731-1759363200-1759449599@spotsydems.com
SUMMARY:Volunteer at The LGBT Dems Tent at the State Fair
DESCRIPTION:SIGN UP HERE
URL:https://spotsydems.com/event/volunteer-at-the-lgbt-dems-tent-at-the-state-fair-6/
LOCATION:VA
END:VEVENT
BEGIN:VEVENT
DTSTART;TZID=America/New_York:20251002T173000
DTEND;TZID=America/New_York:20251002T193000
DTSTAMP:20260420T210149
CREATED:20250913T133819Z
LAST-MODIFIED:20250913T133819Z
UID:1792-1759426200-1759433400@spotsydems.com
SUMMARY:Virtual Phone Bank: Dials for Dems in FXBG\, South Stafford\, & Spotsy
DESCRIPTION:SIGN UP HERE \nThe key to a strong campaign is good conversations with voters! \nJoin us as we phone bank and talk to voters across the area about Joshua Cole\, Abigail Spanberger\, Ghazala Hashmi\, and Jay Jones! \nA laptop is preferred to execute this exciting activity. \nWorried about joining virtually? Connect with our team and you can join us in our office.
URL:https://spotsydems.com/event/virtual-phone-bank-dials-for-dems-in-fxbg-south-stafford-spotsy-4/
LOCATION:VA
END:VEVENT
BEGIN:VEVENT
DTSTART;TZID=America/New_York:20251002T190000
DTEND;TZID=America/New_York:20251002T190000
DTSTAMP:20260420T210149
CREATED:20250917T141757Z
LAST-MODIFIED:20250917T141757Z
UID:1867-1759431600-1759431600@spotsydems.com
SUMMARY:UMW Hosts Debate for HD 65
DESCRIPTION:The University of Mary Washington will host a public political debate between candidates for Virginia’s 65th District House of Delegates on Thursday\, Oct. 2\, at 7 p.m. Incumbent Joshua Cole (D) will face off against Sean Steinway (R) in George Washington Hall’s Dodd Auditorium. \nThe debate is being hosted by Mary Washington’s Student Government Association and moderated by UMW Professor of Political Science Stephen Farnsworth\, who also serves as director of the University’s Center for Leadership and Media Studies. It is co-sponsored by the Fredericksburg Regional Chamber of Commerce and the League of Women Voters of the Fredericksburg Area. \nThe event is free and no tickets are required. Viewing also is available via Zoom at https://go.umw.edu/2025debate.
URL:https://spotsydems.com/event/umw-hosts-debate-for-hd-65/
LOCATION:VA
END:VEVENT
END:VCALENDAR