BEGIN:VCALENDAR
VERSION:2.0
PRODID:-//Spotsylvania County Democratic Committee - ECPv6.15.20//NONSGML v1.0//EN
CALSCALE:GREGORIAN
METHOD:PUBLISH
X-WR-CALNAME:Spotsylvania County Democratic Committee
X-ORIGINAL-URL:https://spotsydems.com
X-WR-CALDESC:Events for Spotsylvania County Democratic Committee
REFRESH-INTERVAL;VALUE=DURATION:PT1H
X-Robots-Tag:noindex
X-PUBLISHED-TTL:PT1H
BEGIN:VTIMEZONE
TZID:America/New_York
BEGIN:DAYLIGHT
TZOFFSETFROM:-0500
TZOFFSETTO:-0400
TZNAME:EDT
DTSTART:20240310T070000
END:DAYLIGHT
BEGIN:STANDARD
TZOFFSETFROM:-0400
TZOFFSETTO:-0500
TZNAME:EST
DTSTART:20241103T060000
END:STANDARD
BEGIN:DAYLIGHT
TZOFFSETFROM:-0500
TZOFFSETTO:-0400
TZNAME:EDT
DTSTART:20250309T070000
END:DAYLIGHT
BEGIN:STANDARD
TZOFFSETFROM:-0400
TZOFFSETTO:-0500
TZNAME:EST
DTSTART:20251102T060000
END:STANDARD
BEGIN:DAYLIGHT
TZOFFSETFROM:-0500
TZOFFSETTO:-0400
TZNAME:EDT
DTSTART:20260308T070000
END:DAYLIGHT
BEGIN:STANDARD
TZOFFSETFROM:-0400
TZOFFSETTO:-0500
TZNAME:EST
DTSTART:20261101T060000
END:STANDARD
BEGIN:DAYLIGHT
TZOFFSETFROM:-0500
TZOFFSETTO:-0400
TZNAME:EDT
DTSTART:20270314T070000
END:DAYLIGHT
BEGIN:STANDARD
TZOFFSETFROM:-0400
TZOFFSETTO:-0500
TZNAME:EST
DTSTART:20271107T060000
END:STANDARD
END:VTIMEZONE
BEGIN:VEVENT
DTSTART;TZID=America/New_York:20260121T190000
DTEND;TZID=America/New_York:20260121T200000
DTSTAMP:20260421T212003
CREATED:20251229T160945Z
LAST-MODIFIED:20251229T161250Z
UID:2264-1769022000-1769025600@spotsydems.com
SUMMARY:Tech Talk Wednesday
DESCRIPTION:SIGN UP HERE \nJoin us to learn more about the technologies that SCDC uses and how you can help us be more efficient in their use. \nSessions are learner focused. Come prepared to explore and ask questions. Topics are flexible to meet the needs of the participants. \nZoom Link will be provided in an email from Mobilize after sign up.
URL:https://spotsydems.com/event/tech-talk-wednesday-6/
LOCATION:VA
END:VEVENT
BEGIN:VEVENT
DTSTART;TZID=America/New_York:20260121T180000
DTEND;TZID=America/New_York:20260121T190000
DTSTAMP:20260421T212003
CREATED:20260118T212056Z
LAST-MODIFIED:20260118T212056Z
UID:2342-1769018400-1769022000@spotsydems.com
SUMMARY:SCDC Candidate Recruitment Phone Bank
DESCRIPTION:SIGN UP HERE \nJoin us to call fellow Democrats in order to recruit those who have interest in running for public office and to invite them to our first informational meeting of the year. \nWe will provide everything you need\, just bring yourself and your phone. \nRooms 5-6
URL:https://spotsydems.com/event/scdc-candidate-recruitment-phone-bank/
LOCATION:Salem Church Library\, 2607 Salem Church Road\,\, FREDERICKSBURG\, VA\, 22407
END:VEVENT
BEGIN:VEVENT
DTSTART;TZID=America/New_York:20260120T173000
DTEND;TZID=America/New_York:20260120T173000
DTSTAMP:20260421T212003
CREATED:20251218T162438Z
LAST-MODIFIED:20251218T162733Z
UID:2230-1768930200-1768930200@spotsydems.com
SUMMARY:Spotsylvania School Board Meeting - 2027 Budget
DESCRIPTION:Superintendent Presents Recommended FY 2026 School Budget to\nSchool Board \nMeeting Info
URL:https://spotsydems.com/event/spotsylvania-school-board-meeting-2026-budget/
LOCATION:VA
END:VEVENT
BEGIN:VEVENT
DTSTART;TZID=America/New_York:20260119T180000
DTEND;TZID=America/New_York:20260119T180000
DTSTAMP:20260421T212003
CREATED:20260118T211253Z
LAST-MODIFIED:20260118T211253Z
UID:2336-1768845600-1768845600@spotsydems.com
SUMMARY:MLK Day Community Conversations
DESCRIPTION:Curitiba Art Cafe \n919 Caroline St \nTable group guided conversations. Sponsored by the League of Women Voters of Fredericksburg.
URL:https://spotsydems.com/event/mlk-day-community-conversations/
LOCATION:VA
END:VEVENT
BEGIN:VEVENT
DTSTART;TZID=America/New_York:20260119T120000
DTEND;TZID=America/New_York:20260119T140000
DTSTAMP:20260421T212003
CREATED:20251119T121814Z
LAST-MODIFIED:20260115T142954Z
UID:2136-1768824000-1768831200@spotsydems.com
SUMMARY:Viewpoint from the Bridge - Spotsy NAACP MLK Walk
DESCRIPTION:Join us for the memorial walk across the MLK Bridge. Hear local leaders and politicians speak to the social\, political\, and economic issues that will concern us in the coming year. Meet in the parking lot closest to the bridge. \n400 Bragg Hill Dr\, 22408 \nFor more information: \nContact Moe Petway \npmozett@gmail.com
URL:https://spotsydems.com/event/viewpoint-from-the-bridge-naacp-mlk-walk/
LOCATION:VA
END:VEVENT
BEGIN:VEVENT
DTSTART;TZID=America/New_York:20260114T190000
DTEND;TZID=America/New_York:20260114T200000
DTSTAMP:20260421T212003
CREATED:20251229T160904Z
LAST-MODIFIED:20251229T161141Z
UID:2262-1768417200-1768420800@spotsydems.com
SUMMARY:Tech Talk Wednesday
DESCRIPTION:SIGN UP HERE \nJoin us to learn more about the technologies that SCDC uses and how you can help us be more efficient in their use. \nSessions are learner focused. Come prepared to explore and ask questions. Topics are flexible to meet the needs of the participants. \nZoom Link will be provided in an email from Mobilize after sign up.
URL:https://spotsydems.com/event/tech-talk-wednesday-5/
LOCATION:VA
END:VEVENT
BEGIN:VEVENT
DTSTART;TZID=America/New_York:20260113T170000
DTEND;TZID=America/New_York:20260113T170000
DTSTAMP:20260421T212003
CREATED:20251218T163615Z
LAST-MODIFIED:20251218T163615Z
UID:2240-1768323600-1768323600@spotsydems.com
SUMMARY:Spotsylvania Board of Supervisors Meeting
DESCRIPTION:Meeting Info
URL:https://spotsydems.com/event/spotsylvania-board-of-supervisors-meeting-13/
LOCATION:VA
END:VEVENT
BEGIN:VEVENT
DTSTART;TZID=America/New_York:20260112T173000
DTEND;TZID=America/New_York:20260112T210000
DTSTAMP:20260421T212003
CREATED:20251218T162311Z
LAST-MODIFIED:20251218T162818Z
UID:2228-1768239000-1768251600@spotsydems.com
SUMMARY:Spotsylvania School Board Meeting
DESCRIPTION:Regular Meeting – Board Reorganization Meeting/Selection of Chair\nand Vice Chair \nMeeting Info \n 
URL:https://spotsydems.com/event/spotsylvania-school-board-meeting-7/
LOCATION:VA
END:VEVENT
BEGIN:VEVENT
DTSTART;TZID=America/New_York:20260110T090000
DTEND;TZID=America/New_York:20260110T110000
DTSTAMP:20260421T212003
CREATED:20251119T202141Z
LAST-MODIFIED:20251217T131522Z
UID:2158-1768035600-1768042800@spotsydems.com
SUMMARY:Spotsy Dems - Committee and Membership Reorganization
DESCRIPTION:Mt Zion Baptist Church \n6030 Harrison Rd Bldg\, Fredericksburg\, VA 2240730 \nPlease complete two forms: \n\nCaucus Declaration Form\n2026 SCDC Membership Form\n\nPay filing fee/dues with the link at the bottom of the above form or HERE \n  \n 
URL:https://spotsydems.com/event/spotsy-dems-committee-and-membership-reorganization/
LOCATION:VA
END:VEVENT
BEGIN:VEVENT
DTSTART;TZID=America/New_York:20260108T190000
DTEND;TZID=America/New_York:20260108T200000
DTSTAMP:20260421T212003
CREATED:20251218T161150Z
LAST-MODIFIED:20251218T161150Z
UID:2218-1767898800-1767902400@spotsydems.com
SUMMARY:Spotsylvania NAACP Meeting via Zoom
DESCRIPTION:Click the link below to join the Zoom Meeting \nZoom Meeting Link
URL:https://spotsydems.com/event/spotsylvania-naacp-meeting-via-zoom/
LOCATION:VA
END:VEVENT
BEGIN:VEVENT
DTSTART;TZID=America/New_York:20260107T190000
DTEND;TZID=America/New_York:20260107T200000
DTSTAMP:20260421T212003
CREATED:20251229T155931Z
LAST-MODIFIED:20251229T161105Z
UID:2259-1767812400-1767816000@spotsydems.com
SUMMARY:Tech Talk Wednesday
DESCRIPTION:SIGN UP HERE \nJoin us to learn more about the technologies that SCDC uses and how you can help us be more efficient in their use. \nSessions are learner focused. Come prepared to explore and ask questions. Topics are flexible to meet the needs of the participants. \nZoom Link will be provided by confirmation email from Mobilize.
URL:https://spotsydems.com/event/tech-talk-wednesday-4/
LOCATION:VA
END:VEVENT
BEGIN:VEVENT
DTSTART;TZID=America/New_York:20260107T183000
DTEND;TZID=America/New_York:20260107T200000
DTSTAMP:20260421T212003
CREATED:20260107T182739Z
LAST-MODIFIED:20260107T182739Z
UID:2285-1767810600-1767816000@spotsydems.com
SUMMARY:Affordability Town Hall - Delegates - Josh Cole and Nicole Cole
DESCRIPTION:RSVP HERE \nJoin our Delegates for a community discussion about Virginia’s #1 issue.
URL:https://spotsydems.com/event/affordability-town-hall-delegates-josh-cole-and-nicole-cole/
LOCATION:Fredericksburg Regional Library – Fredicksburg Branch\, 1201 Caroline St\, Fredericksburg\, VA\, 22401\, United States
END:VEVENT
BEGIN:VEVENT
DTSTART;TZID=America/New_York:20251219T110000
DTEND;TZID=America/New_York:20251219T130000
DTSTAMP:20260421T212003
CREATED:20251117T201019Z
LAST-MODIFIED:20251117T201207Z
UID:2129-1766142000-1766149200@spotsydems.com
SUMMARY:SCDC Volunteers at Fredericksburg Food Bank
DESCRIPTION:Volunteers Needed\n\nFredericksburg Food Bank \n\nBox Packing \nFriday\, December 19th\, 11am-1pm\n\nSIGN UP HERE \n\nVolunteers must register to participate.\n\nTo register as a volunteer\, go to our website: www.fredfood.org. From our main page\, scroll down and click on “Volunteer.” On the next page\, scroll down again and click on the orange and white tab that reads “Volunteer Registration.” This step only takes about 4 minutes to complete.
URL:https://spotsydems.com/event/scdc-volunteers-at-fredericksburg-food-bank/
LOCATION:VA
END:VEVENT
BEGIN:VEVENT
DTSTART;TZID=America/New_York:20251215T170000
DTEND;TZID=America/New_York:20251215T200000
DTSTAMP:20260421T212003
CREATED:20251117T191015Z
LAST-MODIFIED:20251210T140148Z
UID:2121-1765818000-1765828800@spotsydems.com
SUMMARY:SCDC Meeting - Holiday Party
DESCRIPTION:Park Lane Tavern \nIn The Village behind Spotsy Town Center \nNo meeting just a social time for members and friends to celebrate the holidays! \nGames start at 6:00. Trivia and MORE!
URL:https://spotsydems.com/event/scdc-meeting-christmas-party/
LOCATION:VA
END:VEVENT
BEGIN:VEVENT
DTSTART;TZID=America/New_York:20251209T160000
DTEND;TZID=America/New_York:20251209T200000
DTSTAMP:20260421T212003
CREATED:20251106T215918Z
LAST-MODIFIED:20251106T215918Z
UID:2104-1765296000-1765310400@spotsydems.com
SUMMARY:Spotsylvania Board of Supervisors Meeting
DESCRIPTION:Holbert Building at 9104 Courthouse Road\, Spotsylvania\, Virginia.
URL:https://spotsydems.com/event/spotsylvania-board-of-supervisors-meeting-12/
LOCATION:VA
END:VEVENT
BEGIN:VEVENT
DTSTART;TZID=America/New_York:20251208T173000
DTEND;TZID=America/New_York:20251208T220000
DTSTAMP:20260421T212003
CREATED:20251106T215135Z
LAST-MODIFIED:20251106T215135Z
UID:2100-1765215000-1765231200@spotsydems.com
SUMMARY:Spotsylvania School Board Regular Meeting
DESCRIPTION:8020 River Stone Dr\, Fredericksburg\, VA 22407\, USA
URL:https://spotsydems.com/event/spotsylvania-school-board-regular-meeting-3/
LOCATION:VA
END:VEVENT
BEGIN:VEVENT
DTSTART;TZID=America/New_York:20251206T110000
DTEND;TZID=America/New_York:20251206T140000
DTSTAMP:20260421T212003
CREATED:20251203T005118Z
LAST-MODIFIED:20251203T005118Z
UID:2172-1765018800-1765029600@spotsydems.com
SUMMARY:Spotsylvania Christmas Parade
DESCRIPTION:Join us to walk with our SCDC float. \nSIGN UP HERE
URL:https://spotsydems.com/event/spotsylvania-christmas-parade/
LOCATION:VA
END:VEVENT
BEGIN:VEVENT
DTSTART;TZID=America/New_York:20251204T190000
DTEND;TZID=America/New_York:20251204T190000
DTSTAMP:20260421T212003
CREATED:20251119T122040Z
LAST-MODIFIED:20251119T122115Z
UID:2139-1764874800-1764874800@spotsydems.com
SUMMARY:Spotsy NAACP - Let's Celebrate the Holidays
DESCRIPTION:Mt. Zion Baptist Church\n6030 Harrison Road\nFredericksburg\, VA 22407 \n  \nFor more information\nContact:\nMoe Petway\, President\nSpotsylvania NAACP\n540-847-7637
URL:https://spotsydems.com/event/spotsy-naqacp-lets-celebrate-the-holidays/
LOCATION:VA
END:VEVENT
BEGIN:VEVENT
DTSTART;TZID=America/New_York:20251204T180000
DTEND;TZID=America/New_York:20251204T193000
DTSTAMP:20260421T212003
CREATED:20251117T192103Z
LAST-MODIFIED:20251117T192103Z
UID:2125-1764871200-1764876600@spotsydems.com
SUMMARY:Congressman Eugene Vindman in Fredericksburg!
DESCRIPTION:SIGN UP HERE \n\nPlease join \nJoel Griffin\, Joseph Peter Drennan \nMari Kelly\, Rich & Linda Larochelle\, \nBruce Saller & Catherine Miller Saller \n(Host Committee in Formation) \nfor a holiday reception with \nCongressman Eugene Vindman \nThursday\, December 04\, 2025 \n6:00PM – 7:30PM \nAddress upon RSVP | Fredericksburg\, VA \nFor more information\, please contact  \nSophie Rodriguez Beaugrand at srb@vindmanforcongress.com \n\n 
URL:https://spotsydems.com/event/congressman-eugene-vindman-in-fredericksburg/
LOCATION:VA
END:VEVENT
BEGIN:VEVENT
DTSTART;TZID=America/New_York:20251203T190000
DTEND;TZID=America/New_York:20251203T200000
DTSTAMP:20260421T212003
CREATED:20251130T170142Z
LAST-MODIFIED:20251130T170142Z
UID:2168-1764788400-1764792000@spotsydems.com
SUMMARY:Tech Talk Wednesday
DESCRIPTION:Sign Up Here \nLearn more about how to navigate the SCDC Website and what information you can find there. Guided exploration with questions answered.
URL:https://spotsydems.com/event/tech-talk-wednesday-3/
LOCATION:VA
END:VEVENT
BEGIN:VEVENT
DTSTART;TZID=America/New_York:20251126T190000
DTEND;TZID=America/New_York:20251126T200000
DTSTAMP:20260421T212003
CREATED:20251117T190343Z
LAST-MODIFIED:20251117T190544Z
UID:2117-1764183600-1764187200@spotsydems.com
SUMMARY:Tech Talk Wednesday
DESCRIPTION:Join us to explore the technology that SCDC volunteers use. The focus will be on basic navigation with the goal of enhancing the user experience and SCDC planning and data collection. \n2 – SCDC Website Session \n  \nFuture sessions will be based on demand. \nSIGN UP HERE
URL:https://spotsydems.com/event/tech-talk-wednesday-2/
LOCATION:VA
END:VEVENT
BEGIN:VEVENT
DTSTART;TZID=America/New_York:20251119T190000
DTEND;TZID=America/New_York:20251119T200000
DTSTAMP:20260421T212003
CREATED:20251117T190231Z
LAST-MODIFIED:20251117T190231Z
UID:2113-1763578800-1763582400@spotsydems.com
SUMMARY:Tech Talk - Wednesday
DESCRIPTION:Join us to explore the technology that SCDC volunteers use. The focus will be on basic navigation with the goal of enhancing the user experience and SCDC planning and data collection. \nSession 1- Mobilize Session 2 – SCDC Website Session 3 – Mobilize for Committee Chairs \nFuture sessions will be based on demand. \nSIGN UP HERE \n 
URL:https://spotsydems.com/event/tech-talk-wednesday/
LOCATION:VA
END:VEVENT
BEGIN:VEVENT
DTSTART;TZID=America/New_York:20251118T190000
DTEND;TZID=America/New_York:20251118T210000
DTSTAMP:20260421T212003
CREATED:20251117T192337Z
LAST-MODIFIED:20251117T192337Z
UID:2127-1763492400-1763499600@spotsydems.com
SUMMARY:Join us in support of Shannon Taylor for VA!
DESCRIPTION:
URL:https://spotsydems.com/event/join-us-in-support-of-shannon-taylor-for-va/
LOCATION:VA
END:VEVENT
BEGIN:VEVENT
DTSTART;TZID=America/New_York:20251118T160000
DTEND;TZID=America/New_York:20251118T210000
DTSTAMP:20260421T212003
CREATED:20251106T215628Z
LAST-MODIFIED:20251106T215628Z
UID:2102-1763481600-1763499600@spotsydems.com
SUMMARY:Spotsylvania Board of Supervisors Meeting
DESCRIPTION:Meeting Information \nHolbert Building at 9104 Courthouse Road\, Spotsylvania\, Virginia. \n  \n  \n  \n  \n  \n 
URL:https://spotsydems.com/event/spotsylvania-board-of-supervisors-meeting-11/
LOCATION:VA
END:VEVENT
BEGIN:VEVENT
DTSTART;TZID=America/New_York:20251117T173000
DTEND;TZID=America/New_York:20251117T220000
DTSTAMP:20260421T212003
CREATED:20251106T214953Z
LAST-MODIFIED:20251106T214953Z
UID:2098-1763400600-1763416800@spotsydems.com
SUMMARY:Spotsylvania School Board Meeting - Work Session
DESCRIPTION:Work Session Meeting [No Public Comments] \n\n8020 River Stone Dr\, Fredericksburg\, VA 22407\, USA
URL:https://spotsydems.com/event/spotsylvania-school-board-meeting-work-session-4/
LOCATION:VA
END:VEVENT
BEGIN:VEVENT
DTSTART;TZID=America/New_York:20251117T170000
DTEND;TZID=America/New_York:20251117T200000
DTSTAMP:20260421T212003
CREATED:20251106T214100Z
LAST-MODIFIED:20251106T214100Z
UID:2094-1763398800-1763409600@spotsydems.com
SUMMARY:SCDC Monthly Meeting
DESCRIPTION:Park Lane Tavern \nIn the village behind the Macy’s in the Spotsy Town Center. \n5:00 Social \n6:00 Meeting
URL:https://spotsydems.com/event/scdc-monthly-meeting-2/
LOCATION:VA
END:VEVENT
BEGIN:VEVENT
DTSTART;TZID=America/New_York:20251110T173000
DTEND;TZID=America/New_York:20251110T220000
DTSTAMP:20260421T212003
CREATED:20251106T214754Z
LAST-MODIFIED:20251106T214754Z
UID:2096-1762795800-1762812000@spotsydems.com
SUMMARY:Spotsylvania School Board Regular Meeting
DESCRIPTION:Regular Meeting \nMeeting Notice: https://aptg.co/1VcvcR \n\n8020 River Stone Dr\, Fredericksburg\, VA 22407\, USA
URL:https://spotsydems.com/event/spotsylvania-school-board-regular-meeting-2/
LOCATION:VA
END:VEVENT
BEGIN:VEVENT
DTSTART;TZID=America/New_York:20251104T070000
DTEND;TZID=America/New_York:20251104T190000
DTSTAMP:20260421T212003
CREATED:20251028T002529Z
LAST-MODIFIED:20251028T002529Z
UID:2084-1762239600-1762282800@spotsydems.com
SUMMARY:Get Out the Votes in HD 66
DESCRIPTION:5 shifts \nSIGN UP HERE \nJoin us to knock doors and Get Out the Vote for Abigail Spanberger and candidates up and down the ballot! Election Day is just around the corner\, and we need your help! \nWe will train you to have high-quality engagement conversations with voters to spread our message and make sure our supporters have a plan to vote on or before Election Day. \nWe look forward to spreading the word about Abigail with you\, and don’t forget to bring a friend!
URL:https://spotsydems.com/event/get-out-the-votes-in-hd-66/
LOCATION:VA
END:VEVENT
BEGIN:VEVENT
DTSTART;TZID=America/New_York:20251104T070000
DTEND;TZID=America/New_York:20251104T190000
DTSTAMP:20260421T212003
CREATED:20251018T115509Z
LAST-MODIFIED:20251018T115509Z
UID:2056-1762239600-1762282800@spotsydems.com
SUMMARY:Get Out the Vote in HD 65
DESCRIPTION:5 shifts \nSIGN UP HERE \nJoin us to knock doors and Get Out the Vote for Abigail Spanberger and candidates up and down the ballot! Election Day is just around the corner\, and we need your help! \nWe will train you to have high-quality engagement conversations with voters to spread our message and make sure our supporters have a plan to vote on or before Election Day. \nWe look forward to spreading the word about Abigail with you\, and don’t forget to bring a friend!
URL:https://spotsydems.com/event/get-out-the-vote-in-hd-65-20/
LOCATION:VA
END:VEVENT
BEGIN:VEVENT
DTSTART;TZID=America/New_York:20251104T070000
DTEND;TZID=America/New_York:20251104T190000
DTSTAMP:20260421T212003
CREATED:20250920T132723Z
LAST-MODIFIED:20250920T132723Z
UID:1916-1762239600-1762282800@spotsydems.com
SUMMARY:Get out the Vote in House District 66
DESCRIPTION:5 shifts – LAST DAY TO GET VOTERS TO THE POLLS! \nSIGN UP HERE \nJoin us to knock doors and Get Out the Vote for Abigail Spanberger and candidates up and down the ballot! Election Day is just around the corner\, and we need your help! \nWe will train you to have high-quality engagement conversations with voters to spread our message and make sure our supporters have a plan to vote on or before Election Day. \nWe look forward to spreading the word about Abigail with you\, and don’t forget to bring a friend!
URL:https://spotsydems.com/event/get-out-the-vote-in-house-district-66-12/
LOCATION:VA
END:VEVENT
END:VCALENDAR