BEGIN:VCALENDAR
VERSION:2.0
PRODID:-//Spotsylvania County Democratic Committee - ECPv6.15.20//NONSGML v1.0//EN
CALSCALE:GREGORIAN
METHOD:PUBLISH
X-WR-CALNAME:Spotsylvania County Democratic Committee
X-ORIGINAL-URL:https://spotsydems.com
X-WR-CALDESC:Events for Spotsylvania County Democratic Committee
REFRESH-INTERVAL;VALUE=DURATION:PT1H
X-Robots-Tag:noindex
X-PUBLISHED-TTL:PT1H
BEGIN:VTIMEZONE
TZID:America/New_York
BEGIN:DAYLIGHT
TZOFFSETFROM:-0500
TZOFFSETTO:-0400
TZNAME:EDT
DTSTART:20240310T070000
END:DAYLIGHT
BEGIN:STANDARD
TZOFFSETFROM:-0400
TZOFFSETTO:-0500
TZNAME:EST
DTSTART:20241103T060000
END:STANDARD
BEGIN:DAYLIGHT
TZOFFSETFROM:-0500
TZOFFSETTO:-0400
TZNAME:EDT
DTSTART:20250309T070000
END:DAYLIGHT
BEGIN:STANDARD
TZOFFSETFROM:-0400
TZOFFSETTO:-0500
TZNAME:EST
DTSTART:20251102T060000
END:STANDARD
BEGIN:DAYLIGHT
TZOFFSETFROM:-0500
TZOFFSETTO:-0400
TZNAME:EDT
DTSTART:20260308T070000
END:DAYLIGHT
BEGIN:STANDARD
TZOFFSETFROM:-0400
TZOFFSETTO:-0500
TZNAME:EST
DTSTART:20261101T060000
END:STANDARD
END:VTIMEZONE
BEGIN:VEVENT
DTSTART;TZID=America/New_York:20250714T173000
DTEND;TZID=America/New_York:20250714T210000
DTSTAMP:20260420T160921
CREATED:20250521T182654Z
LAST-MODIFIED:20250521T182654Z
UID:1242-1752514200-1752526800@spotsydems.com
SUMMARY:Spotsylvania School Board Meeting
DESCRIPTION:The Spotsylvania County Public School Board meetings begin at 5:30 p.m. in the Board Meeting Room of the Administrative Services Building\, 8020 River Stone Drive\, Fredericksburg\, Virginia \nSpotsylvania School Board
URL:https://spotsydems.com/event/spotsylvania-school-board-meeting-5/
END:VEVENT
BEGIN:VEVENT
DTSTART;TZID=America/New_York:20250713T130000
DTEND;TZID=America/New_York:20250713T150000
DTSTAMP:20260420T160921
CREATED:20250702T141516Z
LAST-MODIFIED:20250702T141516Z
UID:1408-1752411600-1752418800@spotsydems.com
SUMMARY:Pink and Green Canvas Takeover for Nicole Cole - HD 66
DESCRIPTION:SIGN UP HERE \nJoin Nicole Cole and her team July 12 and 13 for a Pink and Green Weekend of Action as we work to make a difference in our community. \nWhat We’re Doing: Our P&G Weekend of Action will focus on direct voter outreach through canvassing neighborhoods to connect with voters. Join us to introduce voters to Nicole and to share her message and priorities for HD 66! \nRemember to proudly wear Pink and Green to show your support for Nicole and her embodiment of the spirit and mission of fostering progress! \nWhy Nicole Needs You:\nEvery conversation we have\, every door we knock\, and every phone call we make brings Nicole closer to victory. Your participation this weekend could directly impact the outcome of this election and help ensure our community has strong representation. \nWhat We Provide Complete training for all activities \nAll necessary materials and supplies \nSnacks and refreshments throughout the day \nTransportation to canvassing locations \nA supportive team environment
URL:https://spotsydems.com/event/pink-and-green-canvas-takeover-for-nicole-cole-hd-66/
END:VEVENT
BEGIN:VEVENT
DTSTART;TZID=America/New_York:20250712T120000
DTEND;TZID=America/New_York:20250712T140000
DTSTAMP:20260420T160921
CREATED:20250711T140050Z
LAST-MODIFIED:20250711T144120Z
UID:1439-1752321600-1752328800@spotsydems.com
SUMMARY:Phone Bank  - Forrest Miller for HD 63
DESCRIPTION:Phonebank with us to help elect Forrest Miller in HD-63! \nJoin from anywhere. \nSIGN UP HERE
URL:https://spotsydems.com/event/phone-bank-forrest-miller-for-hd-63/
END:VEVENT
BEGIN:VEVENT
DTSTART;TZID=America/New_York:20250712T110000
DTEND;TZID=America/New_York:20250712T140000
DTSTAMP:20260420T160921
CREATED:20250702T141325Z
LAST-MODIFIED:20250707T171439Z
UID:1406-1752318000-1752328800@spotsydems.com
SUMMARY:Pink and Green Canvass Takeover for Nicole Cole - HD 66
DESCRIPTION:SIGN UP HERE \nJoin Nicole Cole and her team July 12 and 13 for a Pink and Green Weekend of Action as we work to make a difference in our community. \nWhat We’re Doing: Our P&G Weekend of Action will focus on direct voter outreach through canvassing neighborhoods to connect with voters. Join us to introduce voters to Nicole and to share her message and priorities for HD 66! \nRemember to proudly wear Pink and Green to show your support for Nicole and her embodiment of the spirit and mission of fostering progress! \nWhy Nicole Needs You:\nEvery conversation we have\, every door we knock\, and every phone call we make brings Nicole closer to victory. Your participation this weekend could directly impact the outcome of this election and help ensure our community has strong representation. \nWhat We Provide Complete training for all activities \nAll necessary materials and supplies \nSnacks and refreshments throughout the day \nTransportation to canvassing locations \nA supportive team environment
URL:https://spotsydems.com/event/pink-and-green-canvass-takeover-for-nicole-cole-hd-66/
END:VEVENT
BEGIN:VEVENT
DTSTART;TZID=America/New_York:20250712T100000
DTEND;TZID=America/New_York:20250712T160000
DTSTAMP:20260420T160921
CREATED:20250624T201737Z
LAST-MODIFIED:20250624T201737Z
UID:1392-1752314400-1752336000@spotsydems.com
SUMMARY:Canvassing for Spanberger
DESCRIPTION:Join us to knock doors for Abigail Spanberger! We will train you to have high-quality engagement conversations with voters to spread our message. \n10:00 – 1::00 and 1:00-4:00 \nWe look forward to spreading the word about Abigail with you. Bring a friend! \nSIGN UP HERE
URL:https://spotsydems.com/event/canvassing-for-spanberger-16/
END:VEVENT
BEGIN:VEVENT
DTSTART;TZID=America/New_York:20250710T190000
DTEND;TZID=America/New_York:20250710T203000
DTSTAMP:20260420T160921
CREATED:20250708T134326Z
LAST-MODIFIED:20250708T134326Z
UID:1430-1752174000-1752179400@spotsydems.com
SUMMARY:Call to Action - Federal Budget Briefing
DESCRIPTION:Emergency Federal Budget Briefing: The Impact of the Republican House Budget Resolution on Virginia\nThe Republicans are trying to use the budget process to radically restructure our government. This briefing will describe the Republican plans for taxes\, Medicaid\, education\, nutrition\, and the Federal workforce. It will provide the information you need to explain the impact of Republican budget proposals as you campaign and have conversations with friends and neighbors.\nRSVP Here
URL:https://spotsydems.com/event/call-to-action-federal-budget-briefing/
END:VEVENT
BEGIN:VEVENT
DTSTART;TZID=America/New_York:20250710T190000
DTEND;TZID=America/New_York:20250710T190000
DTSTAMP:20260420T160921
CREATED:20250619T191229Z
LAST-MODIFIED:20250619T191416Z
UID:1356-1752174000-1752174000@spotsydems.com
SUMMARY:Spotsylvania NAACP Meeting - NOTE Date Change
DESCRIPTION:Mt. Zion Baptist Church\n6030 Harrison Road\nFredericksburg\, VA 22407\nFor more information\, call Moe Petway\, President at 540-847-7637
URL:https://spotsydems.com/event/spotsylvania-naacp-meeting-note-date-change/
END:VEVENT
BEGIN:VEVENT
DTSTART;TZID=America/New_York:20250709T170000
DTEND;TZID=America/New_York:20250709T180000
DTSTAMP:20260420T160921
CREATED:20250624T202134Z
LAST-MODIFIED:20250624T202134Z
UID:1394-1752080400-1752084000@spotsydems.com
SUMMARY:Virtual LGBTQ+ Community Discussion
DESCRIPTION:Join your CD1 and CD7 Field Organizer to discuss how we as members of the LGBTQ+ community can organize and get involved to help get Abigail elected. \nWe will chat about what issues we are facing in Virginia\, and how we can stand together and support one another. \nSIGN UP HERE
URL:https://spotsydems.com/event/virtual-lgbtq-community-discussion/
END:VEVENT
BEGIN:VEVENT
DTSTART;TZID=America/New_York:20250708T170000
DTEND;TZID=America/New_York:20250708T190000
DTSTAMP:20260420T160921
CREATED:20250618T172052Z
LAST-MODIFIED:20250618T172052Z
UID:1336-1751994000-1752001200@spotsydems.com
SUMMARY:Phone bank and Text Bank - Spanberger
DESCRIPTION:VIRTUAL    Sign Up Here \nWe’re hosting a virtual phonebank AND textbank session\, and we want you there! Together\, we’ll connect with voters that we missed during canvassing over the weekend weekend. We are committed to showing Virginians we care and we need your help to do that! \nWe’ll provide everything you need—scripts\, tools\, training\, and cheerleading! No experience necessary. Your time will help us build momentum and turn out the vote. \nCome join the team\, take action\, and show voters that Abigail’s campaign is powered by real people fighting for real change. \nLet’s get to work—together. \nWe will be focusing on voters in Prince William County\, Stafford\, and Fredericksburg.
URL:https://spotsydems.com/event/phone-bank-and-text-bank-spanberger-2/
END:VEVENT
BEGIN:VEVENT
DTSTART;TZID=America/New_York:20250706T130000
DTEND;TZID=America/New_York:20250706T160000
DTSTAMP:20260420T160921
CREATED:20250702T140947Z
LAST-MODIFIED:20250702T140947Z
UID:1404-1751806800-1751817600@spotsydems.com
SUMMARY:Knock Doors for Nicole Cole - HD 66 Candidate
DESCRIPTION:Join supporters\, volunteers\, and the community to knock doors to support our candidates! \nWe’ll be out knocking doors this weekend for Nicole Cole for Delegate in House District 66\, along with local candidates for Board of Supervisors and School Board. \nLooking forward to seeing you out there! \nSIGN UP HERE
URL:https://spotsydems.com/event/knock-doors-for-nicole-cole-hd-66-candidate-3/
END:VEVENT
BEGIN:VEVENT
DTSTART;TZID=America/New_York:20250706T130000
DTEND;TZID=America/New_York:20250706T150000
DTSTAMP:20260420T160921
CREATED:20250702T142658Z
LAST-MODIFIED:20250702T142658Z
UID:1410-1751806800-1751814000@spotsydems.com
SUMMARY:Canvas for Forrest Miller - HD 63 Candidate
DESCRIPTION:Join us to canvass for Forrest Miller as we fight for a better Virginia! \nSIGN UP HERE
URL:https://spotsydems.com/event/canvas-for-forrest-miller-hd-63-candidate/
END:VEVENT
BEGIN:VEVENT
DTSTART;TZID=America/New_York:20250705T100000
DTEND;TZID=America/New_York:20250705T160000
DTSTAMP:20260420T160921
CREATED:20250702T140813Z
LAST-MODIFIED:20250702T140813Z
UID:1402-1751709600-1751731200@spotsydems.com
SUMMARY:Knock Doors for Nicole Cole - HD 66 Candidate
DESCRIPTION:Join supporters\, volunteers\, and the community to knock doors to support our candidates! \nWe’ll be out knocking doors this weekend for Nicole Cole for Delegate in House District 66\, along with local candidates for Board of Supervisors and School Board. \nLooking forward to seeing you out there! \nSIGN UP HERE
URL:https://spotsydems.com/event/knock-doors-for-nicole-cole-hd-66-candidate-2/
END:VEVENT
BEGIN:VEVENT
DTSTART;TZID=America/New_York:20250705T100000
DTEND;TZID=America/New_York:20250705T160000
DTSTAMP:20260420T160921
CREATED:20250624T201547Z
LAST-MODIFIED:20250624T201634Z
UID:1389-1751709600-1751731200@spotsydems.com
SUMMARY:Canvassing for Spanberger
DESCRIPTION:Join us to knock doors for Abigail Spanberger! We will train you to have high-quality engagement conversations with voters to spread our message. \n  \n10:00 – 1::00 and 1:00-4:00 \nWe look forward to spreading the word about Abigail with you. Bring a friend! \nSIGN UP HERE
URL:https://spotsydems.com/event/canvassing-for-spanberger-15/
END:VEVENT
BEGIN:VEVENT
DTSTART;TZID=America/New_York:20250701T170000
DTEND;TZID=America/New_York:20250701T190000
DTSTAMP:20260420T160921
CREATED:20250618T171947Z
LAST-MODIFIED:20250618T171947Z
UID:1334-1751389200-1751396400@spotsydems.com
SUMMARY:Phone Bank and Text Bank  - Spanberger
DESCRIPTION:VIRTUAL    Sign Up Here \nWe’re hosting a virtual phonebank AND textbank session\, and we want you there! Together\, we’ll connect with voters that we missed during canvassing over the weekend weekend. We are committed to showing Virginians we care and we need your help to do that! \nWe’ll provide everything you need—scripts\, tools\, training\, and cheerleading! No experience necessary. Your time will help us build momentum and turn out the vote. \nCome join the team\, take action\, and show voters that Abigail’s campaign is powered by real people fighting for real change. \nLet’s get to work—together. \nWe will be focusing on voters in Prince William County\, Stafford\, and Fredericksburg.
URL:https://spotsydems.com/event/phone-bank-and-text-bank-spanberger/
END:VEVENT
BEGIN:VEVENT
DTSTART;TZID=America/New_York:20250629T130000
DTEND;TZID=America/New_York:20250629T130000
DTSTAMP:20260420T160921
CREATED:20250521T132350Z
LAST-MODIFIED:20250521T132350Z
UID:1225-1751202000-1751202000@spotsydems.com
SUMMARY:Canvassing for Spanberger
DESCRIPTION:Join us to knock doors for Abigail Spanberger! We will train you to have high-quality engagement conversations with voters to spread our message. \nWe look forward to spreading the word about Abigail with you. Bring a friend! \n\n\nSign up to access the address.\n\nSIGN UP HERE
URL:https://spotsydems.com/event/canvassing-for-spanberger-14/
CATEGORIES:Canvassing
END:VEVENT
BEGIN:VEVENT
DTSTART;TZID=America/New_York:20250629T120000
DTEND;TZID=America/New_York:20250629T160000
DTSTAMP:20260420T160921
CREATED:20250623T145130Z
LAST-MODIFIED:20250623T145130Z
UID:1376-1751198400-1751212800@spotsydems.com
SUMMARY:Knock Doors for Nicole Cole - HD 66 Candidate
DESCRIPTION:Click here:\n\nSpotsylvania\, VA 22407
URL:https://spotsydems.com/event/knock-doors-for-nicole-cole-hd-66-candidate/
END:VEVENT
BEGIN:VEVENT
DTSTART;TZID=America/New_York:20250628T110000
DTEND;TZID=America/New_York:20250628T160000
DTSTAMP:20260420T160921
CREATED:20250309T201722Z
LAST-MODIFIED:20250309T201722Z
UID:870-1751108400-1751126400@spotsydems.com
SUMMARY:FXBG Pride Festival 2025
DESCRIPTION:June 28th FXBG Pride 11a-4p Old Mill Park \n  \nFXBG PRIDE March\, Festival and Afterparty 2025 \n \n 
URL:https://spotsydems.com/event/fxbg-pride-festival-2025/
END:VEVENT
BEGIN:VEVENT
DTSTART;TZID=America/New_York:20250628T100000
DTEND;TZID=America/New_York:20250628T160000
DTSTAMP:20260420T160921
CREATED:20250623T144902Z
LAST-MODIFIED:20250623T145213Z
UID:1374-1751104800-1751126400@spotsydems.com
SUMMARY:Knock Doors for Nicole Cole - HD 66 Candidate
DESCRIPTION:Click here: Spotsylvania\, VA 22407\n\n\n\n\n\n\n\n\n\n\nJoin us Saturday and Sunday as we knock doors in Spotsylvania County to get the word out about Nicole Cole and our campaign and help flip this district blue!
URL:https://spotsydems.com/event/knock-doors-w-nicole-cole-hd-66-candidate/
END:VEVENT
BEGIN:VEVENT
DTSTART;TZID=America/New_York:20250628T100000
DTEND;TZID=America/New_York:20250628T100000
DTSTAMP:20260420T160921
CREATED:20250521T132313Z
LAST-MODIFIED:20250521T132313Z
UID:1223-1751104800-1751104800@spotsydems.com
SUMMARY:Canvassing for Spanberger
DESCRIPTION:Join us to knock doors for Abigail Spanberger! We will train you to have high-quality engagement conversations with voters to spread our message. \nWe look forward to spreading the word about Abigail with you. Bring a friend! \n\n\nSign up to access the address.\n\nSIGN UP HERE
URL:https://spotsydems.com/event/canvassing-for-spanberger-13/
CATEGORIES:Canvassing
END:VEVENT
BEGIN:VEVENT
DTSTART;TZID=America/New_York:20250624T170000
DTEND;TZID=America/New_York:20250624T183000
DTSTAMP:20260420T160921
CREATED:20250618T171829Z
LAST-MODIFIED:20250618T171829Z
UID:1332-1750784400-1750789800@spotsydems.com
SUMMARY:Phone Banks and Text Banks for Spanberger
DESCRIPTION:VIRTUAL    Sign Up Here \nWe’re hosting a virtual phonebank AND textbank session\, and we want you there! Together\, we’ll connect with voters that we missed during canvassing over the weekend weekend. We are committed to showing Virginians we care and we need your help to do that! \nWe’ll provide everything you need—scripts\, tools\, training\, and cheerleading! No experience necessary. Your time will help us build momentum and turn out the vote. \nCome join the team\, take action\, and show voters that Abigail’s campaign is powered by real people fighting for real change. \nLet’s get to work—together. \nWe will be focusing on voters in Prince William County\, Stafford\, and Fredericksburg. \n  \n 
URL:https://spotsydems.com/event/phone-banks-and-text-banks-for-spanberger/
END:VEVENT
BEGIN:VEVENT
DTSTART;TZID=America/New_York:20250622T130000
DTEND;TZID=America/New_York:20250622T130000
DTSTAMP:20260420T160921
CREATED:20250521T132232Z
LAST-MODIFIED:20250521T132232Z
UID:1221-1750597200-1750597200@spotsydems.com
SUMMARY:Canvassing for Spanberger
DESCRIPTION:Join us to knock doors for Abigail Spanberger! We will train you to have high-quality engagement conversations with voters to spread our message. \nWe look forward to spreading the word about Abigail with you. Bring a friend! \n\n\nSign up to access the address.\n\nSIGN UP HERE
URL:https://spotsydems.com/event/canvassing-for-spanberger-12/
CATEGORIES:Canvassing
END:VEVENT
BEGIN:VEVENT
DTSTART;TZID=America/New_York:20250622T130000
DTEND;TZID=America/New_York:20250622T130000
DTSTAMP:20260420T160921
CREATED:20250521T132136Z
LAST-MODIFIED:20250521T132136Z
UID:1219-1750597200-1750597200@spotsydems.com
SUMMARY:Canvassing for Spanberger
DESCRIPTION:Join us to knock doors for Abigail Spanberger! We will train you to have high-quality engagement conversations with voters to spread our message. \nWe look forward to spreading the word about Abigail with you. Bring a friend! \n\n\nSign up to access the address.\n\nSIGN UP HERE
URL:https://spotsydems.com/event/canvassing-for-spanberger-11/
CATEGORIES:Canvassing
END:VEVENT
BEGIN:VEVENT
DTSTART;TZID=America/New_York:20250622T120000
DTEND;TZID=America/New_York:20250622T160000
DTSTAMP:20260420T160921
CREATED:20250618T114828Z
LAST-MODIFIED:20250618T114828Z
UID:1327-1750593600-1750608000@spotsydems.com
SUMMARY:Canvassing - Nicole Cole Campaign
DESCRIPTION:It’s go time! It’s time to get out there and knock on some doors to help elect Nicole Cole as the next delegate for HD 66! \nPut on your walking shoes\, load up on the sunscreen\, and bring your friends and family for great conversation and community connections. \nLooking forward to joining you “on the doors!” \nSign Up here \n 
URL:https://spotsydems.com/event/canvassing-nicole-cole-campaign-2/
END:VEVENT
BEGIN:VEVENT
DTSTART;TZID=America/New_York:20250621T170000
DTEND;TZID=America/New_York:20250621T190000
DTSTAMP:20260420T160921
CREATED:20250529T133607Z
LAST-MODIFIED:20250529T133607Z
UID:1285-1750525200-1750532400@spotsydems.com
SUMMARY:Pizza and Trivia Night
DESCRIPTION:Three weeks left until our 2nd Pizza and Trivia night at Castiglia’s Restaurant. Make sure you reserve your spot and don’t miss your opportunity to share delicious pizza\, hilarious trivia questions and great company. \nJust follow the attached link to purchase your tickets. Thank you for your support of SCDC and hope to see you there. \nTickets are $15 each. \nGET TICKETS HERE
URL:https://spotsydems.com/event/pizza-and-trivia-night-2/
END:VEVENT
BEGIN:VEVENT
DTSTART;TZID=America/New_York:20250621T100000
DTEND;TZID=America/New_York:20250621T140000
DTSTAMP:20260420T160921
CREATED:20250618T114641Z
LAST-MODIFIED:20250618T114641Z
UID:1325-1750500000-1750514400@spotsydems.com
SUMMARY:Canvassing - Nicole Cole Campaign
DESCRIPTION:It’s go time! It’s time to get out there and knock on some doors to help elect Nicole Cole as the next delegate for HD 66! \nPut on your walking shoes\, load up on the sunscreen\, and bring your friends and family for great conversation and community connections. \nLooking forward to joining you “on the doors!” \nSign Up here \n 
URL:https://spotsydems.com/event/canvassing-nicole-cole-campaign/
END:VEVENT
BEGIN:VEVENT
DTSTART;TZID=America/New_York:20250621T100000
DTEND;TZID=America/New_York:20250621T100000
DTSTAMP:20260420T160921
CREATED:20250521T132048Z
LAST-MODIFIED:20250521T132048Z
UID:1217-1750500000-1750500000@spotsydems.com
SUMMARY:Canvassing for Spanberger
DESCRIPTION:Join us to knock doors for Abigail Spanberger! We will train you to have high-quality engagement conversations with voters to spread our message. \nWe look forward to spreading the word about Abigail with you. Bring a friend! \n\n\nSign up to access the address.\n\nSIGN UP HERE
URL:https://spotsydems.com/event/canvassing-for-spanberger-10/
CATEGORIES:Canvassing
END:VEVENT
BEGIN:VEVENT
DTSTART;TZID=America/New_York:20250619T190000
DTEND;TZID=America/New_York:20250619T220000
DTSTAMP:20260420T160921
CREATED:20250618T171241Z
LAST-MODIFIED:20250618T171241Z
UID:1329-1750359600-1750370400@spotsydems.com
SUMMARY:"Forge the Future" - Nicole Cole's Juneteenth Event
DESCRIPTION:Forge The Future: The Hon. Nicole Cole’s 3rd Annual Juneteenth Event \nThursday\, June 19th ~ 7-10 PM \nGET TICKETS \nThis isn’t just an event. It’s a homecoming. \nIt’s where our legacy meets our momentum—and you belong in the room. \n✨ Here’s what’s in store this Thursday: \n🎤 Master of Ceremonies: Gary Flowers \nA returning voice of power\, purpose\, and pride—Gary’s been with us every step of the way\, and he’s back to lead the celebration with heart. \n🍽️ Catering by Meek Meals LLC \nYou asked. We listened. Meek Meals is back and serving up soulful dishes that taste like tradition—with flavor that makes you feel at home. \n🎶 Live Music by 1A-Chord \nGet ready to move! This incredible band is bringing the sound\, the soul\, and the joy to keep us lifted all day long. \nThis is more than a day off. It’s a day on—for celebration\, reflection\, and connection with people who believe in building a better tomorrow.
URL:https://spotsydems.com/event/forge-the-future-nicole-coles-juneteenth-event/
END:VEVENT
BEGIN:VEVENT
DTSTART;TZID=America/New_York:20250619T190000
DTEND;TZID=America/New_York:20250619T200000
DTSTAMP:20260420T160921
CREATED:20250616T134815Z
LAST-MODIFIED:20250616T134815Z
UID:1320-1750359600-1750363200@spotsydems.com
SUMMARY:Veterans for Spanberger
DESCRIPTION:  \nJoin us for this virtual gathering of veterans and military family members in support of Abigail Spanberger’s campaign for Governor! \nOur team is eager to hear from you about issues important to you and your family. You will also meet our Veterans for Spanberger Executive Committee and learn about how you can get involved. \nBe sure to RSVP to receive additional details! \nRegister here
URL:https://spotsydems.com/event/veterans-for-spanberger/
LOCATION:ZOOM
END:VEVENT
BEGIN:VEVENT
DTSTART;TZID=America/New_York:20250619T080000
DTEND;TZID=America/New_York:20250619T170000
DTSTAMP:20260420T160921
CREATED:20250619T193528Z
LAST-MODIFIED:20250619T193528Z
UID:1364-1750320000-1750352400@spotsydems.com
SUMMARY:Freedom Fund Banquet - Spotsylvania NAACP
DESCRIPTION:River Club Church\n10835 Tidewater Trail\nFredericksburg\, VA 22408 \n$40 pp\nSemi-Formal Attire \n  \nFOT TICKETS CONTACT: \nMoe Petway – 540.847.7637 \nDr Patricia Wormley – 540.842.6942
URL:https://spotsydems.com/event/freedom-fund-banquet-spotsylvania-naacp/
END:VEVENT
BEGIN:VEVENT
DTSTART;TZID=America/New_York:20250616T170000
DTEND;TZID=America/New_York:20250616T200000
DTSTAMP:20260420T160921
CREATED:20250226T143535Z
LAST-MODIFIED:20260308T133048Z
UID:796-1750093200-1750104000@spotsydems.com
SUMMARY:SCDC General Meeting  NEW LOCATION
DESCRIPTION:The reserved room at the Snow Library for our June meeting is too small for our growing committee. It was decided at Monday’s meeting to relocate our next meeting on June 16th to the party room at Park Lane Tavern behind the mall. \nAttendees will be responsible for ordering food and drinks if they wish and we will have eating/social time from 5-6 PM.  \nMeeting starts at 6:00 pm. \nMay 19 Meeting Minutes for review. \nDraft Minutes 05-19-25 \n  \n  \n 
URL:https://spotsydems.com/event/scdc-general-meeting-2/
LOCATION:Park Lane Tavern\, 1 Towne Centre Boulevard\, FREDERICKSBURG\, VA\, 22408
CATEGORIES:General Meeting
END:VEVENT
END:VCALENDAR