BEGIN:VCALENDAR
VERSION:2.0
PRODID:-//Spotsylvania County Democratic Committee - ECPv6.15.20//NONSGML v1.0//EN
CALSCALE:GREGORIAN
METHOD:PUBLISH
X-WR-CALNAME:Spotsylvania County Democratic Committee
X-ORIGINAL-URL:https://spotsydems.com
X-WR-CALDESC:Events for Spotsylvania County Democratic Committee
REFRESH-INTERVAL;VALUE=DURATION:PT1H
X-Robots-Tag:noindex
X-PUBLISHED-TTL:PT1H
BEGIN:VTIMEZONE
TZID:America/New_York
BEGIN:DAYLIGHT
TZOFFSETFROM:-0500
TZOFFSETTO:-0400
TZNAME:EDT
DTSTART:20240310T070000
END:DAYLIGHT
BEGIN:STANDARD
TZOFFSETFROM:-0400
TZOFFSETTO:-0500
TZNAME:EST
DTSTART:20241103T060000
END:STANDARD
BEGIN:DAYLIGHT
TZOFFSETFROM:-0500
TZOFFSETTO:-0400
TZNAME:EDT
DTSTART:20250309T070000
END:DAYLIGHT
BEGIN:STANDARD
TZOFFSETFROM:-0400
TZOFFSETTO:-0500
TZNAME:EST
DTSTART:20251102T060000
END:STANDARD
BEGIN:DAYLIGHT
TZOFFSETFROM:-0500
TZOFFSETTO:-0400
TZNAME:EDT
DTSTART:20260308T070000
END:DAYLIGHT
BEGIN:STANDARD
TZOFFSETFROM:-0400
TZOFFSETTO:-0500
TZNAME:EST
DTSTART:20261101T060000
END:STANDARD
END:VTIMEZONE
BEGIN:VEVENT
DTSTART;TZID=America/New_York:20250831T130000
DTEND;TZID=America/New_York:20250831T190000
DTSTAMP:20260420T142033
CREATED:20250815T172559Z
LAST-MODIFIED:20250815T172559Z
UID:1554-1756645200-1756666800@spotsydems.com
SUMMARY:Knocking Doors for the Democratic Ticket in Western Spotsy
DESCRIPTION:Please join us to knock on doors and talk to voters about the upcoming election! \nWhether it’s your first time canvassing or this is old hat we need your help! We want to build a community of support around the Commonwealth and we cannot do it without YOU! \nWe will provide training\, all the supplies you’ll need\, snacks\, water and lots of cheerleading! \nSign Up Here \n 
URL:https://spotsydems.com/event/knocking-doors-for-the-democratic-ticket-in-western-spotsy-6/
END:VEVENT
BEGIN:VEVENT
DTSTART;TZID=America/New_York:20250902T173000
DTEND;TZID=America/New_York:20250902T193000
DTSTAMP:20260420T142033
CREATED:20250815T173959Z
LAST-MODIFIED:20250815T173959Z
UID:1570-1756834200-1756841400@spotsydems.com
SUMMARY:FXBG Virtual Phone Bank for Democrats
DESCRIPTION:The key to a strong campaign is good conversations with voters! \nJoin us as we phone bank and talk to voters across the area about Joshua Cole\, Abigail Spanberger\, Ghazala Hashmi\, and Jay Jones! \nA laptop is preferred to execute this exciting activity. \nWorried about joining virtually? Connect with our team and you can join us in our office. \nSIGN UP HERE
URL:https://spotsydems.com/event/fxbg-virtual-phone-bank-for-democrats-5/
END:VEVENT
BEGIN:VEVENT
DTSTART;TZID=America/New_York:20250903T173000
DTEND;TZID=America/New_York:20250903T173000
DTSTAMP:20260420T142033
CREATED:20250821T223911Z
LAST-MODIFIED:20250821T223911Z
UID:1588-1756920600-1756920600@spotsydems.com
SUMMARY:Candidate Forum -Spotsylvania
DESCRIPTION:Sponsored by The Free Press \nSpotsylvania School Board and Board of Supervisors \nGermanna Community College Fredericksburg Campus \n(10000 Germanna Point Drive) \nSUBMIT QUESTIONS HERE \n 
URL:https://spotsydems.com/event/candidate-forum-spotsylvania/
END:VEVENT
BEGIN:VEVENT
DTSTART;VALUE=DATE:20250904
DTEND;VALUE=DATE:20250905
DTSTAMP:20260420T142033
CREATED:20250831T211916Z
LAST-MODIFIED:20250831T211916Z
UID:1667-1756944000-1757030399@spotsydems.com
SUMMARY:National Eat an Extra Dessert Day
DESCRIPTION:On a lighter note – enjoy an extra dessert today!!
URL:https://spotsydems.com/event/national-eat-an-extra-dessert-day/
END:VEVENT
BEGIN:VEVENT
DTSTART;TZID=America/New_York:20250904T173000
DTEND;TZID=America/New_York:20250904T193000
DTSTAMP:20260420T142033
CREATED:20250815T175719Z
LAST-MODIFIED:20250815T175719Z
UID:1574-1757007000-1757014200@spotsydems.com
SUMMARY:FXBG Virtual Phone Bank for Democrats
DESCRIPTION:The key to a strong campaign is good conversations with voters! \nJoin us as we phone bank and talk to voters across the area about Joshua Cole\, Abigail Spanberger\, Ghazala Hashmi\, and Jay Jones! \nA laptop is preferred to execute this exciting activity. \nWorried about joining virtually? Connect with our team and you can join us in our office. \nSIGN UP HERE
URL:https://spotsydems.com/event/fxbg-virtual-phone-bank-for-democrats-6/
END:VEVENT
BEGIN:VEVENT
DTSTART;TZID=America/New_York:20250904T173000
DTEND;TZID=America/New_York:20250904T193000
DTSTAMP:20260420T142033
CREATED:20250826T123627Z
LAST-MODIFIED:20250826T123627Z
UID:1635-1757007000-1757014200@spotsydems.com
SUMMARY:Office Volunteers - Coordinated Campaign
DESCRIPTION:Unable to knock doors yourself? \nCome to the Coordinated Campaign Office of candidates Joshua Cole\, Abigail Spanberger\, Ghazala Hashmi\, and Jay Jones to help put together packets of campaign literature so we can have a successful time talking with voters on the weekend! \nSIGN UP HERE
URL:https://spotsydems.com/event/office-volunteers-coordinated-campaign/
END:VEVENT
BEGIN:VEVENT
DTSTART;TZID=America/New_York:20250904T190000
DTEND;TZID=America/New_York:20250904T190000
DTSTAMP:20260420T142033
CREATED:20250903T152125Z
LAST-MODIFIED:20250903T152125Z
UID:1670-1757012400-1757012400@spotsydems.com
SUMMARY:Spotsylvania NAACP Sept Meeting
DESCRIPTION:Mt Zion  Baptist Church \n6030 Harrison Rd
URL:https://spotsydems.com/event/spotsylvania-naacp-sept-meeting/
END:VEVENT
BEGIN:VEVENT
DTSTART;TZID=America/New_York:20250904T190000
DTEND;TZID=America/New_York:20250904T200000
DTSTAMP:20260420T142033
CREATED:20250828T174217Z
LAST-MODIFIED:20250828T174217Z
UID:1647-1757012400-1757016000@spotsydems.com
SUMMARY:Monthly CD 7 Zoom
DESCRIPTION:JOIN HERE
URL:https://spotsydems.com/event/monthly-cd-7-zoom/
END:VEVENT
BEGIN:VEVENT
DTSTART;TZID=America/New_York:20250905T180000
DTEND;TZID=America/New_York:20250905T190000
DTSTAMP:20260420T142033
CREATED:20250826T121656Z
LAST-MODIFIED:20250826T121656Z
UID:1627-1757095200-1757098800@spotsydems.com
SUMMARY:Marcus Garcia Hosted  - Virtual Data Center Town Hall
DESCRIPTION:Virtual Data Center Town Hall    This will be a guest panel discussing the economic and other impacts of data center development in Spotsylvania.   We will have 4-5 guest panelists including Forrest Miller\, FXBG Regional Alliance\, STACK DC rep\, and possibly Spotsy County Planning staff (pending).   Live stream on YouTube.  Link is available on my website (below).  No RSVP necessary for this virtual event. \nwww.marcusgarcia4leehill.com
URL:https://spotsydems.com/event/marcus-garcia-hosted-virtual-data-center-town-hall/
END:VEVENT
BEGIN:VEVENT
DTSTART;TZID=America/New_York:20250906T100000
DTEND;TZID=America/New_York:20250906T100000
DTSTAMP:20260420T142033
CREATED:20250831T204311Z
LAST-MODIFIED:20250903T142751Z
UID:1655-1757152800-1757152800@spotsydems.com
SUMMARY:Canvassing for Marcus Garcia - Lee Hill BOS
DESCRIPTION:2 shifts; 10-1:00 and 2-5:00 \n\nBring your Democrat Family and Friends to help knock on doors for Marcus!\nPlease call Marcus if you have questions\n540-809-2206 \nor John Williams johwilli@gmail.com or 703-944-4949
URL:https://spotsydems.com/event/canvassing-with-marcus-garcia-lee-hill-bos-4/
END:VEVENT
BEGIN:VEVENT
DTSTART;TZID=America/New_York:20250906T100000
DTEND;TZID=America/New_York:20250906T130000
DTSTAMP:20260420T142033
CREATED:20250815T172704Z
LAST-MODIFIED:20250815T172704Z
UID:1556-1757152800-1757163600@spotsydems.com
SUMMARY:Knocking Doors for the Democratic Ticket in Western Spotsy
DESCRIPTION:Please join us to knock on doors and talk to voters about the upcoming election! \nWhether it’s your first time canvassing or this is old hat we need your help! We want to build a community of support around the Commonwealth and we cannot do it without YOU! \nWe will provide training\, all the supplies you’ll need\, snacks\, water and lots of cheerleading! \nSign Up Here
URL:https://spotsydems.com/event/knocking-doors-for-the-democratic-ticket-in-western-spotsy-7/
END:VEVENT
BEGIN:VEVENT
DTSTART;TZID=America/New_York:20250906T100000
DTEND;TZID=America/New_York:20250906T160000
DTSTAMP:20260420T142033
CREATED:20250904T175444Z
LAST-MODIFIED:20250904T175444Z
UID:1694-1757152800-1757174400@spotsydems.com
SUMMARY:Knock Doors for Dems in Spotsy!
DESCRIPTION:Two shifts: \n10:00-1:00 \n1:00-4:00 \nPlease join us to knock on doors and talk to voters about the upcoming election! \nWhether it’s your first time canvassing or this is old hat we need your help! We want to build a community of support around the Commonwealth and we cannot do it without YOU! \nWe will provide training\, all the supplies you’ll need\, snacks\, water and lots of cheerleadin \nSIGN UP HERE
URL:https://spotsydems.com/event/knock-doors-for-dems-in-spotsy/
END:VEVENT
BEGIN:VEVENT
DTSTART;TZID=America/New_York:20250906T170000
DTEND;TZID=America/New_York:20250906T190000
DTSTAMP:20260420T142033
CREATED:20250821T224516Z
LAST-MODIFIED:20250821T224516Z
UID:1592-1757178000-1757185200@spotsydems.com
SUMMARY:Pizza and Trivia Night
DESCRIPTION:RESERVE YOUR SEAT HERE \nJoin us again for a fun night of delicious pizza and trivia at Castiglia’s Restaurant\, 10705 Courthouse Rd.\, Fredericksburg 22408. \n$20 per person. \nNOTE: You will receive an ActBlue Link in your confirmation email to pay for your tickets. Payment is also available at the door via check or credit card. \nReserve your seat today!
URL:https://spotsydems.com/event/pizza-and-trivia-night-3/
END:VEVENT
BEGIN:VEVENT
DTSTART;TZID=America/New_York:20250907T130000
DTEND;TZID=America/New_York:20250907T190000
DTSTAMP:20260420T142033
CREATED:20250815T172813Z
LAST-MODIFIED:20250815T172813Z
UID:1558-1757250000-1757271600@spotsydems.com
SUMMARY:Knocking Doors for the Democratic Ticket in Western Spotsy
DESCRIPTION:Please join us to knock on doors and talk to voters about the upcoming election! \nWhether it’s your first time canvassing or this is old hat we need your help! We want to build a community of support around the Commonwealth and we cannot do it without YOU! \nWe will provide training\, all the supplies you’ll need\, snacks\, water and lots of cheerleading! \nSign Up Here
URL:https://spotsydems.com/event/knocking-doors-for-the-democratic-ticket-in-western-spotsy-8/
END:VEVENT
BEGIN:VEVENT
DTSTART;TZID=America/New_York:20250907T130000
DTEND;TZID=America/New_York:20250907T190000
DTSTAMP:20260420T142033
CREATED:20250904T175620Z
LAST-MODIFIED:20250904T175620Z
UID:1696-1757250000-1757271600@spotsydems.com
SUMMARY:Knock Doors for Dems in Spotsy!
DESCRIPTION:Two shifts: \n1:00-4:00 \n4:00-7:00 \nPlease join us to knock on doors and talk to voters about the upcoming election! \nWhether it’s your first time canvassing or this is old hat we need your help! We want to build a community of support around the Commonwealth and we cannot do it without YOU! \nWe will provide training\, all the supplies you’ll need\, snacks\, water and lots of cheerleading. \nSIGN UP HERE
URL:https://spotsydems.com/event/knock-doors-for-dems-in-spotsy-2/
END:VEVENT
BEGIN:VEVENT
DTSTART;TZID=America/New_York:20250908T173000
DTEND;TZID=America/New_York:20250908T220000
DTSTAMP:20260420T142033
CREATED:20250826T113026Z
LAST-MODIFIED:20250826T113026Z
UID:1599-1757352600-1757368800@spotsydems.com
SUMMARY:Spotsy School Board Mtg
DESCRIPTION:Meeting Information \nThe Spotsylvania County Public School Board meetings begin at 5:30 p.m. in the Board Meeting Room of the Administrative Services Building\, 8020 River Stone Drive\, Fredericksburg\, Virginia. \n  \n  \n  \n 
URL:https://spotsydems.com/event/spotsy-school-board-mtg/
END:VEVENT
BEGIN:VEVENT
DTSTART;TZID=America/New_York:20250909T170000
DTEND;TZID=America/New_York:20250909T200000
DTSTAMP:20260420T142033
CREATED:20250826T115522Z
LAST-MODIFIED:20250826T115522Z
UID:1613-1757437200-1757448000@spotsydems.com
SUMMARY:Spotsy Board of Supervisors Meeting
DESCRIPTION:Board of Supervisors Agendas \n 
URL:https://spotsydems.com/event/spotsy-board-of-supervisors-meeting/
END:VEVENT
BEGIN:VEVENT
DTSTART;TZID=America/New_York:20250911T173000
DTEND;TZID=America/New_York:20250911T193000
DTSTAMP:20260420T142033
CREATED:20250826T123720Z
LAST-MODIFIED:20250826T123720Z
UID:1637-1757611800-1757619000@spotsydems.com
SUMMARY:Office Volunteers - Coordinated Campaign
DESCRIPTION:Unable to knock doors yourself? \nCome to the Coordinated Campaign Office of candidates Joshua Cole\, Abigail Spanberger\, Ghazala Hashmi\, and Jay Jones to help put together packets of campaign literature so we can have a successful time talking with voters on the weekend! \nSIGN UP HERE
URL:https://spotsydems.com/event/office-volunteers-coordinated-campaign-2/
END:VEVENT
BEGIN:VEVENT
DTSTART;TZID=America/New_York:20250912T120000
DTEND;TZID=America/New_York:20250912T180000
DTSTAMP:20260420T142033
CREATED:20250912T195956Z
LAST-MODIFIED:20250912T195956Z
UID:1709-1757678400-1757700000@spotsydems.com
SUMMARY:Coordinated Campaign -  Coat Drive
DESCRIPTION:Last day to donate coats. 12-6 at Cole Campaign HQ in FXBG.
URL:https://spotsydems.com/event/coordinated-campaign-coat-drive/
END:VEVENT
BEGIN:VEVENT
DTSTART;TZID=America/New_York:20250913T100000
DTEND;TZID=America/New_York:20250913T160000
DTSTAMP:20260420T142033
CREATED:20250904T125608Z
LAST-MODIFIED:20250904T125608Z
UID:1677-1757757600-1757779200@spotsydems.com
SUMMARY:Knocking Doors for the Democratic Ticket in Western Spotsy
DESCRIPTION:Two shifts: \n10:00-1:00 \n1:00-4:00 \nPlease join us to knock on doors and talk to voters about the upcoming election! \nWhether it’s your first time canvassing or this is old hat we need your help! We want to build a community of support around the Commonwealth and we cannot do it without YOU! \nWe will provide training\, all the supplies you’ll need\, snacks\, water and lots of cheerleading! \nSIGN UP HERE
URL:https://spotsydems.com/event/knocking-doors-for-the-democratic-ticket-in-western-spotsy-9/
END:VEVENT
BEGIN:VEVENT
DTSTART;TZID=America/New_York:20250913T100000
DTEND;TZID=America/New_York:20250913T160000
DTSTAMP:20260420T142033
CREATED:20250904T175817Z
LAST-MODIFIED:20250904T175817Z
UID:1698-1757757600-1757779200@spotsydems.com
SUMMARY:Knock Doors for Dems in Spotsy!
DESCRIPTION:Two shifts: \n10:00-1:00 \n1:00-4:00 \nPlease join us to knock on doors and talk to voters about the upcoming election! \nWhether it’s your first time canvassing or this is old hat we need your help! We want to build a community of support around the Commonwealth and we cannot do it without YOU! \nWe will provide training\, all the supplies you’ll need\, snacks\, water and lots of cheerleading. \nSIGN UP HERE \n 
URL:https://spotsydems.com/event/knock-doors-for-dems-in-spotsy-3/
END:VEVENT
BEGIN:VEVENT
DTSTART;TZID=America/New_York:20250913T120000
DTEND;TZID=America/New_York:20250913T130000
DTSTAMP:20260420T142033
CREATED:20250913T125605Z
LAST-MODIFIED:20250913T125605Z
UID:1763-1757764800-1757768400@spotsydems.com
SUMMARY:Voter Protection Hotline Training
DESCRIPTION:SIGN UP HERE \nThe Democratic Party of Virginia Coordinated Campaign’s Voter Protection team is working to ensure that every voter has access to the polls and that every vote is counted. To accomplish this\, we need your help! Please join us for one of our trainings to be a hotline volunteer. \nHotline volunteers play a key role in supporting our state-wide hotline by providing callers with important information and assistance throughout Early Voting and on Election Day. Our volunteers directly answer calls and texts received on the hotline and help record important information for our team. Virginia voters call the hotline for a wide variety of reasons – with questions related to voting in Virginia (e.g.\, how to register to vote and where/when to vote)\, reporting incidents on Election Day (e.g.\, long waiting lines\, closed polls\, denial of ballots)\, and everything in between. \nWe will train\, assign\, and support you to make sure that you are as prepared and effective as possible on the hotline. No previous experience is necessary. You do not need to be a Virginia resident or present in the state to volunteer as a hotline volunteer. \nYou must attend at least one training to be a hotline volunteer. \nIf you have any questions\, please contact us at voterprotection@opvavictory.org.
URL:https://spotsydems.com/event/voter-protection-hotline-training/
END:VEVENT
BEGIN:VEVENT
DTSTART;TZID=America/New_York:20250913T160000
DTEND;TZID=America/New_York:20250913T180000
DTSTAMP:20260420T142033
CREATED:20250826T121923Z
LAST-MODIFIED:20250826T121923Z
UID:1629-1757779200-1757786400@spotsydems.com
SUMMARY:4 Alarm Meet & Greet with Garcia and IAFF Local 3866
DESCRIPTION:  This will be at Maltese Brewing Company in the Lee Hill district.     Max participation is requested and there will be members of Spotsylvania County Fire Rescue and Emergency Management (FREM).    This will be a No-Host event.   No RSVP necessary.   Address listed on my website.\nSignup to canvass now\, during GOTV\, and campaign contribution envelopes will be available.\n\nwww.marcusgarcia4leehill.com
URL:https://spotsydems.com/event/4-alarm-meet-greet-with-garcia-and-iaff-local-3866/
END:VEVENT
BEGIN:VEVENT
DTSTART;TZID=America/New_York:20250914T130000
DTEND;TZID=America/New_York:20250914T160000
DTSTAMP:20260420T142033
CREATED:20250826T123037Z
LAST-MODIFIED:20250826T123037Z
UID:1633-1757854800-1757865600@spotsydems.com
SUMMARY:Birthday Bash and Fund Raiser for Nicole  Cole
DESCRIPTION:Nicole Cole\, our candidate for House District 66\, is turning 55 and using this milestone to raise funds for her campaign. The bash will be held downtown at The Griffin on Charles Street (behind Castiglias) and is sure to be one to remember. Get your tickets with the link below. Grab some friends and make it an afternoon of it!! \n  GET TICKETS HERE
URL:https://spotsydems.com/event/birthday-bash-and-fund-raiser-for-nicole-cole/
END:VEVENT
BEGIN:VEVENT
DTSTART;TZID=America/New_York:20250914T130000
DTEND;TZID=America/New_York:20250914T190000
DTSTAMP:20260420T142033
CREATED:20250904T125710Z
LAST-MODIFIED:20250904T125710Z
UID:1679-1757854800-1757876400@spotsydems.com
SUMMARY:Knocking Doors for the Democratic Ticket in Western Spotsy
DESCRIPTION:Two shifts: \n1:00-4:00 \n4:00-7:00 \nPlease join us to knock on doors and talk to voters about the upcoming election! \nWhether it’s your first time canvassing or this is old hat we need your help! We want to build a community of support around the Commonwealth and we cannot do it without YOU! \nWe will provide training\, all the supplies you’ll need\, snacks\, water and lots of cheerleading! \nSIGN UP HERE
URL:https://spotsydems.com/event/knocking-doors-for-the-democratic-ticket-in-western-spotsy-10/
END:VEVENT
BEGIN:VEVENT
DTSTART;TZID=America/New_York:20250914T130000
DTEND;TZID=America/New_York:20250914T190000
DTSTAMP:20260420T142033
CREATED:20250904T175934Z
LAST-MODIFIED:20250904T175934Z
UID:1700-1757854800-1757876400@spotsydems.com
SUMMARY:Knock Doors for Dems in Spotsy!
DESCRIPTION:Two shifts: \n1:00-4:00 \n4:00-7:00 \nPlease join us to knock on doors and talk to voters about the upcoming election! \nWhether it’s your first time canvassing or this is old hat we need your help! We want to build a community of support around the Commonwealth and we cannot do it without YOU! \nWe will provide training\, all the supplies you’ll need\, snacks\, water and lots of cheerleading. \nSIGN UP HERE
URL:https://spotsydems.com/event/knock-doors-for-dems-in-spotsy-4/
END:VEVENT
BEGIN:VEVENT
DTSTART;TZID=America/New_York:20250915T170000
DTEND;TZID=America/New_York:20250915T200000
DTSTAMP:20260420T142033
CREATED:20250826T120840Z
LAST-MODIFIED:20260308T133048Z
UID:1623-1757955600-1757966400@spotsydems.com
SUMMARY:SCDC General Meeting
DESCRIPTION:NOTE SCHEDULE/LOCATION CHANGE. \nJoin us at 5:00 for refreshments and social time. Our meeting starts promptly at 5:30. \nLocation : Salem Church Library \n5- 5:30 Social \n5:30-7:30 Business meeting
URL:https://spotsydems.com/event/scdc-general-meeting-5/
CATEGORIES:General Meeting
END:VEVENT
BEGIN:VEVENT
DTSTART;TZID=America/New_York:20250916T173000
DTEND;TZID=America/New_York:20250916T193000
DTSTAMP:20260420T142033
CREATED:20250913T132823Z
LAST-MODIFIED:20250913T132823Z
UID:1782-1758043800-1758051000@spotsydems.com
SUMMARY:Virtual Phone Bank: Dials for Dems in FXBG\, South Stafford\, & Spotsy
DESCRIPTION:SIGN UP HERE \nThe key to a strong campaign is good conversations with voters! \nJoin us as we phone bank and talk to voters across the area about Joshua Cole\, Abigail Spanberger\, Ghazala Hashmi\, and Jay Jones! \nA laptop is preferred to execute this exciting activity. \nWorried about joining virtually? Connect with our team and you can join us in our office.
URL:https://spotsydems.com/event/virtual-phone-bank-dials-for-dems-in-fxbg-south-stafford-spotsy/
END:VEVENT
BEGIN:VEVENT
DTSTART;TZID=America/New_York:20250916T180000
DTEND;TZID=America/New_York:20250916T190000
DTSTAMP:20260420T142033
CREATED:20250916T180622Z
LAST-MODIFIED:20250916T180622Z
UID:1850-1758045600-1758049200@spotsydems.com
SUMMARY:Spanberger for Governor Message Training: Tell Abigail's Story and Yours!
DESCRIPTION:Learn how to tell Abigail’s story when you are talking to voters! The team will provide you with the necessary tools to help you have effective conversations about Abigail and the issues most important to you.
URL:https://spotsydems.com/event/spanberger-for-governor-message-training-tell-abigails-story-and-yours/
END:VEVENT
BEGIN:VEVENT
DTSTART;TZID=America/New_York:20250916T190000
DTEND;TZID=America/New_York:20250916T201500
DTSTAMP:20260420T142033
CREATED:20250912T203217Z
LAST-MODIFIED:20250912T203217Z
UID:1741-1758049200-1758053700@spotsydems.com
SUMMARY:Poll Observer Training - DPVA
DESCRIPTION:Poll observers are volunteers who have received training to sit inside (or outside) and observe the process of voting in an assigned precinct during early voting or on election day.  The first training provides you with information about procedures and what to look for as an observer. The second training is to prepare you to use the voter protection hotline. \nThis training is a great resource for District Captains\, Precinct Captains\, and volunteers who work the polls\, as well. The links to sign up for live trainings are included below. The link for on-demand trainings will be available in next week’s newsletter. \nPlease sign up using the links below and also send your name to Deb Aldrich \nSign up Here
URL:https://spotsydems.com/event/poll-observer-training-dpva/
END:VEVENT
END:VCALENDAR