BEGIN:VCALENDAR
VERSION:2.0
PRODID:-//Spotsylvania County Democratic Committee - ECPv6.15.20//NONSGML v1.0//EN
CALSCALE:GREGORIAN
METHOD:PUBLISH
X-WR-CALNAME:Spotsylvania County Democratic Committee
X-ORIGINAL-URL:https://spotsydems.com
X-WR-CALDESC:Events for Spotsylvania County Democratic Committee
REFRESH-INTERVAL;VALUE=DURATION:PT1H
X-Robots-Tag:noindex
X-PUBLISHED-TTL:PT1H
BEGIN:VTIMEZONE
TZID:America/New_York
BEGIN:DAYLIGHT
TZOFFSETFROM:-0500
TZOFFSETTO:-0400
TZNAME:EDT
DTSTART:20240310T070000
END:DAYLIGHT
BEGIN:STANDARD
TZOFFSETFROM:-0400
TZOFFSETTO:-0500
TZNAME:EST
DTSTART:20241103T060000
END:STANDARD
BEGIN:DAYLIGHT
TZOFFSETFROM:-0500
TZOFFSETTO:-0400
TZNAME:EDT
DTSTART:20250309T070000
END:DAYLIGHT
BEGIN:STANDARD
TZOFFSETFROM:-0400
TZOFFSETTO:-0500
TZNAME:EST
DTSTART:20251102T060000
END:STANDARD
BEGIN:DAYLIGHT
TZOFFSETFROM:-0500
TZOFFSETTO:-0400
TZNAME:EDT
DTSTART:20260308T070000
END:DAYLIGHT
BEGIN:STANDARD
TZOFFSETFROM:-0400
TZOFFSETTO:-0500
TZNAME:EST
DTSTART:20261101T060000
END:STANDARD
END:VTIMEZONE
BEGIN:VEVENT
DTSTART;TZID=America/New_York:20250802T100000
DTEND;TZID=America/New_York:20250802T130000
DTSTAMP:20260420T092551
CREATED:20250716T154433Z
LAST-MODIFIED:20250716T154433Z
UID:1455-1754128800-1754139600@spotsydems.com
SUMMARY:Knock Doors for the Democratic Ticket and Nicole Cole
DESCRIPTION:SIGN UP HERE
URL:https://spotsydems.com/event/knock-doors-for-the-democratic-ticket-and-nicole-cole-5/
END:VEVENT
BEGIN:VEVENT
DTSTART;TZID=America/New_York:20250801T173000
DTEND;TZID=America/New_York:20250801T183000
DTSTAMP:20260420T092551
CREATED:20250728T121449Z
LAST-MODIFIED:20250728T121449Z
UID:1485-1754069400-1754073000@spotsydems.com
SUMMARY:Learn Tech Programs
DESCRIPTION:Join the Democratic Party of Virginia to learn different tech programs needed to help the campaign! If you want to learn minivan\, open vpb\, or zoom\, join us! \n  \nSIGN UP HERE
URL:https://spotsydems.com/event/learn-tech-programs/
END:VEVENT
BEGIN:VEVENT
DTSTART;TZID=America/New_York:20250801T140000
DTEND;TZID=America/New_York:20250801T150000
DTSTAMP:20260420T092551
CREATED:20250728T123831Z
LAST-MODIFIED:20250728T123831Z
UID:1511-1754056800-1754060400@spotsydems.com
SUMMARY:Message Training: How to Tell Abigail's Story and Yours
DESCRIPTION:SIGN UP HERE \nEvery conversation with a voter is a chance to inspire\, connect\, and move someone to\naction. Join for a virtual message training session where we’ll walk through how to talk\nabout Abigail Spanberger’s story\, why so many of us support her\, and how to share your\nown reasons for being part of this campaign. We’ll cover core messaging\, tips on how to\nconnect with different types of voters\, and how to make your conversations personal\,\nauthentic\, and persuasive.
URL:https://spotsydems.com/event/message-training-how-to-tell-abigails-story-and-yours-8/
END:VEVENT
BEGIN:VEVENT
DTSTART;TZID=America/New_York:20250731T190000
DTEND;TZID=America/New_York:20250731T200000
DTSTAMP:20260420T092551
CREATED:20250728T125042Z
LAST-MODIFIED:20250728T125042Z
UID:1517-1753988400-1753992000@spotsydems.com
SUMMARY:Spanberger Campaign - Digital Engagement Training
DESCRIPTION:Join the Spanberger for Governor team and help us reach out to voters using digital tools!
URL:https://spotsydems.com/event/spanberger-campaign-digital-engagement-training/
END:VEVENT
BEGIN:VEVENT
DTSTART;TZID=America/New_York:20250729T170000
DTEND;TZID=America/New_York:20250729T190000
DTSTAMP:20260420T092551
CREATED:20250618T172352Z
LAST-MODIFIED:20250618T172352Z
UID:1342-1753808400-1753815600@spotsydems.com
SUMMARY:Phone Bank and Text Bank - Spanberger
DESCRIPTION:VIRTUAL    Sign Up Here \nWe’re hosting a virtual phonebank AND textbank session\, and we want you there! Together\, we’ll connect with voters that we missed during canvassing over the weekend weekend. We are committed to showing Virginians we care and we need your help to do that! \nWe’ll provide everything you need—scripts\, tools\, training\, and cheerleading! No experience necessary. Your time will help us build momentum and turn out the vote. \nCome join the team\, take action\, and show voters that Abigail’s campaign is powered by real people fighting for real change. \nLet’s get to work—together. \nWe will be focusing on voters in Prince William County\, Stafford\, and Fredericksburg.
URL:https://spotsydems.com/event/phone-bank-and-text-bank-spanberger-5/
END:VEVENT
BEGIN:VEVENT
DTSTART;TZID=America/New_York:20250728T173000
DTEND;TZID=America/New_York:20250728T210000
DTSTAMP:20260420T092551
CREATED:20250521T182847Z
LAST-MODIFIED:20250521T182847Z
UID:1244-1753723800-1753736400@spotsydems.com
SUMMARY:Spotsylvania School Board Meeting - Work Session
DESCRIPTION:The Spotsylvania County Public School Board meetings begin at 5:30 p.m. in the Board Meeting Room of the Administrative Services Building\, 8020 River Stone Drive\, Fredericksburg\, Virginia \nSpotsylvania School Board
URL:https://spotsydems.com/event/spotsylvania-school-board-meeting-work-session-2/
END:VEVENT
BEGIN:VEVENT
DTSTART;TZID=America/New_York:20250728T080000
DTEND;TZID=America/New_York:20250728T170000
DTSTAMP:20260420T092551
CREATED:20250728T122528Z
LAST-MODIFIED:20250728T122528Z
UID:1495-1753689600-1753722000@spotsydems.com
SUMMARY:Message Training: How to Tell Abigail's Story and Yours
DESCRIPTION:SIGN UP HERE \nEvery conversation with a voter is a chance to inspire\, connect\, and move someone to\naction. Join for a virtual message training session where we’ll walk through how to talk\nabout Abigail Spanberger’s story\, why so many of us support her\, and how to share your\nown reasons for being part of this campaign. We’ll cover core messaging\, tips on how to\nconnect with different types of voters\, and how to make your conversations personal\,\nauthentic\, and persuasive.
URL:https://spotsydems.com/event/message-training-how-to-tell-abigails-story-and-yours-3/
END:VEVENT
BEGIN:VEVENT
DTSTART;TZID=America/New_York:20250727T010000
DTEND;TZID=America/New_York:20250727T190000
DTSTAMP:20260420T092551
CREATED:20250716T154342Z
LAST-MODIFIED:20250716T154342Z
UID:1453-1753578000-1753642800@spotsydems.com
SUMMARY:Knock Doors for the Democratic Ticket and Nicole Cole
DESCRIPTION:SIGN UP HERE
URL:https://spotsydems.com/event/knock-doors-for-the-democratic-ticket-and-nicole-cole-4/
END:VEVENT
BEGIN:VEVENT
DTSTART;TZID=America/New_York:20250726T160000
DTEND;TZID=America/New_York:20250726T180000
DTSTAMP:20260420T092551
CREATED:20250716T160109Z
LAST-MODIFIED:20250716T160109Z
UID:1462-1753545600-1753552800@spotsydems.com
SUMMARY:Fundraiser for Forrest Miller - HD 66
DESCRIPTION:Come meet Forrest Miller\, hear his vision for Virginia and learn how you can support real change in District 63. \nThe Lake of the Woods Democratic Club will sponsor a fund-raising event from 4 to 6 p.m. on Saturday\, July 26 in Marion Pronk Hall at the LOW Community Center\, 110 Sweetbriar Park Road in Locust Grove. \nA donation to the Miller campaign of at least $35 will be required for attendance\, but you are encouraged to give more by clicking the button below. \nWine\, beer and hors d’oeuvres will be served and the candidate will be present to meet with voters and respond to their questions and concerns. \nGET TICKETS
URL:https://spotsydems.com/event/fundraiser-for-forrest-miller-hd-66/
END:VEVENT
BEGIN:VEVENT
DTSTART;TZID=America/New_York:20250726T120000
DTEND;TZID=America/New_York:20250726T140000
DTSTAMP:20260420T092551
CREATED:20250711T144818Z
LAST-MODIFIED:20250711T144818Z
UID:1443-1753531200-1753538400@spotsydems.com
SUMMARY:Phone Bank - Forrest Miller HD 63
DESCRIPTION:Phonebank with us to help elect Forrest Miller in HD-63! \nSIGN UP HERE
URL:https://spotsydems.com/event/phone-bank-forrest-miller-hd-63-2/
END:VEVENT
BEGIN:VEVENT
DTSTART;TZID=America/New_York:20250726T100000
DTEND;TZID=America/New_York:20250726T130000
DTSTAMP:20260420T092551
CREATED:20250716T154241Z
LAST-MODIFIED:20250716T154241Z
UID:1451-1753524000-1753534800@spotsydems.com
SUMMARY:Knock Doors for the Democratic Ticket and Nicole Cole
DESCRIPTION:SIGN UP \nSIGN UP HERE \n 
URL:https://spotsydems.com/event/knock-doors-for-the-democratic-ticket-and-nicole-cole-3/
END:VEVENT
BEGIN:VEVENT
DTSTART;TZID=America/New_York:20250725T180000
DTEND;TZID=America/New_York:20250725T193000
DTSTAMP:20260420T092551
CREATED:20250724T175407Z
LAST-MODIFIED:20250724T175407Z
UID:1482-1753466400-1753471800@spotsydems.com
SUMMARY:Josh Cole Campaign Office Opening
DESCRIPTION:Join the HoD-65 Candidate Joshua Cole for a Birthday Office Opening in Fredericksburg from 6:00-7:30 pm on Friday\, July 25th! We will have hot fudge sundaes and cake for Delegate Cole’s Birthday! \nIf able\, please bring non-perishable goods with you to drop off in order to support the local community! RSVP for the event location. \nREGISTER HERE \n 
URL:https://spotsydems.com/event/josh-cole-campaign-office-opening/
END:VEVENT
BEGIN:VEVENT
DTSTART;TZID=America/New_York:20250723T170000
DTEND;TZID=America/New_York:20250723T190000
DTSTAMP:20260420T092551
CREATED:20250618T172306Z
LAST-MODIFIED:20250716T155124Z
UID:1340-1753290000-1753297200@spotsydems.com
SUMMARY:Phone Bank and Text Bank - Spanberger
DESCRIPTION:VIRTUAL    Sign Up Here \nWe’re hosting a virtual phonebank AND textbank session\, and we want you there! Together\, we’ll connect with voters that we missed during canvassing over the weekend weekend. We are committed to showing Virginians we care and we need your help to do that! \nWe’ll provide everything you need—scripts\, tools\, training\, and cheerleading! No experience necessary. Your time will help us build momentum and turn out the vote. \nCome join the team\, take action\, and show voters that Abigail’s campaign is powered by real people fighting for real change. \nLet’s get to work—together. \nWe will be focusing on voters in Prince William County\, Stafford\, and Fredericksburg.
URL:https://spotsydems.com/event/phone-bank-and-text-bank-spanberger-4/
END:VEVENT
BEGIN:VEVENT
DTSTART;TZID=America/New_York:20250723T170000
DTEND;TZID=America/New_York:20250723T180000
DTSTAMP:20260420T092551
CREATED:20250624T202226Z
LAST-MODIFIED:20250710T140728Z
UID:1396-1753290000-1753293600@spotsydems.com
SUMMARY:Virtual LGBTQ+ Community Discussion
DESCRIPTION:Join your CD1 and CD7 Field Organizer to discuss how we as members of the LGBTQ+ community can organize and get involved to help get Abigail elected. \nWe will chat about what issues we are facing in Virginia\, and how we can stand together and support one another. \nSIGN UP HERE
URL:https://spotsydems.com/event/1396/
END:VEVENT
BEGIN:VEVENT
DTSTART;TZID=America/New_York:20250721T170000
DTEND;TZID=America/New_York:20250721T203000
DTSTAMP:20260420T092551
CREATED:20250618T173440Z
LAST-MODIFIED:20250722T150539Z
UID:1348-1753117200-1753129800@spotsydems.com
SUMMARY:SCDC Monthly Meeting
DESCRIPTION:  \nSocial 5:00 – 6:00 \nMeeting 6:00 – 8:30 \nPark Lane Tavern
URL:https://spotsydems.com/event/scdc-monthly-meeting/
END:VEVENT
BEGIN:VEVENT
DTSTART;TZID=America/New_York:20250720T130000
DTEND;TZID=America/New_York:20250720T190000
DTSTAMP:20260420T092551
CREATED:20250716T154110Z
LAST-MODIFIED:20250716T154128Z
UID:1449-1753016400-1753038000@spotsydems.com
SUMMARY:Knock  Doors for the Democratic Ticket and Nicole Cole
DESCRIPTION:SIGN UP HERE \n 
URL:https://spotsydems.com/event/knock-doors-for-the-democratic-ticket-and-nicole-cole-2/
END:VEVENT
BEGIN:VEVENT
DTSTART;TZID=America/New_York:20250719T160000
DTEND;TZID=America/New_York:20250719T190000
DTSTAMP:20260420T092551
CREATED:20250618T172823Z
LAST-MODIFIED:20250710T140444Z
UID:1344-1752940800-1752951600@spotsydems.com
SUMMARY:SCDC Local Candidate BBQ Fundraiser
DESCRIPTION:BUY YOUR TICKETS NOW! \nBUY TICKETS HERE \nLoriella Park     4:00 – 7:00 pm \n 
URL:https://spotsydems.com/event/hold-the-date-scdc-local-candidate-bbq-fundraiser/
END:VEVENT
BEGIN:VEVENT
DTSTART;TZID=America/New_York:20250719T120000
DTEND;TZID=America/New_York:20250719T140000
DTSTAMP:20260420T092551
CREATED:20250711T144659Z
LAST-MODIFIED:20250711T144659Z
UID:1441-1752926400-1752933600@spotsydems.com
SUMMARY:Phone Bank - Forrest Miller HD 63
DESCRIPTION:Phonebank with us to help elect Forrest Miller in HD-63! \nSIGN UP HERE \n 
URL:https://spotsydems.com/event/phone-bank-forrest-miller-hd-63/
END:VEVENT
BEGIN:VEVENT
DTSTART;TZID=America/New_York:20250719T100000
DTEND;TZID=America/New_York:20250719T130000
DTSTAMP:20260420T092551
CREATED:20250716T153923Z
LAST-MODIFIED:20250716T153923Z
UID:1447-1752919200-1752930000@spotsydems.com
SUMMARY:Knock Doors for the Democratic Ticket and Nicole Cole
DESCRIPTION:Please join us to knock on doors and talk to voters about the upcoming election! \nWhether it’s your first time canvassing or this is old hat we need your help! We want to build a community of support around the Commonwealth and we cannot do it without YOU! \nWe will provide training\, all the supplies you’ll need\, snacks\, water and lots of cheerleading! \nSIGN UP HERE
URL:https://spotsydems.com/event/knock-doors-for-the-democratic-ticket-and-nicole-cole/
END:VEVENT
BEGIN:VEVENT
DTSTART;TZID=America/New_York:20250717T180000
DTEND;TZID=America/New_York:20250717T200000
DTSTAMP:20260420T092551
CREATED:20250618T173008Z
LAST-MODIFIED:20250711T144911Z
UID:1346-1752775200-1752782400@spotsydems.com
SUMMARY:Protest Rally - Good Trouble Lives On
DESCRIPTION:6:00-8:00 pm \n  \nCorner of William and Blue Gray Parkway
URL:https://spotsydems.com/event/john-lewis-make-good-trouble-protest/
END:VEVENT
BEGIN:VEVENT
DTSTART;TZID=America/New_York:20250715T170000
DTEND;TZID=America/New_York:20250715T190000
DTSTAMP:20260420T092551
CREATED:20250618T172139Z
LAST-MODIFIED:20250618T172139Z
UID:1338-1752598800-1752606000@spotsydems.com
SUMMARY:Phone Bank and Text Bank - Spanberger
DESCRIPTION:VIRTUAL    Sign Up Here \nWe’re hosting a virtual phonebank AND textbank session\, and we want you there! Together\, we’ll connect with voters that we missed during canvassing over the weekend weekend. We are committed to showing Virginians we care and we need your help to do that! \nWe’ll provide everything you need—scripts\, tools\, training\, and cheerleading! No experience necessary. Your time will help us build momentum and turn out the vote. \nCome join the team\, take action\, and show voters that Abigail’s campaign is powered by real people fighting for real change. \nLet’s get to work—together. \nWe will be focusing on voters in Prince William County\, Stafford\, and Fredericksburg.
URL:https://spotsydems.com/event/phone-bank-and-text-bank-spanberger-3/
END:VEVENT
BEGIN:VEVENT
DTSTART;TZID=America/New_York:20250714T173000
DTEND;TZID=America/New_York:20250714T210000
DTSTAMP:20260420T092551
CREATED:20250521T182654Z
LAST-MODIFIED:20250521T182654Z
UID:1242-1752514200-1752526800@spotsydems.com
SUMMARY:Spotsylvania School Board Meeting
DESCRIPTION:The Spotsylvania County Public School Board meetings begin at 5:30 p.m. in the Board Meeting Room of the Administrative Services Building\, 8020 River Stone Drive\, Fredericksburg\, Virginia \nSpotsylvania School Board
URL:https://spotsydems.com/event/spotsylvania-school-board-meeting-5/
END:VEVENT
BEGIN:VEVENT
DTSTART;TZID=America/New_York:20250713T130000
DTEND;TZID=America/New_York:20250713T150000
DTSTAMP:20260420T092551
CREATED:20250702T141516Z
LAST-MODIFIED:20250702T141516Z
UID:1408-1752411600-1752418800@spotsydems.com
SUMMARY:Pink and Green Canvas Takeover for Nicole Cole - HD 66
DESCRIPTION:SIGN UP HERE \nJoin Nicole Cole and her team July 12 and 13 for a Pink and Green Weekend of Action as we work to make a difference in our community. \nWhat We’re Doing: Our P&G Weekend of Action will focus on direct voter outreach through canvassing neighborhoods to connect with voters. Join us to introduce voters to Nicole and to share her message and priorities for HD 66! \nRemember to proudly wear Pink and Green to show your support for Nicole and her embodiment of the spirit and mission of fostering progress! \nWhy Nicole Needs You:\nEvery conversation we have\, every door we knock\, and every phone call we make brings Nicole closer to victory. Your participation this weekend could directly impact the outcome of this election and help ensure our community has strong representation. \nWhat We Provide Complete training for all activities \nAll necessary materials and supplies \nSnacks and refreshments throughout the day \nTransportation to canvassing locations \nA supportive team environment
URL:https://spotsydems.com/event/pink-and-green-canvas-takeover-for-nicole-cole-hd-66/
END:VEVENT
BEGIN:VEVENT
DTSTART;TZID=America/New_York:20250712T120000
DTEND;TZID=America/New_York:20250712T140000
DTSTAMP:20260420T092551
CREATED:20250711T140050Z
LAST-MODIFIED:20250711T144120Z
UID:1439-1752321600-1752328800@spotsydems.com
SUMMARY:Phone Bank  - Forrest Miller for HD 63
DESCRIPTION:Phonebank with us to help elect Forrest Miller in HD-63! \nJoin from anywhere. \nSIGN UP HERE
URL:https://spotsydems.com/event/phone-bank-forrest-miller-for-hd-63/
END:VEVENT
BEGIN:VEVENT
DTSTART;TZID=America/New_York:20250712T110000
DTEND;TZID=America/New_York:20250712T140000
DTSTAMP:20260420T092551
CREATED:20250702T141325Z
LAST-MODIFIED:20250707T171439Z
UID:1406-1752318000-1752328800@spotsydems.com
SUMMARY:Pink and Green Canvass Takeover for Nicole Cole - HD 66
DESCRIPTION:SIGN UP HERE \nJoin Nicole Cole and her team July 12 and 13 for a Pink and Green Weekend of Action as we work to make a difference in our community. \nWhat We’re Doing: Our P&G Weekend of Action will focus on direct voter outreach through canvassing neighborhoods to connect with voters. Join us to introduce voters to Nicole and to share her message and priorities for HD 66! \nRemember to proudly wear Pink and Green to show your support for Nicole and her embodiment of the spirit and mission of fostering progress! \nWhy Nicole Needs You:\nEvery conversation we have\, every door we knock\, and every phone call we make brings Nicole closer to victory. Your participation this weekend could directly impact the outcome of this election and help ensure our community has strong representation. \nWhat We Provide Complete training for all activities \nAll necessary materials and supplies \nSnacks and refreshments throughout the day \nTransportation to canvassing locations \nA supportive team environment
URL:https://spotsydems.com/event/pink-and-green-canvass-takeover-for-nicole-cole-hd-66/
END:VEVENT
BEGIN:VEVENT
DTSTART;TZID=America/New_York:20250712T100000
DTEND;TZID=America/New_York:20250712T160000
DTSTAMP:20260420T092551
CREATED:20250624T201737Z
LAST-MODIFIED:20250624T201737Z
UID:1392-1752314400-1752336000@spotsydems.com
SUMMARY:Canvassing for Spanberger
DESCRIPTION:Join us to knock doors for Abigail Spanberger! We will train you to have high-quality engagement conversations with voters to spread our message. \n10:00 – 1::00 and 1:00-4:00 \nWe look forward to spreading the word about Abigail with you. Bring a friend! \nSIGN UP HERE
URL:https://spotsydems.com/event/canvassing-for-spanberger-16/
END:VEVENT
BEGIN:VEVENT
DTSTART;TZID=America/New_York:20250710T190000
DTEND;TZID=America/New_York:20250710T203000
DTSTAMP:20260420T092551
CREATED:20250708T134326Z
LAST-MODIFIED:20250708T134326Z
UID:1430-1752174000-1752179400@spotsydems.com
SUMMARY:Call to Action - Federal Budget Briefing
DESCRIPTION:Emergency Federal Budget Briefing: The Impact of the Republican House Budget Resolution on Virginia\nThe Republicans are trying to use the budget process to radically restructure our government. This briefing will describe the Republican plans for taxes\, Medicaid\, education\, nutrition\, and the Federal workforce. It will provide the information you need to explain the impact of Republican budget proposals as you campaign and have conversations with friends and neighbors.\nRSVP Here
URL:https://spotsydems.com/event/call-to-action-federal-budget-briefing/
END:VEVENT
BEGIN:VEVENT
DTSTART;TZID=America/New_York:20250710T190000
DTEND;TZID=America/New_York:20250710T190000
DTSTAMP:20260420T092551
CREATED:20250619T191229Z
LAST-MODIFIED:20250619T191416Z
UID:1356-1752174000-1752174000@spotsydems.com
SUMMARY:Spotsylvania NAACP Meeting - NOTE Date Change
DESCRIPTION:Mt. Zion Baptist Church\n6030 Harrison Road\nFredericksburg\, VA 22407\nFor more information\, call Moe Petway\, President at 540-847-7637
URL:https://spotsydems.com/event/spotsylvania-naacp-meeting-note-date-change/
END:VEVENT
BEGIN:VEVENT
DTSTART;TZID=America/New_York:20250709T170000
DTEND;TZID=America/New_York:20250709T180000
DTSTAMP:20260420T092551
CREATED:20250624T202134Z
LAST-MODIFIED:20250624T202134Z
UID:1394-1752080400-1752084000@spotsydems.com
SUMMARY:Virtual LGBTQ+ Community Discussion
DESCRIPTION:Join your CD1 and CD7 Field Organizer to discuss how we as members of the LGBTQ+ community can organize and get involved to help get Abigail elected. \nWe will chat about what issues we are facing in Virginia\, and how we can stand together and support one another. \nSIGN UP HERE
URL:https://spotsydems.com/event/virtual-lgbtq-community-discussion/
END:VEVENT
BEGIN:VEVENT
DTSTART;TZID=America/New_York:20250708T170000
DTEND;TZID=America/New_York:20250708T190000
DTSTAMP:20260420T092551
CREATED:20250618T172052Z
LAST-MODIFIED:20250618T172052Z
UID:1336-1751994000-1752001200@spotsydems.com
SUMMARY:Phone bank and Text Bank - Spanberger
DESCRIPTION:VIRTUAL    Sign Up Here \nWe’re hosting a virtual phonebank AND textbank session\, and we want you there! Together\, we’ll connect with voters that we missed during canvassing over the weekend weekend. We are committed to showing Virginians we care and we need your help to do that! \nWe’ll provide everything you need—scripts\, tools\, training\, and cheerleading! No experience necessary. Your time will help us build momentum and turn out the vote. \nCome join the team\, take action\, and show voters that Abigail’s campaign is powered by real people fighting for real change. \nLet’s get to work—together. \nWe will be focusing on voters in Prince William County\, Stafford\, and Fredericksburg.
URL:https://spotsydems.com/event/phone-bank-and-text-bank-spanberger-2/
END:VEVENT
END:VCALENDAR