BEGIN:VCALENDAR
VERSION:2.0
PRODID:-//Spotsylvania County Democratic Committee - ECPv6.15.20//NONSGML v1.0//EN
CALSCALE:GREGORIAN
METHOD:PUBLISH
X-WR-CALNAME:Spotsylvania County Democratic Committee
X-ORIGINAL-URL:https://spotsydems.com
X-WR-CALDESC:Events for Spotsylvania County Democratic Committee
REFRESH-INTERVAL;VALUE=DURATION:PT1H
X-Robots-Tag:noindex
X-PUBLISHED-TTL:PT1H
BEGIN:VTIMEZONE
TZID:America/New_York
BEGIN:DAYLIGHT
TZOFFSETFROM:-0500
TZOFFSETTO:-0400
TZNAME:EDT
DTSTART:20230312T070000
END:DAYLIGHT
BEGIN:STANDARD
TZOFFSETFROM:-0400
TZOFFSETTO:-0500
TZNAME:EST
DTSTART:20231105T060000
END:STANDARD
BEGIN:DAYLIGHT
TZOFFSETFROM:-0500
TZOFFSETTO:-0400
TZNAME:EDT
DTSTART:20240310T070000
END:DAYLIGHT
BEGIN:STANDARD
TZOFFSETFROM:-0400
TZOFFSETTO:-0500
TZNAME:EST
DTSTART:20241103T060000
END:STANDARD
BEGIN:DAYLIGHT
TZOFFSETFROM:-0500
TZOFFSETTO:-0400
TZNAME:EDT
DTSTART:20250309T070000
END:DAYLIGHT
BEGIN:STANDARD
TZOFFSETFROM:-0400
TZOFFSETTO:-0500
TZNAME:EST
DTSTART:20251102T060000
END:STANDARD
END:VTIMEZONE
BEGIN:VEVENT
DTSTART;TZID=America/New_York:20240318T183000
DTEND;TZID=America/New_York:20240318T203000
DTSTAMP:20260421T162007
CREATED:20240226T214752Z
LAST-MODIFIED:20240316T231729Z
UID:191-1710786600-1710793800@spotsydems.com
SUMMARY:March General Meeting
DESCRIPTION:Agenda 03 18 2024.docx \nRSVP at https://www.mobilize.us/scdc/event/608754/
URL:https://spotsydems.com/event/march-general-meeting/
LOCATION:Salem Church Library\, 2607 Salem Church Road\,\, FREDERICKSBURG\, VA\, 22407
END:VEVENT
BEGIN:VEVENT
DTSTART;TZID=America/New_York:20240309T160000
DTEND;TZID=America/New_York:20240309T190000
DTSTAMP:20260421T162007
CREATED:20240131T015500Z
LAST-MODIFIED:20240225T205527Z
UID:152-1710000000-1710010800@spotsydems.com
SUMMARY:Blue Gala Poluck and Silent Auction
DESCRIPTION:Let us know you are coming!! \nhttps://www.mobilize.us/scdc/event/605100/ \n \nSILENT AUCTION INFORMATION\nOn March 9th \, everyone will be given a number to use instead of your name. No one\nknows who you are bidding against. We have some great things and you can get a\nreally good deal. On some of the more expensive items\, we do have a minimum bid.\nOtherwise\, feel free to bid what you can. The following is a list of some of the items and\ntheir values : \n\nAkido Lessons One month of free lessons &amp; free registration…Adult or child. Value\n$150\nVintage Hummel Figurines from Germany Value $35.00 each\nLLadro Figurine Value $60 to 75.00\nGift Basket Spaghetti Sauce\, Spaghetti\, Red Wine\, bowl. Value $40.00\nGift Basket with large candle that has 4 wicks Value $20.00\nSharper Image Electric Wine Opener In Box Value $25.00\nQuadraCopter Drone with HD Video Recorder Value $100\nWater color painting with good frame Value $85.00\nCoach Backpack new with price tags (Woman’s Black) Value $200\n30 Inch TV with Firestick Value $70.00\nShelves (4) 35 by 2 (Woodgrain) $40 Marble Small Box Value $150\nSamurai Helmet (Japanese Souvenir) Value $50\nNissan Electric Vehicle Car Charger (several years old) Value $259\nCrate & Barrel Martini Glasses (set of 4) $28.00\, Brandy Snifters (2) Value $15\n\nMINIMUM BIDS \n\nObama Inauguration Souvenir Value $250 Min Bid $100\nFramed Photo by noted photographer Eduardo Giles Value $450 MinBid $200\nWE ALSO HAVE LAMPS\, JEWELRY\, OLDER LAPTOP\, DINING ROOM TABLE\n(SEATS 10) AND SMALL TEAK FILE CABINET\, OTHER GIFT BASKETS\, ETC. More\ncoming in.\n\n 
URL:https://spotsydems.com/event/gala-pot-luck-and-silent-auction/
CATEGORIES:Social/Fundraiser
END:VEVENT
BEGIN:VEVENT
DTSTART;TZID=America/New_York:20240222T080000
DTEND;TZID=America/New_York:20240222T170000
DTSTAMP:20260421T162007
CREATED:20240209T224947Z
LAST-MODIFIED:20240218T163749Z
UID:160-1708588800-1708621200@spotsydems.com
SUMMARY:VA Democratic Party Legislative Day
DESCRIPTION:RSVP: https://vademocrats.us14.list-manage.com/track/click?u=5fd164a83ef5cca93363f659e&id=273da41228&e=0b3765f646
URL:https://spotsydems.com/event/va-democratic-party-legislative-day/
LOCATION:Virginia General Assembly Building\, 201 N 9th St\, Richmond\, VA\, 23219\, United States
CATEGORIES:DPVA Event
END:VEVENT
BEGIN:VEVENT
DTSTART;TZID=America/New_York:20240219T183000
DTEND;TZID=America/New_York:20240219T203000
DTSTAMP:20260421T162007
CREATED:20240209T224326Z
LAST-MODIFIED:20240218T163811Z
UID:155-1708367400-1708374600@spotsydems.com
SUMMARY:February General Meeting
DESCRIPTION:February General Meeting \nAgenda TBD
URL:https://spotsydems.com/event/february-2023-general-meeting/
LOCATION:Vinny’s Italian Grill and Pizzeria\, 11105 Leavells Rd #5087\, Fredericksburg\, Virginia\, 22407\, United States
CATEGORIES:General Meeting
END:VEVENT
BEGIN:VEVENT
DTSTART;TZID=America/New_York:20240116T183000
DTEND;TZID=America/New_York:20240116T203000
DTSTAMP:20260421T162007
CREATED:20240115T214303Z
LAST-MODIFIED:20240115T214423Z
UID:140-1705429800-1705437000@spotsydems.com
SUMMARY:General Meeting January 2023
DESCRIPTION:January General Meeting \nAgenda 01 16 2024 \n 
URL:https://spotsydems.com/event/general-meeting-january-2023/
LOCATION:Vinny’s Italian Grill and Pizzeria\, 11105 Leavells Rd #5087\, Fredericksburg\, Virginia\, 22407\, United States
CATEGORIES:General Meeting
END:VEVENT
END:VCALENDAR