BEGIN:VCALENDAR
VERSION:2.0
PRODID:-//Spotsylvania County Democratic Committee - ECPv6.15.20//NONSGML v1.0//EN
CALSCALE:GREGORIAN
METHOD:PUBLISH
X-WR-CALNAME:Spotsylvania County Democratic Committee
X-ORIGINAL-URL:https://spotsydems.com
X-WR-CALDESC:Events for Spotsylvania County Democratic Committee
REFRESH-INTERVAL;VALUE=DURATION:PT1H
X-Robots-Tag:noindex
X-PUBLISHED-TTL:PT1H
BEGIN:VTIMEZONE
TZID:America/New_York
BEGIN:DAYLIGHT
TZOFFSETFROM:-0500
TZOFFSETTO:-0400
TZNAME:EDT
DTSTART:20230312T070000
END:DAYLIGHT
BEGIN:STANDARD
TZOFFSETFROM:-0400
TZOFFSETTO:-0500
TZNAME:EST
DTSTART:20231105T060000
END:STANDARD
BEGIN:DAYLIGHT
TZOFFSETFROM:-0500
TZOFFSETTO:-0400
TZNAME:EDT
DTSTART:20240310T070000
END:DAYLIGHT
BEGIN:STANDARD
TZOFFSETFROM:-0400
TZOFFSETTO:-0500
TZNAME:EST
DTSTART:20241103T060000
END:STANDARD
BEGIN:DAYLIGHT
TZOFFSETFROM:-0500
TZOFFSETTO:-0400
TZNAME:EDT
DTSTART:20250309T070000
END:DAYLIGHT
BEGIN:STANDARD
TZOFFSETFROM:-0400
TZOFFSETTO:-0500
TZNAME:EST
DTSTART:20251102T060000
END:STANDARD
BEGIN:DAYLIGHT
TZOFFSETFROM:-0500
TZOFFSETTO:-0400
TZNAME:EDT
DTSTART:20260308T070000
END:DAYLIGHT
BEGIN:STANDARD
TZOFFSETFROM:-0400
TZOFFSETTO:-0500
TZNAME:EST
DTSTART:20261101T060000
END:STANDARD
END:VTIMEZONE
BEGIN:VEVENT
DTSTART;TZID=America/New_York:20250125T100000
DTEND;TZID=America/New_York:20250125T160000
DTSTAMP:20260421T125354
CREATED:20250124T183902Z
LAST-MODIFIED:20250124T183940Z
UID:640-1737799200-1737820800@spotsydems.com
SUMMARY:Nicole Cole Petition Drive
DESCRIPTION:Location:\n\n\n6300 Sweetbriar Dr\nFredericksburg\, VA 22407\nSIGN UP HERE
URL:https://spotsydems.com/event/nicole-cole-petition-drive-2/
END:VEVENT
BEGIN:VEVENT
DTSTART;TZID=America/New_York:20250124T120000
DTEND;TZID=America/New_York:20250124T120000
DTSTAMP:20260421T125354
CREATED:20250108T150656Z
LAST-MODIFIED:20250108T150757Z
UID:604-1737720000-1737720000@spotsydems.com
SUMMARY:Nova Network Power Lunch
DESCRIPTION:Every Friday at Noon \nSign Up HERE
URL:https://spotsydems.com/event/nova-network-power-lunch-2/
LOCATION:ZOOM
END:VEVENT
BEGIN:VEVENT
DTSTART;TZID=America/New_York:20250122T193000
DTEND;TZID=America/New_York:20250122T193000
DTSTAMP:20260421T125354
CREATED:20250116T135525Z
LAST-MODIFIED:20250116T135525Z
UID:630-1737574200-1737574200@spotsydems.com
SUMMARY:VA Women's Caucus
DESCRIPTION:We are excited to invite you to the first meeting of the New Year for the Virginia Women’s Democratic Caucus! This gathering marks the beginning of a momentous year\, and we have a lot of ground to cover. \nRSVP HERE
URL:https://spotsydems.com/event/va-womens-caucus/
LOCATION:ZOOM
END:VEVENT
BEGIN:VEVENT
DTSTART;TZID=America/New_York:20250122T190000
DTEND;TZID=America/New_York:20250122T190000
DTSTAMP:20260421T125354
CREATED:20250116T134430Z
LAST-MODIFIED:20250116T134625Z
UID:624-1737572400-1737572400@spotsydems.com
SUMMARY:UMW MLK Celebration
DESCRIPTION:Keynote Speaker – Derrick Johnson \nUniversity of Mary Washington \nChandler Ballroom C \nCedric Rucker University Center
URL:https://spotsydems.com/event/uwm-mlk-celebration/
END:VEVENT
BEGIN:VEVENT
DTSTART;TZID=America/New_York:20250120T130000
DTEND;TZID=America/New_York:20250120T140000
DTSTAMP:20260421T125354
CREATED:20241214T151656Z
LAST-MODIFIED:20241214T151656Z
UID:559-1737378000-1737381600@spotsydems.com
SUMMARY:Spotsylvania NAACP MLK Bridge Walk
DESCRIPTION:Join the walk at the MLK Bridge (Fall Hill Avenue bridge over I95) \nParking and meeting location to follow at a later time.
URL:https://spotsydems.com/event/spotsylvania-naacp-mlk-bridge-walk/
END:VEVENT
BEGIN:VEVENT
DTSTART;TZID=America/New_York:20250120T090000
DTEND;TZID=America/New_York:20250120T120000
DTSTAMP:20260421T125354
CREATED:20241214T150154Z
LAST-MODIFIED:20241214T150154Z
UID:552-1737363600-1737374400@spotsydems.com
SUMMARY:Spotsylvania Sunday School Union MLK Breakfast
DESCRIPTION:TICKETS:  $25/adult  $10/student \nGuest Speaker: Pastor Moe Petway\, Spotsylvania NAACP President
URL:https://spotsydems.com/event/spotsylvania-sunday-school-union-mlk-breakfast/
LOCATION:River Club Church\, 10835 Tidewater Trail\, FREDERICKSBURG\, VA\, 22408
END:VEVENT
BEGIN:VEVENT
DTSTART;TZID=America/New_York:20250118T110000
DTEND;TZID=America/New_York:20250118T110000
DTSTAMP:20260421T125354
CREATED:20250116T134932Z
LAST-MODIFIED:20250116T134932Z
UID:627-1737198000-1737198000@spotsydems.com
SUMMARY:Nicole Cole Petition Drive
DESCRIPTION:RSVP HERE
URL:https://spotsydems.com/event/nicole-cole-petition-drive/
END:VEVENT
BEGIN:VEVENT
DTSTART;VALUE=DATE:20250118
DTEND;VALUE=DATE:20250119
DTSTAMP:20260421T125354
CREATED:20250116T133923Z
LAST-MODIFIED:20250116T133923Z
UID:621-1737158400-1737244799@spotsydems.com
SUMMARY:People's March
DESCRIPTION:If you are looking for a way to unite\, march and strengthen your resolve going into the next administration\, the People’s March this Saturday may be up your alley. The primary march is in DC but there will also be one in Richmond. \n  \n\n\n\n\n\n\n\n\n\n\n\n\n\nMarch in Washington DC \nRegister HERE \n\n\n\n\n\n\n\n\n\n\n\n\n\n\n\n\n\n\n\n\nMarch in Richmond \nRegister Here
URL:https://spotsydems.com/event/peoples-march/
END:VEVENT
BEGIN:VEVENT
DTSTART;TZID=America/New_York:20250117T120000
DTEND;TZID=America/New_York:20250117T120000
DTSTAMP:20260421T125354
CREATED:20250108T150405Z
LAST-MODIFIED:20250108T150405Z
UID:602-1737115200-1737115200@spotsydems.com
SUMMARY:NOVA Network Power Lunch
DESCRIPTION:Every Friday at Noon \nSign Up HERE
URL:https://spotsydems.com/event/nova-network-power-lunch/
LOCATION:ZOOM
END:VEVENT
BEGIN:VEVENT
DTSTART;TZID=America/New_York:20250114T170000
DTEND;TZID=America/New_York:20250114T170000
DTSTAMP:20260421T125354
CREATED:20250108T152457Z
LAST-MODIFIED:20250108T152457Z
UID:613-1736874000-1736874000@spotsydems.com
SUMMARY:Spotsylvania Board of Supervisors Meeting
DESCRIPTION:9104 Courthouse Road\, Spotsylvania\, VA  22553 \nMeeting begins at 5:00
URL:https://spotsydems.com/event/spotsylvania-board-of-supervisors-meeting/
END:VEVENT
BEGIN:VEVENT
DTSTART;TZID=America/New_York:20250113T190000
DTEND;TZID=America/New_York:20250113T190000
DTSTAMP:20260421T125354
CREATED:20250108T151920Z
LAST-MODIFIED:20250108T152201Z
UID:610-1736794800-1736794800@spotsydems.com
SUMMARY:Spotsylvania School Board Meeting
DESCRIPTION:8020 River Stone Drive\, Fredericksburg\, VA \nMeeting begins at 5:30 but public portion won’t begin before 7 PM
URL:https://spotsydems.com/event/spotsylvania-school-board-meeting/
END:VEVENT
BEGIN:VEVENT
DTSTART;TZID=America/New_York:20250113T173000
DTEND;TZID=America/New_York:20250113T200000
DTSTAMP:20260421T125354
CREATED:20241214T144808Z
LAST-MODIFIED:20260308T133049Z
UID:546-1736789400-1736798400@spotsydems.com
SUMMARY:Vice Chair Election/January General Meeting
DESCRIPTION:This meeting has been moved from the morning of the 11th to the evening of the 13th. \n5:30-6:30 – Vice Chair Election\n6:30-8:00 – General Meeting
URL:https://spotsydems.com/event/january-general-meeting/
LOCATION:Snow Library\, 8740 Courthouse Rd\, Spotsylvania Courthouse\, VA\, 22553\, United States
CATEGORIES:General Meeting
END:VEVENT
BEGIN:VEVENT
DTSTART;TZID=America/New_York:20250110T120000
DTEND;TZID=America/New_York:20250110T120000
DTSTAMP:20260421T125354
CREATED:20250108T150229Z
LAST-MODIFIED:20250108T150229Z
UID:600-1736510400-1736510400@spotsydems.com
SUMMARY:Network NOVA Power Lunch
DESCRIPTION:Every Friday at Noon \nSign Up HERE
URL:https://spotsydems.com/event/network-nova-power-lunch/
LOCATION:ZOOM
END:VEVENT
BEGIN:VEVENT
DTSTART;TZID=America/New_York:20250107T190000
DTEND;TZID=America/New_York:20250107T190000
DTSTAMP:20260421T125354
CREATED:20241218T152016Z
LAST-MODIFIED:20241218T152016Z
UID:584-1736276400-1736276400@spotsydems.com
SUMMARY:Rural Caucus Strategy Planning
DESCRIPTION:Register HERE \n 
URL:https://spotsydems.com/event/rural-caucus-strategy-planning/
LOCATION:ZOOM
END:VEVENT
BEGIN:VEVENT
DTSTART;TZID=America/New_York:20250103T180000
DTEND;TZID=America/New_York:20250103T200000
DTSTAMP:20260421T125354
CREATED:20241229T185700Z
LAST-MODIFIED:20241229T185700Z
UID:591-1735927200-1735934400@spotsydems.com
SUMMARY:VA House District Campaign Kickoff
DESCRIPTION:Join Del Joshua Cole and Hon. Nicole Cole (no relation) for a kickoff event for their campaigns for the 65th and 66th VA House District seats. They will be joined by Speaker Don Scott and Sen. Jennifer Carroll-Foy. \nPimenta\n1108 Caroline St\nFredericksburg\, VA 22401\nRSVP HERE \n 
URL:https://spotsydems.com/event/va-house-district-campaign-kickoff/
LOCATION:Pimenta\, 1108 Caroline St\, FREDERICKSBURG\, VA\, 22401
END:VEVENT
BEGIN:VEVENT
DTSTART;TZID=America/New_York:20250103T173000
DTEND;TZID=America/New_York:20250103T173000
DTSTAMP:20260421T125354
CREATED:20241218T151605Z
LAST-MODIFIED:20241218T151605Z
UID:580-1735925400-1735925400@spotsydems.com
SUMMARY:Vindman Swearing-In Ceremony
DESCRIPTION:RSVP HERE \n 
URL:https://spotsydems.com/event/vindman-swearing-in-ceremony/
LOCATION:Washington\, DC
END:VEVENT
BEGIN:VEVENT
DTSTART;TZID=America/New_York:20241221T190000
DTEND;TZID=America/New_York:20241221T200000
DTSTAMP:20260421T125354
CREATED:20241218T150844Z
LAST-MODIFIED:20241218T150844Z
UID:574-1734807600-1734811200@spotsydems.com
SUMMARY:Ballot Access Training
DESCRIPTION:Register HERE \nThese virtual trainings will inform attendees on the dates\, deadlines\, and general roadmap to make their way on the ballot in Virginia in 2025. \nFind out what you need to know to become a candidate\, and extend the invite to folks who are ready to do the next right step for their community!
URL:https://spotsydems.com/event/ballot-access-training-2/
LOCATION:ZOOM
END:VEVENT
BEGIN:VEVENT
DTSTART;TZID=America/New_York:20241221T093000
DTEND;TZID=America/New_York:20241221T113000
DTSTAMP:20260421T125354
CREATED:20241212T130057Z
LAST-MODIFIED:20241212T130057Z
UID:543-1734773400-1734780600@spotsydems.com
SUMMARY:December General  Meeting - Holiday Party
DESCRIPTION:
URL:https://spotsydems.com/event/december-general-meeting-holiday-party/
LOCATION:Salem Church Library\, 2607 Salem Church Road\,\, FREDERICKSBURG\, VA\, 22407
END:VEVENT
BEGIN:VEVENT
DTSTART;TZID=America/New_York:20241218T190000
DTEND;TZID=America/New_York:20241218T200000
DTSTAMP:20260421T125354
CREATED:20241218T150428Z
LAST-MODIFIED:20241218T150428Z
UID:566-1734548400-1734552000@spotsydems.com
SUMMARY:Ballot Access Training
DESCRIPTION:Register HERE \nThese virtual trainings will inform attendees on the dates\, deadlines\, and general roadmap to make their way on the ballot in Virginia in 2025. \nFind out what you need to know to become a candidate\, and extend the invite to folks who are ready to do the next right step for their community!
URL:https://spotsydems.com/event/ballot-access-training/
END:VEVENT
BEGIN:VEVENT
DTSTART;TZID=America/New_York:20241118T180000
DTEND;TZID=America/New_York:20241118T200000
DTSTAMP:20260421T125354
CREATED:20240729T233446Z
LAST-MODIFIED:20260308T133049Z
UID:401-1731952800-1731960000@spotsydems.com
SUMMARY:November General Meeting
DESCRIPTION:General Meeting for November will be at Salem Church Library from 6-8 PM. \nAgenda will be attached closer to meeting.
URL:https://spotsydems.com/event/november-general-meeting/
LOCATION:Salem Church Library\, 2607 Salem Church Road\,\, FREDERICKSBURG\, VA\, 22407
CATEGORIES:General Meeting
END:VEVENT
BEGIN:VEVENT
DTSTART;TZID=America/New_York:20241021T180000
DTEND;TZID=America/New_York:20241021T200000
DTSTAMP:20260421T125354
CREATED:20240729T233330Z
LAST-MODIFIED:20260308T133050Z
UID:399-1729533600-1729540800@spotsydems.com
SUMMARY:October General Meeting
DESCRIPTION:General Meeting for October will be at Snow Branch Library from 6-8 PM. \nAgenda will be attached closer to meeting.
URL:https://spotsydems.com/event/october-general-meeting/
LOCATION:Snow Library\, 8740 Courthouse Rd\, Spotsylvania Courthouse\, VA\, 22553\, United States
CATEGORIES:General Meeting
END:VEVENT
BEGIN:VEVENT
DTSTART;TZID=America/New_York:20240921T103000
DTEND;TZID=America/New_York:20240921T120000
DTSTAMP:20260421T125354
CREATED:20240729T233900Z
LAST-MODIFIED:20260308T133049Z
UID:405-1726914600-1726920000@spotsydems.com
SUMMARY:September General Meeting
DESCRIPTION:General Meeting for September will be at Snow Library from 10:30-12 on September 21st \nAgenda will be attached closer to meeting.
URL:https://spotsydems.com/event/september-general-meeting/
LOCATION:Snow Library\, 8740 Courthouse Rd\, Spotsylvania Courthouse\, VA\, 22553\, United States
CATEGORIES:General Meeting
END:VEVENT
BEGIN:VEVENT
DTSTART;TZID=America/New_York:20240819T180000
DTEND;TZID=America/New_York:20240819T200000
DTSTAMP:20260421T125354
CREATED:20240729T233118Z
LAST-MODIFIED:20260308T133050Z
UID:397-1724090400-1724097600@spotsydems.com
SUMMARY:August General Meeting
DESCRIPTION:Agenda 08 19 2024 \nGeneral Meeting for August will be at Salem Church Library from 6-8 PM.
URL:https://spotsydems.com/event/august-general-meeting/
LOCATION:Salem Church Library\, 2607 Salem Church Road\,\, FREDERICKSBURG\, VA\, 22407
CATEGORIES:General Meeting
END:VEVENT
BEGIN:VEVENT
DTSTART;TZID=America/New_York:20240810T100000
DTEND;TZID=America/New_York:20240810T190000
DTSTAMP:20260421T125354
CREATED:20240810T115737Z
LAST-MODIFIED:20240810T115737Z
UID:411-1723284000-1723316400@spotsydems.com
SUMMARY:Canvassing for Harris/Walz/Kaine/Vindman
DESCRIPTION:Knocking doors for Democratic Candidates \nEvery Saturday until the Election \nSign Up HERE
URL:https://spotsydems.com/event/canvassing-for-harris-walz-kaine-vindman/
CATEGORIES:Canvassing
END:VEVENT
BEGIN:VEVENT
DTSTART;TZID=America/New_York:20240715T180000
DTEND;TZID=America/New_York:20240715T200000
DTSTAMP:20260421T125354
CREATED:20240628T002815Z
LAST-MODIFIED:20260308T133050Z
UID:357-1721066400-1721073600@spotsydems.com
SUMMARY:July General Meeting
DESCRIPTION:Agenda \nGeneral Meeting for July at Salem Church Library. \nAgenda will be attached closer to meeting.
URL:https://spotsydems.com/event/july-general-meeting/
LOCATION:Salem Church Library\, 2607 Salem Church Road\,\, FREDERICKSBURG\, VA\, 22407
CATEGORIES:General Meeting
END:VEVENT
BEGIN:VEVENT
DTSTART;TZID=America/New_York:20240704T100000
DTEND;TZID=America/New_York:20240704T160000
DTSTAMP:20260421T125354
CREATED:20240622T012226Z
LAST-MODIFIED:20240622T012226Z
UID:355-1720087200-1720108800@spotsydems.com
SUMMARY:FXBG 4th of July Festival
DESCRIPTION:10:00 AM – 4:00 PM – 4th of July Festival \nWe will share the FXBG Committee’s table at the festival.
URL:https://spotsydems.com/event/fxbg-4th-of-july-festival/
LOCATION:Riverside Park\, 701 Sophia St\, Fredericksburg\, VA\, 22401\, United States
END:VEVENT
BEGIN:VEVENT
DTSTART;TZID=America/New_York:20240629T100000
DTEND;TZID=America/New_York:20240629T160000
DTSTAMP:20260421T125354
CREATED:20240622T011749Z
LAST-MODIFIED:20240622T011749Z
UID:353-1719655200-1719676800@spotsydems.com
SUMMARY:FXBG Pride March and Festival
DESCRIPTION:10:00-11:00 AM – Pride March \n11:00-4:00 PM – Pride Festival \nSCDC will have volunteers sharing a table with the FXBG Democratic Committee.
URL:https://spotsydems.com/event/fxbg-pride-march-and-festival/
LOCATION:Riverside Park\, 701 Sophia St\, Fredericksburg\, VA\, 22401\, United States
END:VEVENT
BEGIN:VEVENT
DTSTART;TZID=America/New_York:20240624T180000
DTEND;TZID=America/New_York:20240624T200000
DTSTAMP:20260421T125354
CREATED:20240616T114157Z
LAST-MODIFIED:20260308T133050Z
UID:323-1719252000-1719259200@spotsydems.com
SUMMARY:June General Meeting
DESCRIPTION:Please join us for our June general meeting. It will be held at Snow Library branch starting at 6:00 PM. \nAgenda will be added closer to the meeting.
URL:https://spotsydems.com/event/june-general-meeting/
LOCATION:Snow Library\, 8740 Courthouse Rd\, Spotsylvania Courthouse\, VA\, 22553\, United States
CATEGORIES:General Meeting
END:VEVENT
BEGIN:VEVENT
DTSTART;TZID=America/New_York:20240620T180000
DTEND;TZID=America/New_York:20240620T200000
DTSTAMP:20260421T125354
CREATED:20240618T195630Z
LAST-MODIFIED:20240618T195630Z
UID:328-1718906400-1718913600@spotsydems.com
SUMMARY:Happy Hour
DESCRIPTION:Join us for a 100% social happy hour (well\, two hours really). Politics may be talked but branching out is preferred. \nThe Crave food truck will be on site if you want to make it dinner.
URL:https://spotsydems.com/event/happy-hour/
LOCATION:Wilderness Run Winery/1781 Brewing\, 11109 Plank Rd\, Spotsylvania Courthouse\, VA\, 22553\, United States
END:VEVENT
BEGIN:VEVENT
DTSTART;TZID=America/New_York:20240618T080000
DTEND;TZID=America/New_York:20240618T170000
DTSTAMP:20260421T125354
CREATED:20240520T185925Z
LAST-MODIFIED:20240520T185953Z
UID:306-1718697600-1718730000@spotsydems.com
SUMMARY:Primary Election Day
DESCRIPTION:For more information on the Democratic candidates for CD7:\nhttps://spotsydems.com/2024/04/get-to-know-your-cd-7-candidates/
URL:https://spotsydems.com/event/primary-election-day/
END:VEVENT
END:VCALENDAR