BEGIN:VCALENDAR
VERSION:2.0
PRODID:-//Spotsylvania County Democratic Committee - ECPv6.15.20//NONSGML v1.0//EN
CALSCALE:GREGORIAN
METHOD:PUBLISH
X-ORIGINAL-URL:https://spotsydems.com
X-WR-CALDESC:Events for Spotsylvania County Democratic Committee
REFRESH-INTERVAL;VALUE=DURATION:PT1H
X-Robots-Tag:noindex
X-PUBLISHED-TTL:PT1H
BEGIN:VTIMEZONE
TZID:America/New_York
BEGIN:DAYLIGHT
TZOFFSETFROM:-0500
TZOFFSETTO:-0400
TZNAME:EDT
DTSTART:20240310T070000
END:DAYLIGHT
BEGIN:STANDARD
TZOFFSETFROM:-0400
TZOFFSETTO:-0500
TZNAME:EST
DTSTART:20241103T060000
END:STANDARD
BEGIN:DAYLIGHT
TZOFFSETFROM:-0500
TZOFFSETTO:-0400
TZNAME:EDT
DTSTART:20250309T070000
END:DAYLIGHT
BEGIN:STANDARD
TZOFFSETFROM:-0400
TZOFFSETTO:-0500
TZNAME:EST
DTSTART:20251102T060000
END:STANDARD
BEGIN:DAYLIGHT
TZOFFSETFROM:-0500
TZOFFSETTO:-0400
TZNAME:EDT
DTSTART:20260308T070000
END:DAYLIGHT
BEGIN:STANDARD
TZOFFSETFROM:-0400
TZOFFSETTO:-0500
TZNAME:EST
DTSTART:20261101T060000
END:STANDARD
END:VTIMEZONE
BEGIN:VEVENT
DTSTART;TZID=America/New_York:20251014T173000
DTEND;TZID=America/New_York:20251014T193000
DTSTAMP:20260421T020748
CREATED:20250913T134029Z
LAST-MODIFIED:20250913T134029Z
UID:1796-1760463000-1760470200@spotsydems.com
SUMMARY:Virtual Phone Bank: Dials for Dems in FXBG\, South Stafford\, & Spotsy
DESCRIPTION:SIGN UP HERE \nThe key to a strong campaign is good conversations with voters! \nJoin us as we phone bank and talk to voters across the area about Joshua Cole\, Abigail Spanberger\, Ghazala Hashmi\, and Jay Jones! \nA laptop is preferred to execute this exciting activity. \nWorried about joining virtually? Connect with our team and you can join us in our office.
URL:https://spotsydems.com/event/virtual-phone-bank-dials-for-dems-in-fxbg-south-stafford-spotsy-6/
END:VEVENT
BEGIN:VEVENT
DTSTART;TZID=America/New_York:20251015T160000
DTEND;TZID=America/New_York:20251015T200000
DTSTAMP:20260421T020748
CREATED:20251005T123516Z
LAST-MODIFIED:20251005T123516Z
UID:2005-1760544000-1760558400@spotsydems.com
SUMMARY:Get Out the Vote in HD 66
DESCRIPTION:2 shifts \nSIGN UP HERE \nJoin us to knock doors and Get Out the Vote for Abigail Spanberger and candidates up and down the ballot! Election Day is just around the corner\, and we need your help! \nWe will train you to have high-quality engagement conversations with voters to spread our message and make sure our supporters have a plan to vote on or before Election Day. \nWe look forward to spreading the word about Abigail with you\, and don’t forget to bring a friend!
URL:https://spotsydems.com/event/get-out-the-vote-in-hd-66/
END:VEVENT
BEGIN:VEVENT
DTSTART;TZID=America/New_York:20251016T160000
DTEND;TZID=America/New_York:20251016T200000
DTSTAMP:20260421T020748
CREATED:20251005T123602Z
LAST-MODIFIED:20251005T123602Z
UID:2007-1760630400-1760644800@spotsydems.com
SUMMARY:Get Out the Vote in HD 65
DESCRIPTION:2 shifts \nSIGN UP HERE \nJoin us to knock doors and Get Out the Vote for Abigail Spanberger and candidates up and down the ballot! Election Day is just around the corner\, and we need your help! \nWe will train you to have high-quality engagement conversations with voters to spread our message and make sure our supporters have a plan to vote on or before Election Day. \nWe look forward to spreading the word about Abigail with you\, and don’t forget to bring a friend!
URL:https://spotsydems.com/event/get-out-the-vote-in-hd-65-2/
END:VEVENT
BEGIN:VEVENT
DTSTART;TZID=America/New_York:20251016T173000
DTEND;TZID=America/New_York:20251016T193000
DTSTAMP:20260421T020748
CREATED:20250913T134217Z
LAST-MODIFIED:20250913T134217Z
UID:1800-1760635800-1760643000@spotsydems.com
SUMMARY:Virtual Phone Bank: Dials for Dems in FXBG\, South Stafford\, & Spotsy
DESCRIPTION:SIGN UP HERE \nThe key to a strong campaign is good conversations with voters! \nJoin us as we phone bank and talk to voters across the area about Joshua Cole\, Abigail Spanberger\, Ghazala Hashmi\, and Jay Jones! \nA laptop is preferred to execute this exciting activity. \nWorried about joining virtually? Connect with our team and you can join us in our office.
URL:https://spotsydems.com/event/virtual-phone-bank-dials-for-dems-in-fxbg-south-stafford-spotsy-8/
END:VEVENT
BEGIN:VEVENT
DTSTART;TZID=America/New_York:20251016T190000
DTEND;TZID=America/New_York:20251016T200000
DTSTAMP:20260421T020748
CREATED:20250916T180258Z
LAST-MODIFIED:20250916T180258Z
UID:1847-1760641200-1760644800@spotsydems.com
SUMMARY:Weekly Volunteer Information Call! Spanberger Campaign
DESCRIPTION:Join the Spanberger for Governor campaign for our weekly volunteer call and learn how you can help elect Abigail as our next Governor. There’s a role for everyone! Each week will have a special feature. \nJoin us for our next session via zoom! \nYou can also sign up for future weekly meetings using this same link! \nSIGN UP HERE
URL:https://spotsydems.com/event/weekly-volunteer-information-call-spanberger-campaign-4/
END:VEVENT
BEGIN:VEVENT
DTSTART;TZID=America/New_York:20251016T190000
DTEND;TZID=America/New_York:20251016T201500
DTSTAMP:20260421T020748
CREATED:20250912T203841Z
LAST-MODIFIED:20250912T203841Z
UID:1754-1760641200-1760645700@spotsydems.com
SUMMARY:Poll Observer Training - DPVA
DESCRIPTION:Poll observers are volunteers who have received training to sit inside (or outside) and observe the process of voting in an assigned precinct during early voting or on election day.  The first training provides you with information about procedures and what to look for as an observer. The second training is to prepare you to use the voter protection hotline. \nThis training is a great resource for District Captains\, Precinct Captains\, and volunteers who work the polls\, as well. The links to sign up for live trainings are included below. The link for on-demand trainings will be available in next week’s newsletter. \nPlease sign up using the links below and also send your name to Deb Aldrich \nSign up Here
URL:https://spotsydems.com/event/poll-observer-training-dpva-7/
END:VEVENT
BEGIN:VEVENT
DTSTART;TZID=America/New_York:20251017T150000
DTEND;TZID=America/New_York:20251017T180000
DTSTAMP:20260421T020748
CREATED:20251005T123652Z
LAST-MODIFIED:20251005T123652Z
UID:2009-1760713200-1760724000@spotsydems.com
SUMMARY:Get Out the Vote in HD 65
DESCRIPTION:2 shifts \nSIGN UP HERE \nJoin us to knock doors and Get Out the Vote for Abigail Spanberger and candidates up and down the ballot! Election Day is just around the corner\, and we need your help! \nWe will train you to have high-quality engagement conversations with voters to spread our message and make sure our supporters have a plan to vote on or before Election Day. \nWe look forward to spreading the word about Abigail with you\, and don’t forget to bring a friend!
URL:https://spotsydems.com/event/get-out-the-vote-in-hd-65-3/
END:VEVENT
BEGIN:VEVENT
DTSTART;TZID=America/New_York:20251017T183000
DTEND;TZID=America/New_York:20251017T183000
DTSTAMP:20260421T020748
CREATED:20250913T130805Z
LAST-MODIFIED:20250913T130805Z
UID:1773-1760725800-1760725800@spotsydems.com
SUMMARY:Stafford Dems Fall Fundraiser
DESCRIPTION:GET TICKETS \nPlease join the SDC as they welcome invited guests Senator Mark Warner\, Congressman Eugene Vindman\, Attorney General Candidate Jay Jones\, and ALL the Stafford House Delegates and local candidates to our fall fundraiser at The Griffin on Charles in historic downtown Fredericksburg. \nThe night will be filled with food\, fun\, and music to celebrate their elected officials and candidates before the final push to election day. \nThe venue has a maximum seating capacity of 150 people and you don’t want to be stuck on the outside looking in!
URL:https://spotsydems.com/event/stafford-dems-fall-fundraiser-2/
END:VEVENT
BEGIN:VEVENT
DTSTART;VALUE=DATE:20251018
DTEND;VALUE=DATE:20251019
DTSTAMP:20260421T020748
CREATED:20250913T134712Z
LAST-MODIFIED:20250913T134712Z
UID:1814-1760745600-1760831999@spotsydems.com
SUMMARY:SCDC WEEKEND OF ACTION - GOTV
DESCRIPTION:
URL:https://spotsydems.com/event/scdc-weekend-of-action-gotv-3/
END:VEVENT
BEGIN:VEVENT
DTSTART;TZID=America/New_York:20251018T043000
DTEND;TZID=America/New_York:20251018T180000
DTSTAMP:20260421T020748
CREATED:20251007T100525Z
LAST-MODIFIED:20251007T100525Z
UID:2017-1760761800-1760810400@spotsydems.com
SUMMARY:Join Senator Kaine and Nicole Cole for Delegate
DESCRIPTION:Join the Caroline County Democratic Committee to meet and speak with Senator Tim Kaine and Nicole Cole who is running to be YOUR Delegate in House District 66!!! \nSaint John Baptist Church\, Woodford\, VA 22580
URL:https://spotsydems.com/event/join-senator-kaine-and-nicole-cole-for-delegate/
END:VEVENT
BEGIN:VEVENT
DTSTART;TZID=America/New_York:20251018T090000
DTEND;TZID=America/New_York:20251018T180000
DTSTAMP:20260421T020748
CREATED:20250920T132131Z
LAST-MODIFIED:20250920T132131Z
UID:1904-1760778000-1760810400@spotsydems.com
SUMMARY:Get Out the Vote in House District 66
DESCRIPTION:3 shifts \nSIGN UP HERE \nJoin us to knock doors and Get Out the Vote for Abigail Spanberger and candidates up and down the ballot! Election Day is just around the corner\, and we need your help! \nWe will train you to have high-quality engagement conversations with voters to spread our message and make sure our supporters have a plan to vote on or before Election Day. \nWe look forward to spreading the word about Abigail with you\, and don’t forget to bring a friend!
URL:https://spotsydems.com/event/get-out-the-vote-in-house-district-66-7/
END:VEVENT
BEGIN:VEVENT
DTSTART;TZID=America/New_York:20251018T090000
DTEND;TZID=America/New_York:20251018T180000
DTSTAMP:20260421T020748
CREATED:20251005T123746Z
LAST-MODIFIED:20251005T123746Z
UID:2011-1760778000-1760810400@spotsydems.com
SUMMARY:Get Out the Vote in HD 65
DESCRIPTION:3 shifts \nSIGN UP HERE \nJoin us to knock doors and Get Out the Vote for Abigail Spanberger and candidates up and down the ballot! Election Day is just around the corner\, and we need your help! \nWe will train you to have high-quality engagement conversations with voters to spread our message and make sure our supporters have a plan to vote on or before Election Day. \nWe look forward to spreading the word about Abigail with you\, and don’t forget to bring a friend!
URL:https://spotsydems.com/event/get-out-the-vote-in-hd-65-4/
END:VEVENT
BEGIN:VEVENT
DTSTART;TZID=America/New_York:20251018T100000
DTEND;TZID=America/New_York:20251018T120000
DTSTAMP:20260421T020748
CREATED:20250831T164910Z
LAST-MODIFIED:20250831T210700Z
UID:1651-1760781600-1760788800@spotsydems.com
SUMMARY:Canvassing for Marcus Garcia - Lee Hill BOS
DESCRIPTION:Please call Marcus if you have questions\n540-809-2206 \n  \n9728 Cedarmass Cir\, Fredericksburg\, VA 22408\, USA
URL:https://spotsydems.com/event/canvassing-with-marcus-garcia-lee-hill-bos-2/
END:VEVENT
BEGIN:VEVENT
DTSTART;TZID=America/New_York:20251018T110000
DTEND;TZID=America/New_York:20251018T130000
DTSTAMP:20260421T020748
CREATED:20250913T131514Z
LAST-MODIFIED:20250913T131536Z
UID:1776-1760785200-1760792400@spotsydems.com
SUMMARY:WE SAY NO KINGS RALLY
DESCRIPTION:Protest Corner: \nWilliam St and Blue/Gray parkway \n11:00-1:00 \nLink to sign up coming soon!
URL:https://spotsydems.com/event/we-say-no-kings-rally/
END:VEVENT
BEGIN:VEVENT
DTSTART;TZID=America/New_York:20251018T150000
DTEND;TZID=America/New_York:20251018T180000
DTSTAMP:20260421T020748
CREATED:20251018T114531Z
LAST-MODIFIED:20251018T114531Z
UID:2034-1760799600-1760810400@spotsydems.com
SUMMARY:Get Out the Vote in HD 65
DESCRIPTION:1 shifts \nSIGN UP HERE \nJoin us to knock doors and Get Out the Vote for Abigail Spanberger and candidates up and down the ballot! Election Day is just around the corner\, and we need your help! \nWe will train you to have high-quality engagement conversations with voters to spread our message and make sure our supporters have a plan to vote on or before Election Day. \nWe look forward to spreading the word about Abigail with you\, and don’t forget to bring a friend!
URL:https://spotsydems.com/event/get-out-the-vote-in-hd-65-9/
END:VEVENT
BEGIN:VEVENT
DTSTART;TZID=America/New_York:20251019T120000
DTEND;TZID=America/New_York:20251019T180000
DTSTAMP:20260421T020748
CREATED:20250920T132235Z
LAST-MODIFIED:20250920T132822Z
UID:1906-1760875200-1760896800@spotsydems.com
SUMMARY:Get out the Vote in House District 66
DESCRIPTION:2 shifts \nSIGN UP HERE \nJoin us to knock doors and Get Out the Vote for Abigail Spanberger and candidates up and down the ballot! Election Day is just around the corner\, and we need your help! \nWe will train you to have high-quality engagement conversations with voters to spread our message and make sure our supporters have a plan to vote on or before Election Day. \nWe look forward to spreading the word about Abigail with you\, and don’t forget to bring a friend!
URL:https://spotsydems.com/event/get-out-the-vote-in-house-district-66-8/
END:VEVENT
BEGIN:VEVENT
DTSTART;TZID=America/New_York:20251019T120000
DTEND;TZID=America/New_York:20251019T180000
DTSTAMP:20260421T020748
CREATED:20251005T123830Z
LAST-MODIFIED:20251005T123830Z
UID:2013-1760875200-1760896800@spotsydems.com
SUMMARY:Get Out the Vote in HD 65
DESCRIPTION:2 shifts \nSIGN UP HERE \nJoin us to knock doors and Get Out the Vote for Abigail Spanberger and candidates up and down the ballot! Election Day is just around the corner\, and we need your help! \nWe will train you to have high-quality engagement conversations with voters to spread our message and make sure our supporters have a plan to vote on or before Election Day. \nWe look forward to spreading the word about Abigail with you\, and don’t forget to bring a friend!
URL:https://spotsydems.com/event/get-out-the-vote-in-hd-65-5/
END:VEVENT
BEGIN:VEVENT
DTSTART;TZID=America/New_York:20251019T140000
DTEND;TZID=America/New_York:20251019T160000
DTSTAMP:20260421T020748
CREATED:20251018T113134Z
LAST-MODIFIED:20251018T113253Z
UID:2021-1760882400-1760889600@spotsydems.com
SUMMARY:Postcard Writing Party
DESCRIPTION:Sign up here. \nhttps://www.mobilize.us/scdc/event/856462/ \nWILDERNESS RUN VINEYARDS \n11109 Plank Rd \nSpotsylvania\, VA 22553
URL:https://spotsydems.com/event/postcard-writing-party/
END:VEVENT
BEGIN:VEVENT
DTSTART;TZID=America/New_York:20251019T153000
DTEND;TZID=America/New_York:20251019T173000
DTSTAMP:20260421T020748
CREATED:20251019T145148Z
LAST-MODIFIED:20251019T145148Z
UID:2060-1760887800-1760895000@spotsydems.com
SUMMARY:Fundraiser for Spanberger
DESCRIPTION:SIGN UP HERE \ninvite you to a fundraising reception in support of \nAbigail Spanberger for Governor \nSunday\, October 19th\, 2025 \n3:30 – 5:00 PM \nFredericksburg\, VA \nAddress provided upon RSVP \n 
URL:https://spotsydems.com/event/fundraiser-for-spanberger-2/
END:VEVENT
BEGIN:VEVENT
DTSTART;TZID=America/New_York:20251020T170000
DTEND;TZID=America/New_York:20251020T200000
DTSTAMP:20260421T020748
CREATED:20250826T121048Z
LAST-MODIFIED:20260308T133047Z
UID:1625-1760979600-1760990400@spotsydems.com
SUMMARY:SCDC General Meeting
DESCRIPTION:5-6:00 Social \n6:00-8:00 Business meeting \nDraft Meeting Minutes from September Meeting for Review – Minutes 09 15 2025 \n 
URL:https://spotsydems.com/event/scdc-general-meeting-6/
CATEGORIES:General Meeting
END:VEVENT
BEGIN:VEVENT
DTSTART;TZID=America/New_York:20251021T130000
DTEND;TZID=America/New_York:20251021T143000
DTSTAMP:20260421T020748
CREATED:20251019T145441Z
LAST-MODIFIED:20251019T145441Z
UID:2062-1761051600-1761057000@spotsydems.com
SUMMARY:Canvassing with Pete Buttigieg
DESCRIPTION:SIGN UP HERE \nJoin Secretary Pete Buttigieg to knock doors for Abigail Spanberger and Democrats up and down the ticket as we Get Out the Vote in the last 2 weeks before Election Day! \nWe’ll also be joined by Battleground candidates Del. Josh Cole\, Stacey Carroll\, and Nicole Cole! Come hear from them on the importance of their races and turning out the vote for Abigail and the ticket!
URL:https://spotsydems.com/event/canvassing-with-pete-buttigieg/
END:VEVENT
BEGIN:VEVENT
DTSTART;TZID=America/New_York:20251021T160000
DTEND;TZID=America/New_York:20251021T200000
DTSTAMP:20260421T020748
CREATED:20251018T114011Z
LAST-MODIFIED:20251018T114211Z
UID:2025-1761062400-1761076800@spotsydems.com
SUMMARY:Get Out the Vote in HD 65
DESCRIPTION:2 shifts \nSIGN UP HERE \nJoin us to knock doors and Get Out the Vote for Abigail Spanberger and candidates up and down the ballot! Election Day is just around the corner\, and we need your help! \nWe will train you to have high-quality engagement conversations with voters to spread our message and make sure our supporters have a plan to vote on or before Election Day. \nWe look forward to spreading the word about Abigail with you\, and don’t forget to bring a friend!
URL:https://spotsydems.com/event/get-out-the-vote-in-hd-65-6/
END:VEVENT
BEGIN:VEVENT
DTSTART;TZID=America/New_York:20251021T173000
DTEND;TZID=America/New_York:20251021T193000
DTSTAMP:20260421T020748
CREATED:20250913T134257Z
LAST-MODIFIED:20250913T134257Z
UID:1802-1761067800-1761075000@spotsydems.com
SUMMARY:Virtual Phone Bank: Dials for Dems in FXBG\, South Stafford\, & Spotsy
DESCRIPTION:SIGN UP HERE \nThe key to a strong campaign is good conversations with voters! \nJoin us as we phone bank and talk to voters across the area about Joshua Cole\, Abigail Spanberger\, Ghazala Hashmi\, and Jay Jones! \nA laptop is preferred to execute this exciting activity. \nWorried about joining virtually? Connect with our team and you can join us in our office.
URL:https://spotsydems.com/event/virtual-phone-bank-dials-for-dems-in-fxbg-south-stafford-spotsy-9/
END:VEVENT
BEGIN:VEVENT
DTSTART;TZID=America/New_York:20251021T183000
DTEND;TZID=America/New_York:20251021T183000
DTSTAMP:20260421T020748
CREATED:20251019T145902Z
LAST-MODIFIED:20251019T145952Z
UID:2064-1761071400-1761071400@spotsydems.com
SUMMARY:Clean Virginia _ Energy Bills are Too High Tour
DESCRIPTION:SIGN UP HERE \nThe Griffin on Charles | 911 Charles St\, Fredericksburg\, VA 22401 \nTown Hall with Ghazala Hashmi\, Josh Cole & Nicole Cole\nVirginia’s energy bills are too damn high because corporate greed and unchecked utility power have rigged the system against us. Join the statewide tour for free food\, inspiring speakers\, and real conversations about lowering costs and building power before the 2025 elections.
URL:https://spotsydems.com/event/clean-virginia-_-energy-bills-are-too-high-tour/
END:VEVENT
BEGIN:VEVENT
DTSTART;TZID=America/New_York:20251022T160000
DTEND;TZID=America/New_York:20251022T200000
DTSTAMP:20260421T020748
CREATED:20251018T114056Z
LAST-MODIFIED:20251018T114400Z
UID:2027-1761148800-1761163200@spotsydems.com
SUMMARY:Get Out the Vote in HD 65
DESCRIPTION:2 shifts \nSIGN UP HERE \nJoin us to knock doors and Get Out the Vote for Abigail Spanberger and candidates up and down the ballot! Election Day is just around the corner\, and we need your help! \nWe will train you to have high-quality engagement conversations with voters to spread our message and make sure our supporters have a plan to vote on or before Election Day. \nWe look forward to spreading the word about Abigail with you\, and don’t forget to bring a friend!
URL:https://spotsydems.com/event/2027/
END:VEVENT
BEGIN:VEVENT
DTSTART;TZID=America/New_York:20251023T040000
DTEND;TZID=America/New_York:20251023T200000
DTSTAMP:20260421T020748
CREATED:20251018T114449Z
LAST-MODIFIED:20251018T114449Z
UID:2032-1761192000-1761249600@spotsydems.com
SUMMARY:Get Out the Vote in HD 65
DESCRIPTION:2 shifts \nSIGN UP HERE \nJoin us to knock doors and Get Out the Vote for Abigail Spanberger and candidates up and down the ballot! Election Day is just around the corner\, and we need your help! \nWe will train you to have high-quality engagement conversations with voters to spread our message and make sure our supporters have a plan to vote on or before Election Day. \nWe look forward to spreading the word about Abigail with you\, and don’t forget to bring a friend!
URL:https://spotsydems.com/event/get-out-the-vote-in-hd-65-8/
END:VEVENT
BEGIN:VEVENT
DTSTART;TZID=America/New_York:20251023T160000
DTEND;TZID=America/New_York:20251023T200000
DTSTAMP:20260421T020748
CREATED:20251018T114139Z
LAST-MODIFIED:20251018T114139Z
UID:2029-1761235200-1761249600@spotsydems.com
SUMMARY:Get Out the Vote in HD 65
DESCRIPTION:2 shifts \nSIGN UP HERE \nJoin us to knock doors and Get Out the Vote for Abigail Spanberger and candidates up and down the ballot! Election Day is just around the corner\, and we need your help! \nWe will train you to have high-quality engagement conversations with voters to spread our message and make sure our supporters have a plan to vote on or before Election Day. \nWe look forward to spreading the word about Abigail with you\, and don’t forget to bring a friend!
URL:https://spotsydems.com/event/get-out-the-vote-in-hd-65-7/
END:VEVENT
BEGIN:VEVENT
DTSTART;TZID=America/New_York:20251023T173000
DTEND;TZID=America/New_York:20251023T193000
DTSTAMP:20260421T020748
CREATED:20250913T134513Z
LAST-MODIFIED:20250913T134513Z
UID:1806-1761240600-1761247800@spotsydems.com
SUMMARY:Virtual Phone Bank: Dials for Dems in FXBG\, South Stafford\, & Spotsy
DESCRIPTION:SIGN UP HERE \nThe key to a strong campaign is good conversations with voters! \nJoin us as we phone bank and talk to voters across the area about Joshua Cole\, Abigail Spanberger\, Ghazala Hashmi\, and Jay Jones! \nA laptop is preferred to execute this exciting activity. \nWorried about joining virtually? Connect with our team and you can join us in our office.
URL:https://spotsydems.com/event/virtual-phone-bank-dials-for-dems-in-fxbg-south-stafford-spotsy-11/
END:VEVENT
BEGIN:VEVENT
DTSTART;TZID=America/New_York:20251023T190000
DTEND;TZID=America/New_York:20251023T201500
DTSTAMP:20260421T020748
CREATED:20250912T203949Z
LAST-MODIFIED:20250912T203949Z
UID:1756-1761246000-1761250500@spotsydems.com
SUMMARY:Poll Observer Training
DESCRIPTION:Poll observers are volunteers who have received training to sit inside (or outside) and observe the process of voting in an assigned precinct during early voting or on election day.  The first training provides you with information about procedures and what to look for as an observer. The second training is to prepare you to use the voter protection hotline. \nThis training is a great resource for District Captains\, Precinct Captains\, and volunteers who work the polls\, as well. The links to sign up for live trainings are included below. The link for on-demand trainings will be available in next week’s newsletter. \nPlease sign up using the links below and also send your name to Deb Aldrich \nSign up Here
URL:https://spotsydems.com/event/poll-observer-training/
END:VEVENT
BEGIN:VEVENT
DTSTART;VALUE=DATE:20251025
DTEND;VALUE=DATE:20251026
DTSTAMP:20260421T020748
CREATED:20250913T134735Z
LAST-MODIFIED:20250913T134735Z
UID:1816-1761350400-1761436799@spotsydems.com
SUMMARY:SCDC WEEKEND OF ACTION - GOTV
DESCRIPTION:
URL:https://spotsydems.com/event/scdc-weekend-of-action-gotv-4/
END:VEVENT
END:VCALENDAR