BEGIN:VCALENDAR
VERSION:2.0
PRODID:-//Spotsylvania County Democratic Committee - ECPv6.15.20//NONSGML v1.0//EN
CALSCALE:GREGORIAN
METHOD:PUBLISH
X-WR-CALNAME:Spotsylvania County Democratic Committee
X-ORIGINAL-URL:https://spotsydems.com
X-WR-CALDESC:Events for Spotsylvania County Democratic Committee
REFRESH-INTERVAL;VALUE=DURATION:PT1H
X-Robots-Tag:noindex
X-PUBLISHED-TTL:PT1H
BEGIN:VTIMEZONE
TZID:America/New_York
BEGIN:DAYLIGHT
TZOFFSETFROM:-0500
TZOFFSETTO:-0400
TZNAME:EDT
DTSTART:20240310T070000
END:DAYLIGHT
BEGIN:STANDARD
TZOFFSETFROM:-0400
TZOFFSETTO:-0500
TZNAME:EST
DTSTART:20241103T060000
END:STANDARD
BEGIN:DAYLIGHT
TZOFFSETFROM:-0500
TZOFFSETTO:-0400
TZNAME:EDT
DTSTART:20250309T070000
END:DAYLIGHT
BEGIN:STANDARD
TZOFFSETFROM:-0400
TZOFFSETTO:-0500
TZNAME:EST
DTSTART:20251102T060000
END:STANDARD
BEGIN:DAYLIGHT
TZOFFSETFROM:-0500
TZOFFSETTO:-0400
TZNAME:EDT
DTSTART:20260308T070000
END:DAYLIGHT
BEGIN:STANDARD
TZOFFSETFROM:-0400
TZOFFSETTO:-0500
TZNAME:EST
DTSTART:20261101T060000
END:STANDARD
END:VTIMEZONE
BEGIN:VEVENT
DTSTART;VALUE=DATE:20250819
DTEND;VALUE=DATE:20250820
DTSTAMP:20260420T110720
CREATED:20250815T170807Z
LAST-MODIFIED:20250815T170807Z
UID:1540-1755561600-1755647999@spotsydems.com
SUMMARY:Production Shoot for Nicole Cole's Campaign
DESCRIPTION:Have you ever looked at the people in a campaign commercial and thought “How can I be one of those people?” Well\, now’s your chance! Be a part of our campaign digital/video/mail production shoot – Tuesday 8/19. \nReach out to our Deputy Campaign Manager Julia Snow to get involved \njuliasnow.hd66@gmail.com \n 
URL:https://spotsydems.com/event/production-shoot-for-nicole-coles-campaign/
END:VEVENT
BEGIN:VEVENT
DTSTART;TZID=America/New_York:20250819T173000
DTEND;TZID=America/New_York:20250819T193000
DTSTAMP:20260420T110720
CREATED:20250815T173457Z
LAST-MODIFIED:20250815T173457Z
UID:1562-1755624600-1755631800@spotsydems.com
SUMMARY:FXBG Virtual Phone Bank for Democrats
DESCRIPTION:The key to a strong campaign is good conversations with voters! \nJoin us as we phone bank and talk to voters across the area about Joshua Cole\, Abigail Spanberger\, Ghazala Hashmi\, and Jay Jones! \nA laptop is preferred to execute this exciting activity. \nWorried about joining virtually? Connect with our team and you can join us in our office. \nSIGN UP HERE
URL:https://spotsydems.com/event/fxbg-virtual-phone-bank-for-democrats/
END:VEVENT
BEGIN:VEVENT
DTSTART;TZID=America/New_York:20250819T180000
DTEND;TZID=America/New_York:20250819T190000
DTSTAMP:20260420T110720
CREATED:20250728T122650Z
LAST-MODIFIED:20250728T122650Z
UID:1497-1755626400-1755630000@spotsydems.com
SUMMARY:Message Training: How to Tell Abigail's Story and Yours
DESCRIPTION:SIGN UP HERE \nEvery conversation with a voter is a chance to inspire\, connect\, and move someone to\naction. Join for a virtual message training session where we’ll walk through how to talk\nabout Abigail Spanberger’s story\, why so many of us support her\, and how to share your\nown reasons for being part of this campaign. We’ll cover core messaging\, tips on how to\nconnect with different types of voters\, and how to make your conversations personal\,\nauthentic\, and persuasive.
URL:https://spotsydems.com/event/message-training-how-to-tell-abigails-story-and-yours-4/
END:VEVENT
BEGIN:VEVENT
DTSTART;TZID=America/New_York:20250820T170000
DTEND;TZID=America/New_York:20250820T174500
DTSTAMP:20260420T110720
CREATED:20250815T173058Z
LAST-MODIFIED:20250815T173058Z
UID:1560-1755709200-1755711900@spotsydems.com
SUMMARY:Virtual LGBTQ+ Community Discussion
DESCRIPTION:Join your CD1 and CD7 Field Organizer to discuss how we as members of the LGBTQ+ community can organize and get involved to help get Abigail elected. \nWe will chat about what issues we are facing in Virginia\, and how we can stand together and support one another. \nSIGN UP HERE
URL:https://spotsydems.com/event/virtual-lgbtq-community-discussion-2/
END:VEVENT
BEGIN:VEVENT
DTSTART;TZID=America/New_York:20250821T173000
DTEND;TZID=America/New_York:20250821T193000
DTSTAMP:20260420T110720
CREATED:20250815T173609Z
LAST-MODIFIED:20250815T173609Z
UID:1564-1755797400-1755804600@spotsydems.com
SUMMARY:FXBG Virtual Phone Bank for Democrats
DESCRIPTION:The key to a strong campaign is good conversations with voters! \nJoin us as we phone bank and talk to voters across the area about Joshua Cole\, Abigail Spanberger\, Ghazala Hashmi\, and Jay Jones! \nA laptop is preferred to execute this exciting activity. \nWorried about joining virtually? Connect with our team and you can join us in our office. \n  \nSIGN UP HERE
URL:https://spotsydems.com/event/fxbg-virtual-phone-bank-for-democrats-2/
END:VEVENT
BEGIN:VEVENT
DTSTART;TZID=America/New_York:20250821T190000
DTEND;TZID=America/New_York:20250821T200000
DTSTAMP:20260420T110720
CREATED:20250728T125347Z
LAST-MODIFIED:20250728T125347Z
UID:1524-1755802800-1755806400@spotsydems.com
SUMMARY:Spanberger - Digital Engagement Training
DESCRIPTION:SIGN UP HERE \nJoin the Spanberger for Governor team and help us reach out to voters using digital tools!
URL:https://spotsydems.com/event/spanberger-digital-engagement-training-2/
END:VEVENT
BEGIN:VEVENT
DTSTART;TZID=America/New_York:20250822T120000
DTEND;TZID=America/New_York:20250822T123000
DTSTAMP:20260420T110720
CREATED:20250728T123331Z
LAST-MODIFIED:20250728T124527Z
UID:1507-1755864000-1755865800@spotsydems.com
SUMMARY:Message Training: How to Tell Abigail's Story and Yours
DESCRIPTION:SIGN UP HERE \nEvery conversation with a voter is a chance to inspire\, connect\, and move someone to\naction. Join for a virtual message training session where we’ll walk through how to talk\nabout Abigail Spanberger’s story\, why so many of us support her\, and how to share your\nown reasons for being part of this campaign. We’ll cover core messaging\, tips on how to\nconnect with different types of voters\, and how to make your conversations personal\,\nauthentic\, and persuasive.
URL:https://spotsydems.com/event/message-training-how-to-tell-abigails-story-and-yours-9/
END:VEVENT
BEGIN:VEVENT
DTSTART;TZID=America/New_York:20250823T100000
DTEND;TZID=America/New_York:20250823T130000
DTSTAMP:20260420T110720
CREATED:20250815T172216Z
LAST-MODIFIED:20250815T172216Z
UID:1548-1755943200-1755954000@spotsydems.com
SUMMARY:Knocking Doors for the Democratic Ticket in Western Spotsy
DESCRIPTION:Please join us to knock on doors and talk to voters about the upcoming election! \nWhether it’s your first time canvassing or this is old hat we need your help! We want to build a community of support around the Commonwealth and we cannot do it without YOU! \nWe will provide training\, all the supplies you’ll need\, snacks\, water and lots of cheerleading! \n  \nSign Up Here
URL:https://spotsydems.com/event/knocking-doors-for-the-democratic-ticket-in-western-spotsy-3/
END:VEVENT
BEGIN:VEVENT
DTSTART;TZID=America/New_York:20250823T100000
DTEND;TZID=America/New_York:20250823T160000
DTSTAMP:20260420T110720
CREATED:20250821T225039Z
LAST-MODIFIED:20250821T225039Z
UID:1594-1755943200-1755964800@spotsydems.com
SUMMARY:Knock Doors for Nicole Cole HD66 and Spanberger
DESCRIPTION:Please join us to knock on doors and talk to voters about the upcoming election! \nWhether it’s your first time canvassing or this is old hat we need your help! We want to build a community of support around the Commonwealth and we cannot do it without YOU! \nWe will provide training\, all the supplies you’ll need\, snacks\, water and lots of cheerleading! Two shifts available. \nSIGN UP HERE
URL:https://spotsydems.com/event/knock-doors-for-nicole-cole-hd66-and-spanberger/
END:VEVENT
BEGIN:VEVENT
DTSTART;TZID=America/New_York:20250823T130000
DTEND;TZID=America/New_York:20250823T160000
DTSTAMP:20260420T110720
CREATED:20250523T114927Z
LAST-MODIFIED:20250523T114927Z
UID:1252-1755954000-1755964800@spotsydems.com
SUMMARY:Meet the Candidates - Spotsylvania NAACP
DESCRIPTION:Meet the Candidates \nSalem Church Library \n  \nContact Moe Petway for more information \n540.847.7637
URL:https://spotsydems.com/event/meet-the-candidates-spotsylvania-naacp/
END:VEVENT
BEGIN:VEVENT
DTSTART;TZID=America/New_York:20250824T130000
DTEND;TZID=America/New_York:20250824T160000
DTSTAMP:20260420T110720
CREATED:20250821T223032Z
LAST-MODIFIED:20250821T223032Z
UID:1586-1756040400-1756051200@spotsydems.com
SUMMARY:Josh Cole Canvas Launch w/HD Delegate Tran
DESCRIPTION:It’s a WEEKEND of ACTION! We are so\, so excited that House District 18 Delegate Kathy Tran is joining us to launch canvassers to knock doors and talk with voters about voting BLUE this November\, spreading the word about Abigail\, Ghazala\, Jay\, and Josh Cole! \nWhether it is your first time joining us to talk to voters or you’re a seasoned pro\, we can’t wait to see you! We will be providing a training\, some snacks and water\, literature\, and all the tools you need to have a great door-knocking experience. \nWe can’t win in November without YOUR help\, and we are so grateful for our volunteers who have these conversations! Bring a friend\, a neighbor\, or a coworker and help us continue to grow our movement! \nSIGN UP HERE \n 
URL:https://spotsydems.com/event/josh-cole-canvas-launch-w-hd-delegate-tran/
END:VEVENT
BEGIN:VEVENT
DTSTART;TZID=America/New_York:20250824T130000
DTEND;TZID=America/New_York:20250824T190000
DTSTAMP:20260420T110720
CREATED:20250815T172321Z
LAST-MODIFIED:20250815T172321Z
UID:1550-1756040400-1756062000@spotsydems.com
SUMMARY:Knocking Doors for the Democratic Ticket in Western Spotsy
DESCRIPTION:Please join us to knock on doors and talk to voters about the upcoming election! \nWhether it’s your first time canvassing or this is old hat we need your help! We want to build a community of support around the Commonwealth and we cannot do it without YOU! \nWe will provide training\, all the supplies you’ll need\, snacks\, water and lots of cheerleading! \nSign Up Here
URL:https://spotsydems.com/event/knocking-doors-for-the-democratic-ticket-in-western-spotsy-4/
END:VEVENT
BEGIN:VEVENT
DTSTART;TZID=America/New_York:20250824T130000
DTEND;TZID=America/New_York:20250824T190000
DTSTAMP:20260420T110720
CREATED:20250821T225140Z
LAST-MODIFIED:20250821T225140Z
UID:1596-1756040400-1756062000@spotsydems.com
SUMMARY:Knock Doors for Nicole Come HD66 and Spanberger
DESCRIPTION:Please join us to knock on doors and talk to voters about the upcoming election! \nWhether it’s your first time canvassing or this is old hat we need your help! We want to build a community of support around the Commonwealth and we cannot do it without YOU! \nWe will provide training\, all the supplies you’ll need\, snacks\, water and lots of cheerleading! Two shifts available. \nSIGN UP HERE
URL:https://spotsydems.com/event/knock-doors-for-nicole-come-hd66-and-spanberger/
END:VEVENT
BEGIN:VEVENT
DTSTART;TZID=America/New_York:20250825T173000
DTEND;TZID=America/New_York:20250825T210000
DTSTAMP:20260420T110720
CREATED:20250521T183219Z
LAST-MODIFIED:20250521T183219Z
UID:1248-1756143000-1756155600@spotsydems.com
SUMMARY:Spotsylvania School Board Meeting - Work Session
DESCRIPTION:The Spotsylvania County Public School Board meetings begin at 5:30 p.m. in the Board Meeting Room of the Administrative Services Building\, 8020 River Stone Drive\, Fredericksburg\, Virginia \nSpotsylvania School Board
URL:https://spotsydems.com/event/spotsylvania-school-board-meeting-work-session-3/
END:VEVENT
BEGIN:VEVENT
DTSTART;TZID=America/New_York:20250826T173000
DTEND;TZID=America/New_York:20250826T193000
DTSTAMP:20260420T110720
CREATED:20250815T173719Z
LAST-MODIFIED:20250815T173719Z
UID:1566-1756229400-1756236600@spotsydems.com
SUMMARY:FXBG Virtual Phone Bank for Democrats
DESCRIPTION:The key to a strong campaign is good conversations with voters! \nJoin us as we phone bank and talk to voters across the area about Joshua Cole\, Abigail Spanberger\, Ghazala Hashmi\, and Jay Jones! \nA laptop is preferred to execute this exciting activity. \nWorried about joining virtually? Connect with our team and you can join us in our office. \nSIGN UP HERE
URL:https://spotsydems.com/event/fxbg-virtual-phone-bank-for-democrats-3/
END:VEVENT
BEGIN:VEVENT
DTSTART;TZID=America/New_York:20250826T180000
DTEND;TZID=America/New_York:20250826T190000
DTSTAMP:20260420T110720
CREATED:20250728T122807Z
LAST-MODIFIED:20250728T122807Z
UID:1499-1756231200-1756234800@spotsydems.com
SUMMARY:Message Training: How to Tell Abigail's Story and Yours
DESCRIPTION:SIGN UP HERE \nEvery conversation with a voter is a chance to inspire\, connect\, and move someone to\naction. Join for a virtual message training session where we’ll walk through how to talk\nabout Abigail Spanberger’s story\, why so many of us support her\, and how to share your\nown reasons for being part of this campaign. We’ll cover core messaging\, tips on how to\nconnect with different types of voters\, and how to make your conversations personal\,\nauthentic\, and persuasive.
URL:https://spotsydems.com/event/message-training-how-to-tell-abigails-story-and-yours-5/
END:VEVENT
BEGIN:VEVENT
DTSTART;TZID=America/New_York:20250826T183000
DTEND;TZID=America/New_York:20250826T203000
DTSTAMP:20260420T110720
CREATED:20250802T134828Z
LAST-MODIFIED:20250826T112259Z
UID:1536-1756233000-1756240200@spotsydems.com
SUMMARY:Speed Dating with Spotsy Dem Local Candidates
DESCRIPTION:Ever wanted two minutes to ask your candidate a question? This is your opportunity to make it a reality. \n  \nJoin us for small group time with local SCDC endorsed candidates. \nSPEED DATING SIGN UP
URL:https://spotsydems.com/event/save-the-date-speed-dating-with-spotsy-dem-local-candidates/
END:VEVENT
BEGIN:VEVENT
DTSTART;TZID=America/New_York:20250828T053000
DTEND;TZID=America/New_York:20250828T203000
DTSTAMP:20260420T110720
CREATED:20250815T173855Z
LAST-MODIFIED:20250815T173855Z
UID:1568-1756359000-1756413000@spotsydems.com
SUMMARY:FXBG Virtual Phone Bank for Democrats
DESCRIPTION:The key to a strong campaign is good conversations with voters! \nJoin us as we phone bank and talk to voters across the area about Joshua Cole\, Abigail Spanberger\, Ghazala Hashmi\, and Jay Jones! \nA laptop is preferred to execute this exciting activity. \nWorried about joining virtually? Connect with our team and you can join us in our office. \nSIGN UP HERE
URL:https://spotsydems.com/event/fxbg-virtual-phone-bank-for-democrats-4/
END:VEVENT
BEGIN:VEVENT
DTSTART;TZID=America/New_York:20250828T190000
DTEND;TZID=America/New_York:20250828T200000
DTSTAMP:20260420T110720
CREATED:20250728T125443Z
LAST-MODIFIED:20250728T125452Z
UID:1526-1756407600-1756411200@spotsydems.com
SUMMARY:Spanberger - Digital Engagement Training
DESCRIPTION:SIGN UP HERE \nJoin the Spanberger for Governor team and help us reach out to voters using digital tools!
URL:https://spotsydems.com/event/spanberger-digital-engagement-trainin/
END:VEVENT
BEGIN:VEVENT
DTSTART;TZID=America/New_York:20250829T140000
DTEND;TZID=America/New_York:20250829T150000
DTSTAMP:20260420T110720
CREATED:20250728T124130Z
LAST-MODIFIED:20250728T124130Z
UID:1515-1756476000-1756479600@spotsydems.com
SUMMARY:Message Training: How to Tell Abigail's Story and Yours
DESCRIPTION:SIGN UP HERE \nEvery conversation with a voter is a chance to inspire\, connect\, and move someone to\naction. Join for a virtual message training session where we’ll walk through how to talk\nabout Abigail Spanberger’s story\, why so many of us support her\, and how to share your\nown reasons for being part of this campaign. We’ll cover core messaging\, tips on how to\nconnect with different types of voters\, and how to make your conversations personal\,\nauthentic\, and persuasive.
URL:https://spotsydems.com/event/message-training-how-to-tell-abigails-story-and-yours-11/
END:VEVENT
BEGIN:VEVENT
DTSTART;TZID=America/New_York:20250829T173000
DTEND;TZID=America/New_York:20250829T183000
DTSTAMP:20260420T110720
CREATED:20250728T121728Z
LAST-MODIFIED:20250728T121728Z
UID:1489-1756488600-1756492200@spotsydems.com
SUMMARY:Learn Tech Programs
DESCRIPTION:Join the Democratic Party of Virginia to learn different tech programs needed to help the campaign! If you want to learn minivan\, open vpb\, or zoom\, join us! \nSIGN UP HERE
URL:https://spotsydems.com/event/learn-tech-programs-3/
END:VEVENT
BEGIN:VEVENT
DTSTART;TZID=America/New_York:20250829T180000
DTEND;TZID=America/New_York:20250829T200000
DTSTAMP:20260420T110720
CREATED:20250826T122613Z
LAST-MODIFIED:20250826T122613Z
UID:1631-1756490400-1756497600@spotsydems.com
SUMMARY:Spanberger  Campaign - Ice Cream Social
DESCRIPTION:SIGN UP HERE \nJoin us for a sweet afternoon of community\, conversation\, and campaign spirit! Come meet your local Field Organizers and learn how you can get involved in the Spanberger Coordinated Campaign\, connecting with neighbors who care about making a difference. Enjoy delicious ice cream treats\, take home some fun campaign swag\, and be part of the movement to win this year! \nSPECIAL TREAT!   Eugene Vindman will be joining!
URL:https://spotsydems.com/event/spanberger-campaign-ice-cream-social/
END:VEVENT
BEGIN:VEVENT
DTSTART;TZID=America/New_York:20250830T100000
DTEND;TZID=America/New_York:20250830T130000
DTSTAMP:20260420T110720
CREATED:20250815T172443Z
LAST-MODIFIED:20250815T172443Z
UID:1552-1756548000-1756558800@spotsydems.com
SUMMARY:Knocking Doors for the Democratic Ticket in Western Spotsy
DESCRIPTION:Please join us to knock on doors and talk to voters about the upcoming election! \nWhether it’s your first time canvassing or this is old hat we need your help! We want to build a community of support around the Commonwealth and we cannot do it without YOU! \nWe will provide training\, all the supplies you’ll need\, snacks\, water and lots of cheerleading! \nSign Up Here
URL:https://spotsydems.com/event/knocking-doors-for-the-democratic-ticket-in-western-spotsy-5/
END:VEVENT
BEGIN:VEVENT
DTSTART;TZID=America/New_York:20250830T100000
DTEND;TZID=America/New_York:20250830T153000
DTSTAMP:20260420T110720
CREATED:20250828T173859Z
LAST-MODIFIED:20250828T173859Z
UID:1645-1756548000-1756567800@spotsydems.com
SUMMARY:GF Young Dems - Fundraiser and Canvass Launch
DESCRIPTION:Come on out to the home of our immediate past president\, Zach Filtz\, in King George for our inaugural GFYD Fundraiser + canvass launch! \nFeaturing Del. Josh Cole (HD65)\, progressive activist Jolicia Ward\, candidate Mario Haggerty (HD67)\, and more! \nDoors open at 11\, speakers begin at 12. Wear comfortable clothes and a good pair of sneakers! \nAfter the canvass launch\, join us for food\, fun\, and relaxation as we celebrate this group and look to the future. \nThis group is powered by working-class young people. That is why admission is just $25\, or a personalized amount of your choice. \nREGISTER HERE
URL:https://spotsydems.com/event/gf-young-dems-fundraiser-and-canvass-launch/
END:VEVENT
BEGIN:VEVENT
DTSTART;TZID=America/New_York:20250831T130000
DTEND;TZID=America/New_York:20250831T190000
DTSTAMP:20260420T110720
CREATED:20250815T172559Z
LAST-MODIFIED:20250815T172559Z
UID:1554-1756645200-1756666800@spotsydems.com
SUMMARY:Knocking Doors for the Democratic Ticket in Western Spotsy
DESCRIPTION:Please join us to knock on doors and talk to voters about the upcoming election! \nWhether it’s your first time canvassing or this is old hat we need your help! We want to build a community of support around the Commonwealth and we cannot do it without YOU! \nWe will provide training\, all the supplies you’ll need\, snacks\, water and lots of cheerleading! \nSign Up Here \n 
URL:https://spotsydems.com/event/knocking-doors-for-the-democratic-ticket-in-western-spotsy-6/
END:VEVENT
BEGIN:VEVENT
DTSTART;TZID=America/New_York:20250902T173000
DTEND;TZID=America/New_York:20250902T193000
DTSTAMP:20260420T110720
CREATED:20250815T173959Z
LAST-MODIFIED:20250815T173959Z
UID:1570-1756834200-1756841400@spotsydems.com
SUMMARY:FXBG Virtual Phone Bank for Democrats
DESCRIPTION:The key to a strong campaign is good conversations with voters! \nJoin us as we phone bank and talk to voters across the area about Joshua Cole\, Abigail Spanberger\, Ghazala Hashmi\, and Jay Jones! \nA laptop is preferred to execute this exciting activity. \nWorried about joining virtually? Connect with our team and you can join us in our office. \nSIGN UP HERE
URL:https://spotsydems.com/event/fxbg-virtual-phone-bank-for-democrats-5/
END:VEVENT
BEGIN:VEVENT
DTSTART;TZID=America/New_York:20250903T173000
DTEND;TZID=America/New_York:20250903T173000
DTSTAMP:20260420T110720
CREATED:20250821T223911Z
LAST-MODIFIED:20250821T223911Z
UID:1588-1756920600-1756920600@spotsydems.com
SUMMARY:Candidate Forum -Spotsylvania
DESCRIPTION:Sponsored by The Free Press \nSpotsylvania School Board and Board of Supervisors \nGermanna Community College Fredericksburg Campus \n(10000 Germanna Point Drive) \nSUBMIT QUESTIONS HERE \n 
URL:https://spotsydems.com/event/candidate-forum-spotsylvania/
END:VEVENT
BEGIN:VEVENT
DTSTART;VALUE=DATE:20250904
DTEND;VALUE=DATE:20250905
DTSTAMP:20260420T110720
CREATED:20250831T211916Z
LAST-MODIFIED:20250831T211916Z
UID:1667-1756944000-1757030399@spotsydems.com
SUMMARY:National Eat an Extra Dessert Day
DESCRIPTION:On a lighter note – enjoy an extra dessert today!!
URL:https://spotsydems.com/event/national-eat-an-extra-dessert-day/
END:VEVENT
BEGIN:VEVENT
DTSTART;TZID=America/New_York:20250904T173000
DTEND;TZID=America/New_York:20250904T193000
DTSTAMP:20260420T110720
CREATED:20250815T175719Z
LAST-MODIFIED:20250815T175719Z
UID:1574-1757007000-1757014200@spotsydems.com
SUMMARY:FXBG Virtual Phone Bank for Democrats
DESCRIPTION:The key to a strong campaign is good conversations with voters! \nJoin us as we phone bank and talk to voters across the area about Joshua Cole\, Abigail Spanberger\, Ghazala Hashmi\, and Jay Jones! \nA laptop is preferred to execute this exciting activity. \nWorried about joining virtually? Connect with our team and you can join us in our office. \nSIGN UP HERE
URL:https://spotsydems.com/event/fxbg-virtual-phone-bank-for-democrats-6/
END:VEVENT
BEGIN:VEVENT
DTSTART;TZID=America/New_York:20250904T173000
DTEND;TZID=America/New_York:20250904T193000
DTSTAMP:20260420T110720
CREATED:20250826T123627Z
LAST-MODIFIED:20250826T123627Z
UID:1635-1757007000-1757014200@spotsydems.com
SUMMARY:Office Volunteers - Coordinated Campaign
DESCRIPTION:Unable to knock doors yourself? \nCome to the Coordinated Campaign Office of candidates Joshua Cole\, Abigail Spanberger\, Ghazala Hashmi\, and Jay Jones to help put together packets of campaign literature so we can have a successful time talking with voters on the weekend! \nSIGN UP HERE
URL:https://spotsydems.com/event/office-volunteers-coordinated-campaign/
END:VEVENT
END:VCALENDAR