BEGIN:VCALENDAR
VERSION:2.0
PRODID:-//Spotsylvania County Democratic Committee - ECPv6.15.20//NONSGML v1.0//EN
CALSCALE:GREGORIAN
METHOD:PUBLISH
X-WR-CALNAME:Spotsylvania County Democratic Committee
X-ORIGINAL-URL:https://spotsydems.com
X-WR-CALDESC:Events for Spotsylvania County Democratic Committee
REFRESH-INTERVAL;VALUE=DURATION:PT1H
X-Robots-Tag:noindex
X-PUBLISHED-TTL:PT1H
BEGIN:VTIMEZONE
TZID:America/New_York
BEGIN:DAYLIGHT
TZOFFSETFROM:-0500
TZOFFSETTO:-0400
TZNAME:EDT
DTSTART:20250309T070000
END:DAYLIGHT
BEGIN:STANDARD
TZOFFSETFROM:-0400
TZOFFSETTO:-0500
TZNAME:EST
DTSTART:20251102T060000
END:STANDARD
BEGIN:DAYLIGHT
TZOFFSETFROM:-0500
TZOFFSETTO:-0400
TZNAME:EDT
DTSTART:20260308T070000
END:DAYLIGHT
BEGIN:STANDARD
TZOFFSETFROM:-0400
TZOFFSETTO:-0500
TZNAME:EST
DTSTART:20261101T060000
END:STANDARD
BEGIN:DAYLIGHT
TZOFFSETFROM:-0500
TZOFFSETTO:-0400
TZNAME:EDT
DTSTART:20270314T070000
END:DAYLIGHT
BEGIN:STANDARD
TZOFFSETFROM:-0400
TZOFFSETTO:-0500
TZNAME:EST
DTSTART:20271107T060000
END:STANDARD
END:VTIMEZONE
BEGIN:VEVENT
DTSTART;TZID=America/New_York:20260428T170000
DTEND;TZID=America/New_York:20260428T210000
DTSTAMP:20260421T213813
CREATED:20260316T165816Z
LAST-MODIFIED:20260316T165816Z
UID:2526-1777395600-1777410000@spotsydems.com
SUMMARY:Spotsy Board of Supervisors Meeting
DESCRIPTION:5:00 pm – 9:00 pm\n\n\n\nMeeting Information \nSIGN UP HERE \nHolbert Building at 9104 Courthouse Road\, Spotsylvania\, Virginia.
URL:https://spotsydems.com/event/spotsy-board-of-supervisors-meeting-6/
END:VEVENT
BEGIN:VEVENT
DTSTART;TZID=America/New_York:20260425T170000
DTEND;TZID=America/New_York:20260425T190000
DTSTAMP:20260421T213813
CREATED:20260402T182131Z
LAST-MODIFIED:20260402T182131Z
UID:2601-1777136400-1777143600@spotsydems.com
SUMMARY:Tacos and Trivia - SCDC "Fun"draiser
DESCRIPTION:Sign up here:   https://www.mobilize.us/scdc/event/932449/\n\nPay Here: \nPay for Tickets Here
URL:https://spotsydems.com/event/tacos-and-trivia-scdc-fundraiser/
END:VEVENT
BEGIN:VEVENT
DTSTART;TZID=America/New_York:20260425T120000
DTEND;TZID=America/New_York:20260425T160000
DTSTAMP:20260421T213813
CREATED:20260318T190215Z
LAST-MODIFIED:20260318T191305Z
UID:2554-1777118400-1777132800@spotsydems.com
SUMMARY:Autism Awareness Day
DESCRIPTION:Chancellor High School \nJoin us for fun\, food and festivities in celebration of Autism Awareness Day
URL:https://spotsydems.com/event/autism-awareness-day-2/
END:VEVENT
BEGIN:VEVENT
DTSTART;VALUE=DATE:20260421
DTEND;VALUE=DATE:20260422
DTSTAMP:20260421T213813
CREATED:20260226T133938Z
LAST-MODIFIED:20260226T133938Z
UID:2454-1776729600-1776815999@spotsydems.com
SUMMARY:VOTE! Election Day for Redistricting Referendum
DESCRIPTION:
URL:https://spotsydems.com/event/vote-election-day-for-redistricting-referendum/
END:VEVENT
BEGIN:VEVENT
DTSTART;TZID=America/New_York:20260420T173000
DTEND;TZID=America/New_York:20260420T210000
DTSTAMP:20260421T213813
CREATED:20260316T163729Z
LAST-MODIFIED:20260316T163729Z
UID:2517-1776706200-1776718800@spotsydems.com
SUMMARY:Spotsy School Board Meeting - Work Session - Budget and CIP
DESCRIPTION:5:30 pm – 9:00 pm\n\n\n\nMeeting Information \nThe Spotsylvania County Public School Board meetings begin at 5:30 p.m. in the Board Meeting Room of the Administrative Services Building\, 8020 River Stone Drive\, Fredericksburg\, Virginia.
URL:https://spotsydems.com/event/spotsy-school-board-meeting-work-session-budget-and-cip/
END:VEVENT
BEGIN:VEVENT
DTSTART;TZID=America/New_York:20260420T170000
DTEND;TZID=America/New_York:20260420T194500
DTSTAMP:20260421T213813
CREATED:20251217T132342Z
LAST-MODIFIED:20260308T133047Z
UID:2215-1776704400-1776714300@spotsydems.com
SUMMARY:SCDC General Meeting
DESCRIPTION:Salem Church Library \n5-7:45
URL:https://spotsydems.com/event/scdc-general-meeting-10/
CATEGORIES:General Meeting
END:VEVENT
BEGIN:VEVENT
DTSTART;TZID=America/New_York:20260418T110000
DTEND;TZID=America/New_York:20260418T170000
DTSTAMP:20260421T213813
CREATED:20260316T162308Z
LAST-MODIFIED:20260316T162308Z
UID:2512-1776510000-1776531600@spotsydems.com
SUMMARY:SCDC and Earth Day
DESCRIPTION:SIGN UP HERE \nWe’re hoping for 7 volunteers for each shift to help staff our tables. One table will feature a fun craft for kids\, while the other will focus on voter registration\, membership\, and sharing information about SCDC​ and a couple volunteers walking the event\, wearing SCDC merch (i.e. hat\, t-shirt)\, and guiding them over to our table.
URL:https://spotsydems.com/event/scdc-and-earth-day/
END:VEVENT
BEGIN:VEVENT
DTSTART;TZID=America/New_York:20260418T083000
DTEND;TZID=America/New_York:20260418T163000
DTSTAMP:20260421T213813
CREATED:20260402T175800Z
LAST-MODIFIED:20260402T181337Z
UID:2597-1776501000-1776529800@spotsydems.com
SUMMARY:Early Voting - 2nd Saturday
DESCRIPTION:Volunteer Here: \nEarly Voting – Redistricting Referendum · Mobilize
URL:https://spotsydems.com/event/early-voting-2nd-saturday/
END:VEVENT
BEGIN:VEVENT
DTSTART;TZID=America/New_York:20260417T083000
DTEND;TZID=America/New_York:20260417T163000
DTSTAMP:20260421T213813
CREATED:20260402T175730Z
LAST-MODIFIED:20260402T181430Z
UID:2595-1776414600-1776443400@spotsydems.com
SUMMARY:Early Voting
DESCRIPTION:Volunteer Here: \nEarly Voting – Redistricting Referendum · Mobilize
URL:https://spotsydems.com/event/early-voting-10/
END:VEVENT
BEGIN:VEVENT
DTSTART;TZID=America/New_York:20260416T170000
DTEND;TZID=America/New_York:20260416T210000
DTSTAMP:20260421T213813
CREATED:20260316T170055Z
LAST-MODIFIED:20260316T170055Z
UID:2532-1776358800-1776373200@spotsydems.com
SUMMARY:Spotsy Board of Supervisors Meeting - Budget Work Session
DESCRIPTION:5:00 pm – 9:00 pm\n\n\n\nMeeting Information \nSIGN UP HERE \nHolbert Building at 9104 Courthouse Road\, Spotsylvania\, Virginia.
URL:https://spotsydems.com/event/spotsy-board-of-supervisors-meeting-budget-work-session-6/
END:VEVENT
BEGIN:VEVENT
DTSTART;TZID=America/New_York:20260416T083000
DTEND;TZID=America/New_York:20260416T190000
DTSTAMP:20260421T213813
CREATED:20260402T175656Z
LAST-MODIFIED:20260402T181518Z
UID:2593-1776328200-1776366000@spotsydems.com
SUMMARY:Early Voting 8:30am -7:00pm
DESCRIPTION:Volunteer Here: \nEarly Voting – Redistricting Referendum · Mobilize
URL:https://spotsydems.com/event/early-voting-830am-700pm-2/
END:VEVENT
BEGIN:VEVENT
DTSTART;TZID=America/New_York:20260415T083000
DTEND;TZID=America/New_York:20260415T163000
DTSTAMP:20260421T213813
CREATED:20260402T175616Z
LAST-MODIFIED:20260402T181552Z
UID:2591-1776241800-1776270600@spotsydems.com
SUMMARY:Early Voting
DESCRIPTION:Volunteer Here: \nEarly Voting – Redistricting Referendum · Mobilize
URL:https://spotsydems.com/event/early-voting-9/
END:VEVENT
BEGIN:VEVENT
DTSTART;TZID=America/New_York:20260414T170000
DTEND;TZID=America/New_York:20260414T210000
DTSTAMP:20260421T213813
CREATED:20260316T165545Z
LAST-MODIFIED:20260316T165545Z
UID:2524-1776186000-1776200400@spotsydems.com
SUMMARY:Spotsy Board of Supervisors Meeting
DESCRIPTION:5:00 pm – 9:00 pm\n\n\n\nMeeting Information \nSIGN UP HERE \nHolbert Building at 9104 Courthouse Road\, Spotsylvania\, Virginia.
URL:https://spotsydems.com/event/spotsy-board-of-supervisors-meeting-5/
END:VEVENT
BEGIN:VEVENT
DTSTART;TZID=America/New_York:20260414T083000
DTEND;TZID=America/New_York:20260414T163000
DTSTAMP:20260421T213813
CREATED:20260402T175543Z
LAST-MODIFIED:20260402T181713Z
UID:2589-1776155400-1776184200@spotsydems.com
SUMMARY:Early Voting
DESCRIPTION:Volunteer Here: \nEarly Voting – Redistricting Referendum · Mobilize
URL:https://spotsydems.com/event/early-voting-8/
END:VEVENT
BEGIN:VEVENT
DTSTART;TZID=America/New_York:20260413T173000
DTEND;TZID=America/New_York:20260413T210000
DTSTAMP:20260421T213813
CREATED:20260316T163534Z
LAST-MODIFIED:20260316T163534Z
UID:2515-1776101400-1776114000@spotsydems.com
SUMMARY:Spotsy School Board Meeting
DESCRIPTION:5:30 pm – 9:00 pm\n\n\n\nMeeting Information \nThe Spotsylvania County Public School Board meetings begin at 5:30 p.m. in the Board Meeting Room of the Administrative Services Building\, 8020 River Stone Drive\, Fredericksburg\, Virginia.
URL:https://spotsydems.com/event/spotsy-school-board-meeting-3/
END:VEVENT
BEGIN:VEVENT
DTSTART;TZID=America/New_York:20260413T083000
DTEND;TZID=America/New_York:20260413T163000
DTSTAMP:20260421T213813
CREATED:20260402T175116Z
LAST-MODIFIED:20260402T182227Z
UID:2584-1776069000-1776097800@spotsydems.com
SUMMARY:Early Voting
DESCRIPTION:Volunteer Here: \nEarly Voting – Redistricting Referendum · Mobilize
URL:https://spotsydems.com/event/early-voting-6/
END:VEVENT
BEGIN:VEVENT
DTSTART;TZID=America/New_York:20260411T083000
DTEND;TZID=America/New_York:20260411T083000
DTSTAMP:20260421T213813
CREATED:20260402T175045Z
LAST-MODIFIED:20260402T175045Z
UID:2582-1775896200-1775896200@spotsydems.com
SUMMARY:Early Voting - First Saturday
DESCRIPTION:Volunteer Here: \nEarly Voting – Redistricting Referendum · Mobilize
URL:https://spotsydems.com/event/early-voting-first-saturday/
END:VEVENT
BEGIN:VEVENT
DTSTART;TZID=America/New_York:20260410T083000
DTEND;TZID=America/New_York:20260410T083000
DTSTAMP:20260421T213813
CREATED:20260402T174837Z
LAST-MODIFIED:20260402T174837Z
UID:2580-1775809800-1775809800@spotsydems.com
SUMMARY:Early Voting
DESCRIPTION:Volunteer Here: \nEarly Voting – Redistricting Referendum · Mobilize
URL:https://spotsydems.com/event/early-voting-5/
END:VEVENT
BEGIN:VEVENT
DTSTART;TZID=America/New_York:20260409T170000
DTEND;TZID=America/New_York:20260409T210000
DTSTAMP:20260421T213813
CREATED:20260316T170005Z
LAST-MODIFIED:20260402T175442Z
UID:2530-1775754000-1775768400@spotsydems.com
SUMMARY:Spotsy Board of Supervisors Meeting - Budget Work Session
DESCRIPTION:5:00 pm – 9:00 pm\n\n\n\nMeeting Information \nSIGN UP HERE \nHolbert Building at 9104 Courthouse Road\, Spotsylvania\, Virginia.
URL:https://spotsydems.com/event/spotsy-board-of-supervisors-meeting-budget-work-session-5/
END:VEVENT
BEGIN:VEVENT
DTSTART;TZID=America/New_York:20260409T083000
DTEND;TZID=America/New_York:20260409T083000
DTSTAMP:20260421T213813
CREATED:20260402T174803Z
LAST-MODIFIED:20260402T174803Z
UID:2578-1775723400-1775723400@spotsydems.com
SUMMARY:Early Voting 8:30am - 7:00pm
DESCRIPTION:Volunteer Here: \nEarly Voting – Redistricting Referendum · Mobilize
URL:https://spotsydems.com/event/early-voting-830am-700pm/
END:VEVENT
BEGIN:VEVENT
DTSTART;TZID=America/New_York:20260408T180000
DTEND;TZID=America/New_York:20260408T200000
DTSTAMP:20260421T213813
CREATED:20260220T210226Z
LAST-MODIFIED:20260220T210226Z
UID:2445-1775671200-1775678400@spotsydems.com
SUMMARY:Postcard Writing - Vote YES! Redistricting
DESCRIPTION:SIGN UP HERE \nAs the State Supreme Court has cleared the way for an election to vote on redistricting\, it is up to us to get the word out to insure good voter turnout. \nWe will be doing a Postcard Campaign to let our Democratic neighbors know their votes are critical.
URL:https://spotsydems.com/event/postcard-writing-vote-yes-redistricting/
LOCATION:Salem Church Library\, 2607 Salem Church Road\,\, FREDERICKSBURG\, VA\, 22407
END:VEVENT
BEGIN:VEVENT
DTSTART;TZID=America/New_York:20260408T083000
DTEND;TZID=America/New_York:20260408T083000
DTSTAMP:20260421T213813
CREATED:20260402T174720Z
LAST-MODIFIED:20260402T174720Z
UID:2576-1775637000-1775637000@spotsydems.com
SUMMARY:Early Voting
DESCRIPTION:Volunteer Here: \nEarly Voting – Redistricting Referendum · Mobilize
URL:https://spotsydems.com/event/early-voting-4/
END:VEVENT
BEGIN:VEVENT
DTSTART;TZID=America/New_York:20260407T170000
DTEND;TZID=America/New_York:20260407T210000
DTSTAMP:20260421T213813
CREATED:20260316T165444Z
LAST-MODIFIED:20260316T165444Z
UID:2522-1775581200-1775595600@spotsydems.com
SUMMARY:Spotsy Board of Supervisors - Budget Work Session
DESCRIPTION:5:00 pm – 9:00 pm\n\n\n\nMeeting Information \nSIGN UP HERE \nHolbert Building at 9104 Courthouse Road\, Spotsylvania\, Virginia.
URL:https://spotsydems.com/event/spotsy-board-of-supervisors-budget-work-session/
END:VEVENT
BEGIN:VEVENT
DTSTART;TZID=America/New_York:20260407T083000
DTEND;TZID=America/New_York:20260407T083000
DTSTAMP:20260421T213813
CREATED:20260402T174530Z
LAST-MODIFIED:20260402T175352Z
UID:2574-1775550600-1775550600@spotsydems.com
SUMMARY:Early Voting
DESCRIPTION:Volunteer Here; \nEarly Voting – Redistricting Referendum · Mobilize
URL:https://spotsydems.com/event/early-voting-3/
END:VEVENT
BEGIN:VEVENT
DTSTART;TZID=America/New_York:20260406T083000
DTEND;TZID=America/New_York:20260406T083000
DTSTAMP:20260421T213813
CREATED:20260402T174444Z
LAST-MODIFIED:20260402T175318Z
UID:2572-1775464200-1775464200@spotsydems.com
SUMMARY:Early Voting
DESCRIPTION:Volunteer here: \nEarly Voting – Redistricting Referendum · Mobilize \n 
URL:https://spotsydems.com/event/early-voting-2/
END:VEVENT
BEGIN:VEVENT
DTSTART;TZID=America/New_York:20260405T090000
DTEND;TZID=America/New_York:20260405T180000
DTSTAMP:20260421T213813
CREATED:20260318T185831Z
LAST-MODIFIED:20260318T185831Z
UID:2552-1775379600-1775412000@spotsydems.com
SUMMARY:Canvassing for the Referendum
DESCRIPTION:SIGN UP HERE \nCanvassing is happening every day of the week but Saturday and Sunday are the BEST days to find people at home. Please sign up for as many shifts as you can manage.
URL:https://spotsydems.com/event/canvassing-for-the-referendum-5/
END:VEVENT
BEGIN:VEVENT
DTSTART;TZID=America/New_York:20260404T090000
DTEND;TZID=America/New_York:20260404T180000
DTSTAMP:20260421T213813
CREATED:20260318T185744Z
LAST-MODIFIED:20260318T185744Z
UID:2550-1775293200-1775325600@spotsydems.com
SUMMARY:Canvassing for the Referendum
DESCRIPTION:SIGN UP HERE \nCanvassing is happening every day of the week but Saturday and Sunday are the BEST days to find people at home. Please sign up for as many shifts as you can manage.
URL:https://spotsydems.com/event/canvassing-for-the-referendum-4/
END:VEVENT
BEGIN:VEVENT
DTSTART;TZID=America/New_York:20260402T190000
DTEND;TZID=America/New_York:20260402T200000
DTSTAMP:20260421T213813
CREATED:20251218T161657Z
LAST-MODIFIED:20251218T161657Z
UID:2224-1775156400-1775160000@spotsydems.com
SUMMARY:Spotsylvania NAACP Meeting via Zoom
DESCRIPTION:Join with the link below. \nZoom Meeting link \n 
URL:https://spotsydems.com/event/spotsylvania-naacp-meeting-via-zoom-4/
END:VEVENT
BEGIN:VEVENT
DTSTART;TZID=America/New_York:20260402T170000
DTEND;TZID=America/New_York:20260402T200000
DTSTAMP:20260421T213813
CREATED:20260316T165921Z
LAST-MODIFIED:20260316T165921Z
UID:2528-1775149200-1775160000@spotsydems.com
SUMMARY:Spotsy Board of Supervisors Meeting - Budget Work Session
DESCRIPTION:5:00 pm – 9:00 pm\n\n\n\nMeeting Information \nSIGN UP HERE \nHolbert Building at 9104 Courthouse Road\, Spotsylvania\, Virginia.
URL:https://spotsydems.com/event/spotsy-board-of-supervisors-meeting-budget-work-session-4/
END:VEVENT
BEGIN:VEVENT
DTSTART;TZID=America/New_York:20260401T190000
DTEND;TZID=America/New_York:20260401T200000
DTSTAMP:20260421T213813
CREATED:20260316T170932Z
LAST-MODIFIED:20260316T170932Z
UID:2536-1775070000-1775073600@spotsydems.com
SUMMARY:Tech Talk Wednesday
DESCRIPTION:SIGN UP HERE \nJoin us to learn more about the technologies that SCDC uses and how you can help us be more efficient in their use. \nSessions are learner focused. Come prepared to explore and ask questions. Topics are flexible to meet the needs of the participants. \nMar 25 – Zoom as a Participant \nApr 2 – Mobilize – Let’s Stay Organized \nZoom links will be sent the day of the scheduled session.
URL:https://spotsydems.com/event/tech-talk-wednesday-9/
END:VEVENT
END:VCALENDAR