BEGIN:VCALENDAR
VERSION:2.0
PRODID:-//Spotsylvania County Democratic Committee - ECPv6.15.20//NONSGML v1.0//EN
CALSCALE:GREGORIAN
METHOD:PUBLISH
X-ORIGINAL-URL:https://spotsydems.com
X-WR-CALDESC:Events for Spotsylvania County Democratic Committee
REFRESH-INTERVAL;VALUE=DURATION:PT1H
X-Robots-Tag:noindex
X-PUBLISHED-TTL:PT1H
BEGIN:VTIMEZONE
TZID:America/New_York
BEGIN:DAYLIGHT
TZOFFSETFROM:-0500
TZOFFSETTO:-0400
TZNAME:EDT
DTSTART:20250309T070000
END:DAYLIGHT
BEGIN:STANDARD
TZOFFSETFROM:-0400
TZOFFSETTO:-0500
TZNAME:EST
DTSTART:20251102T060000
END:STANDARD
BEGIN:DAYLIGHT
TZOFFSETFROM:-0500
TZOFFSETTO:-0400
TZNAME:EDT
DTSTART:20260308T070000
END:DAYLIGHT
BEGIN:STANDARD
TZOFFSETFROM:-0400
TZOFFSETTO:-0500
TZNAME:EST
DTSTART:20261101T060000
END:STANDARD
BEGIN:DAYLIGHT
TZOFFSETFROM:-0500
TZOFFSETTO:-0400
TZNAME:EDT
DTSTART:20270314T070000
END:DAYLIGHT
BEGIN:STANDARD
TZOFFSETFROM:-0400
TZOFFSETTO:-0500
TZNAME:EST
DTSTART:20271107T060000
END:STANDARD
END:VTIMEZONE
BEGIN:VEVENT
DTSTART;TZID=America/New_York:20260414T083000
DTEND;TZID=America/New_York:20260414T163000
DTSTAMP:20260421T165624
CREATED:20260402T175543Z
LAST-MODIFIED:20260402T181713Z
UID:2589-1776155400-1776184200@spotsydems.com
SUMMARY:Early Voting
DESCRIPTION:Volunteer Here: \nEarly Voting – Redistricting Referendum · Mobilize
URL:https://spotsydems.com/event/early-voting-8/
END:VEVENT
BEGIN:VEVENT
DTSTART;TZID=America/New_York:20260414T170000
DTEND;TZID=America/New_York:20260414T210000
DTSTAMP:20260421T165624
CREATED:20260316T165545Z
LAST-MODIFIED:20260316T165545Z
UID:2524-1776186000-1776200400@spotsydems.com
SUMMARY:Spotsy Board of Supervisors Meeting
DESCRIPTION:5:00 pm – 9:00 pm\n\n\n\nMeeting Information \nSIGN UP HERE \nHolbert Building at 9104 Courthouse Road\, Spotsylvania\, Virginia.
URL:https://spotsydems.com/event/spotsy-board-of-supervisors-meeting-5/
END:VEVENT
END:VCALENDAR