BEGIN:VCALENDAR
VERSION:2.0
PRODID:-//Spotsylvania County Democratic Committee - ECPv6.15.20//NONSGML v1.0//EN
CALSCALE:GREGORIAN
METHOD:PUBLISH
X-ORIGINAL-URL:https://spotsydems.com
X-WR-CALDESC:Events for Spotsylvania County Democratic Committee
REFRESH-INTERVAL;VALUE=DURATION:PT1H
X-Robots-Tag:noindex
X-PUBLISHED-TTL:PT1H
BEGIN:VTIMEZONE
TZID:America/New_York
BEGIN:DAYLIGHT
TZOFFSETFROM:-0500
TZOFFSETTO:-0400
TZNAME:EDT
DTSTART:20250309T070000
END:DAYLIGHT
BEGIN:STANDARD
TZOFFSETFROM:-0400
TZOFFSETTO:-0500
TZNAME:EST
DTSTART:20251102T060000
END:STANDARD
BEGIN:DAYLIGHT
TZOFFSETFROM:-0500
TZOFFSETTO:-0400
TZNAME:EDT
DTSTART:20260308T070000
END:DAYLIGHT
BEGIN:STANDARD
TZOFFSETFROM:-0400
TZOFFSETTO:-0500
TZNAME:EST
DTSTART:20261101T060000
END:STANDARD
BEGIN:DAYLIGHT
TZOFFSETFROM:-0500
TZOFFSETTO:-0400
TZNAME:EDT
DTSTART:20270314T070000
END:DAYLIGHT
BEGIN:STANDARD
TZOFFSETFROM:-0400
TZOFFSETTO:-0500
TZNAME:EST
DTSTART:20271107T060000
END:STANDARD
END:VTIMEZONE
BEGIN:VEVENT
DTSTART;TZID=America/New_York:20260413T083000
DTEND;TZID=America/New_York:20260413T163000
DTSTAMP:20260421T184421
CREATED:20260402T175116Z
LAST-MODIFIED:20260402T182227Z
UID:2584-1776069000-1776097800@spotsydems.com
SUMMARY:Early Voting
DESCRIPTION:Volunteer Here: \nEarly Voting – Redistricting Referendum · Mobilize
URL:https://spotsydems.com/event/early-voting-6/
END:VEVENT
BEGIN:VEVENT
DTSTART;TZID=America/New_York:20260413T173000
DTEND;TZID=America/New_York:20260413T210000
DTSTAMP:20260421T184421
CREATED:20260316T163534Z
LAST-MODIFIED:20260316T163534Z
UID:2515-1776101400-1776114000@spotsydems.com
SUMMARY:Spotsy School Board Meeting
DESCRIPTION:5:30 pm – 9:00 pm\n\n\n\nMeeting Information \nThe Spotsylvania County Public School Board meetings begin at 5:30 p.m. in the Board Meeting Room of the Administrative Services Building\, 8020 River Stone Drive\, Fredericksburg\, Virginia.
URL:https://spotsydems.com/event/spotsy-school-board-meeting-3/
END:VEVENT
END:VCALENDAR