BEGIN:VCALENDAR
VERSION:2.0
PRODID:-//Spotsylvania County Democratic Committee - ECPv6.15.20//NONSGML v1.0//EN
CALSCALE:GREGORIAN
METHOD:PUBLISH
X-WR-CALNAME:Spotsylvania County Democratic Committee
X-ORIGINAL-URL:https://spotsydems.com
X-WR-CALDESC:Events for Spotsylvania County Democratic Committee
REFRESH-INTERVAL;VALUE=DURATION:PT1H
X-Robots-Tag:noindex
X-PUBLISHED-TTL:PT1H
BEGIN:VTIMEZONE
TZID:America/New_York
BEGIN:DAYLIGHT
TZOFFSETFROM:-0500
TZOFFSETTO:-0400
TZNAME:EDT
DTSTART:20250309T070000
END:DAYLIGHT
BEGIN:STANDARD
TZOFFSETFROM:-0400
TZOFFSETTO:-0500
TZNAME:EST
DTSTART:20251102T060000
END:STANDARD
BEGIN:DAYLIGHT
TZOFFSETFROM:-0500
TZOFFSETTO:-0400
TZNAME:EDT
DTSTART:20260308T070000
END:DAYLIGHT
BEGIN:STANDARD
TZOFFSETFROM:-0400
TZOFFSETTO:-0500
TZNAME:EST
DTSTART:20261101T060000
END:STANDARD
BEGIN:DAYLIGHT
TZOFFSETFROM:-0500
TZOFFSETTO:-0400
TZNAME:EDT
DTSTART:20270314T070000
END:DAYLIGHT
BEGIN:STANDARD
TZOFFSETFROM:-0400
TZOFFSETTO:-0500
TZNAME:EST
DTSTART:20271107T060000
END:STANDARD
END:VTIMEZONE
BEGIN:VEVENT
DTSTART;TZID=America/New_York:20260409T083000
DTEND;TZID=America/New_York:20260409T083000
DTSTAMP:20260422T012705
CREATED:20260402T174803Z
LAST-MODIFIED:20260402T174803Z
UID:2578-1775723400-1775723400@spotsydems.com
SUMMARY:Early Voting 8:30am - 7:00pm
DESCRIPTION:Volunteer Here: \nEarly Voting – Redistricting Referendum · Mobilize
URL:https://spotsydems.com/event/early-voting-830am-700pm/
END:VEVENT
BEGIN:VEVENT
DTSTART;TZID=America/New_York:20260409T170000
DTEND;TZID=America/New_York:20260409T210000
DTSTAMP:20260422T012705
CREATED:20260316T170005Z
LAST-MODIFIED:20260402T175442Z
UID:2530-1775754000-1775768400@spotsydems.com
SUMMARY:Spotsy Board of Supervisors Meeting - Budget Work Session
DESCRIPTION:5:00 pm – 9:00 pm\n\n\n\nMeeting Information \nSIGN UP HERE \nHolbert Building at 9104 Courthouse Road\, Spotsylvania\, Virginia.
URL:https://spotsydems.com/event/spotsy-board-of-supervisors-meeting-budget-work-session-5/
END:VEVENT
END:VCALENDAR