BEGIN:VCALENDAR
VERSION:2.0
PRODID:-//Spotsylvania County Democratic Committee - ECPv6.15.20//NONSGML v1.0//EN
CALSCALE:GREGORIAN
METHOD:PUBLISH
X-ORIGINAL-URL:https://spotsydems.com
X-WR-CALDESC:Events for Spotsylvania County Democratic Committee
REFRESH-INTERVAL;VALUE=DURATION:PT1H
X-Robots-Tag:noindex
X-PUBLISHED-TTL:PT1H
BEGIN:VTIMEZONE
TZID:America/New_York
BEGIN:DAYLIGHT
TZOFFSETFROM:-0500
TZOFFSETTO:-0400
TZNAME:EDT
DTSTART:20240310T070000
END:DAYLIGHT
BEGIN:STANDARD
TZOFFSETFROM:-0400
TZOFFSETTO:-0500
TZNAME:EST
DTSTART:20241103T060000
END:STANDARD
BEGIN:DAYLIGHT
TZOFFSETFROM:-0500
TZOFFSETTO:-0400
TZNAME:EDT
DTSTART:20250309T070000
END:DAYLIGHT
BEGIN:STANDARD
TZOFFSETFROM:-0400
TZOFFSETTO:-0500
TZNAME:EST
DTSTART:20251102T060000
END:STANDARD
BEGIN:DAYLIGHT
TZOFFSETFROM:-0500
TZOFFSETTO:-0400
TZNAME:EDT
DTSTART:20260308T070000
END:DAYLIGHT
BEGIN:STANDARD
TZOFFSETFROM:-0400
TZOFFSETTO:-0500
TZNAME:EST
DTSTART:20261101T060000
END:STANDARD
END:VTIMEZONE
BEGIN:VEVENT
DTSTART;VALUE=DATE:20250819
DTEND;VALUE=DATE:20250820
DTSTAMP:20260420T093217
CREATED:20250815T170807Z
LAST-MODIFIED:20250815T170807Z
UID:1540-1755561600-1755647999@spotsydems.com
SUMMARY:Production Shoot for Nicole Cole's Campaign
DESCRIPTION:Have you ever looked at the people in a campaign commercial and thought “How can I be one of those people?” Well\, now’s your chance! Be a part of our campaign digital/video/mail production shoot – Tuesday 8/19. \nReach out to our Deputy Campaign Manager Julia Snow to get involved \njuliasnow.hd66@gmail.com \n 
URL:https://spotsydems.com/event/production-shoot-for-nicole-coles-campaign/
END:VEVENT
BEGIN:VEVENT
DTSTART;TZID=America/New_York:20250819T173000
DTEND;TZID=America/New_York:20250819T193000
DTSTAMP:20260420T093217
CREATED:20250815T173457Z
LAST-MODIFIED:20250815T173457Z
UID:1562-1755624600-1755631800@spotsydems.com
SUMMARY:FXBG Virtual Phone Bank for Democrats
DESCRIPTION:The key to a strong campaign is good conversations with voters! \nJoin us as we phone bank and talk to voters across the area about Joshua Cole\, Abigail Spanberger\, Ghazala Hashmi\, and Jay Jones! \nA laptop is preferred to execute this exciting activity. \nWorried about joining virtually? Connect with our team and you can join us in our office. \nSIGN UP HERE
URL:https://spotsydems.com/event/fxbg-virtual-phone-bank-for-democrats/
END:VEVENT
BEGIN:VEVENT
DTSTART;TZID=America/New_York:20250819T180000
DTEND;TZID=America/New_York:20250819T190000
DTSTAMP:20260420T093217
CREATED:20250728T122650Z
LAST-MODIFIED:20250728T122650Z
UID:1497-1755626400-1755630000@spotsydems.com
SUMMARY:Message Training: How to Tell Abigail's Story and Yours
DESCRIPTION:SIGN UP HERE \nEvery conversation with a voter is a chance to inspire\, connect\, and move someone to\naction. Join for a virtual message training session where we’ll walk through how to talk\nabout Abigail Spanberger’s story\, why so many of us support her\, and how to share your\nown reasons for being part of this campaign. We’ll cover core messaging\, tips on how to\nconnect with different types of voters\, and how to make your conversations personal\,\nauthentic\, and persuasive.
URL:https://spotsydems.com/event/message-training-how-to-tell-abigails-story-and-yours-4/
END:VEVENT
END:VCALENDAR